From mboxrd@z Thu Jan 1 00:00:00 1970 Return-Path: Received: from mails.dpdk.org (mails.dpdk.org [217.70.189.124]) by inbox.dpdk.org (Postfix) with ESMTP id B99C646286 for ; Fri, 21 Feb 2025 07:28:48 +0100 (CET) Received: from mails.dpdk.org (localhost [127.0.0.1]) by mails.dpdk.org (Postfix) with ESMTP id B52D040647; Fri, 21 Feb 2025 07:28:48 +0100 (CET) Received: from mail-pl1-f228.google.com (mail-pl1-f228.google.com [209.85.214.228]) by mails.dpdk.org (Postfix) with ESMTP id 9CA964029A for ; Fri, 21 Feb 2025 07:28:47 +0100 (CET) Received: by mail-pl1-f228.google.com with SMTP id d9443c01a7336-2212a930001so46742365ad.0 for ; Thu, 20 Feb 2025 22:28:47 -0800 (PST) DKIM-Signature: v=1; a=rsa-sha256; c=relaxed/relaxed; d=iol.unh.edu; s=unh-iol; t=1740119327; x=1740724127; darn=dpdk.org; h=references:in-reply-to:cc:to:from:subject:message-id:date:from:to :cc:subject:date:message-id:reply-to; bh=1EmOdU5EYcLcGgl5jiIfhTfGoN1IkCrfoNmwDuhH+gI=; b=LMadPGGrPKv8PFkFJerswb6Aq+cvhXpkGkmptd0nA8OHYRJvR79eirRqCaAXNFbu49 096x5lONNKRkNoIQEYk1QEGCpY4AN3Yb2TFW5wzcfqgdfkPX0KZhgcaNvzerqfiFJLMu bLx3PZ4OHWG3Ng+JuHnrk8vO6UexQMDq/vbo8= X-Google-DKIM-Signature: v=1; a=rsa-sha256; c=relaxed/relaxed; d=1e100.net; s=20230601; t=1740119327; x=1740724127; h=references:in-reply-to:cc:to:from:subject:message-id:date :x-gm-message-state:from:to:cc:subject:date:message-id:reply-to; bh=1EmOdU5EYcLcGgl5jiIfhTfGoN1IkCrfoNmwDuhH+gI=; b=An+c2vyZrwM5EM3v1dLaMaGhmjQw6ZB4+Xn6yEOxfUs07jK7JwEx0YEalnR1gI2Ba+ QhWCUycIFUQqoBSwjDprFnZuhQwQxGPECRn5jsagujmwp6ugfXARGnOrzRj3/v3K6O+w sfPsBAAOHAIAIRYuRDbbDceuF980uE9CJ97ilBu/cR02BDR+H81YAG7FvfGNegUVujov Yey9QdgSCWGgQTPXUcyMAacjKbUcaCeaM72RXw+0mNj9VpD+x/7thCeWVKv2yjSqOFy0 VF9RVuJPzR6T+geJu+YxBj1D8OF2Zt7kR5mORBJUTA/3Y7Z0bv7tU5Tv2uioTilrQ5Ml o3vw== X-Gm-Message-State: AOJu0YxIi/KQm9XadNSWTtD5wcLEzhTzmXY0lH22G30JE+bA923sQEXT f9FmstZ2PiSyumbJ2PRcw3Ei7BjpfOrhW3wXHynpIgNvYxAnNoJfZbFl+PgAHYSptmxpjQi71vr SycAhUrOhIqAyh/rOKrOgpsCAJb0wheOFK123kVf2qy91BhFKpFs5wFbg X-Gm-Gg: ASbGncvNq3N0/j4MR9BM6gcbyVFkbqZ3+tM8n9MGBHlNzLEPyjJoPnYl5z3M9U0vXWa ynDuJvF9xROnyCb3CuzcKC3DscLOsL+nU8naznoyDpA0kGGc0NicqSxqMf15LzFpKIOVT4AC49f 9L5Er3Am4vVZFq7VDvZ682SsPSdmn7xtnTbmzgn67nL2299cItFNnrF01AqmqwG3WzW6xfWCQAV iph1EUi3Sm9oQUTJ3W8RrWZ9k9IXSaDo2E7nRSFRHH4M3Cui0wqVd7ulSmiNU6CoufzQICtdjVL Agh6hGwjWKWpR89V7E51cpCy+/LtpcedmLta3z/ZDxTrfVST7N+S X-Google-Smtp-Source: AGHT+IFVgonSP6J4qD17XLKcBSQpOdVwxh0hdBAWdCoXWSWYlydayYdpJSe40IsDFKcdPkm6/MrN4YldqYAB X-Received: by 2002:a05:6a21:138f:b0:1ee:d6a7:e345 with SMTP id adf61e73a8af0-1eef52fdc33mr3188809637.23.1740119326814; Thu, 20 Feb 2025 22:28:46 -0800 (PST) Received: from postal.iol.unh.edu (postal.iol.unh.edu. [2606:4100:3880:1234::84]) by smtp-relay.gmail.com with ESMTPS id 41be03b00d2f7-ade74cf542csm734443a12.7.2025.02.20.22.28.46 (version=TLS1_2 cipher=ECDHE-ECDSA-AES128-GCM-SHA256 bits=128/128); Thu, 20 Feb 2025 22:28:46 -0800 (PST) X-Relaying-Domain: iol.unh.edu Date: Thu, 20 Feb 2025 22:28:46 -0800 (PST) Message-ID: <67b81d1e.630a0220.25b557.55d9SMTPIN_ADDED_MISSING@mx.google.com> Received: from [172.21.0.7] (unknown [172.18.0.240]) by postal.iol.unh.edu (Postfix) with ESMTP id 3129B6052471; Fri, 21 Feb 2025 01:28:37 -0500 (EST) Subject: |SUCCESS| pw151771 [PATCH] net/zxdh: remove unnecessary null free ch From: dpdklab@iol.unh.edu To: Test Report Cc: dpdk-test-reports@iol.unh.edu In-Reply-To: <20250220224411.302807-1-stephen@networkplumber.org> References: <20250220224411.302807-1-stephen@networkplumber.org> Content-Type: text/plain X-BeenThere: test-report@dpdk.org X-Mailman-Version: 2.1.29 Precedence: list List-Id: automatic DPDK test reports List-Unsubscribe: , List-Archive: List-Post: List-Help: List-Subscribe: , Errors-To: test-report-bounces@dpdk.org Test-Label: iol-abi-testing Test-Status: SUCCESS http://dpdk.org/patch/151771 _Testing PASS_ Submitter: Stephen Hemminger Date: Thursday, February 20 2025 22:44:10 DPDK git baseline: Repo:dpdk Branch: master CommitID:3497d187f963e5fddca607637f6a42b8b944fa49 151771 --> testing pass Upstream job id: Generic-DPDK-Compile-ABI#117053 Test environment and result as below: +-------------------+----------+ | Environment | abi_test | +===================+==========+ | CentOS Stream 9 | PASS | +-------------------+----------+ | Debian Bullseye | PASS | +-------------------+----------+ | CentOS Stream 10 | PASS | +-------------------+----------+ | Debian 12 | PASS | +-------------------+----------+ | Fedora 40 (Clang) | PASS | +-------------------+----------+ | Fedora 40 | PASS | +-------------------+----------+ | Fedora 41 | PASS | +-------------------+----------+ | RHEL8 | PASS | +-------------------+----------+ | Fedora 41 (Clang) | PASS | +-------------------+----------+ | openSUSE Leap 15 | PASS | +-------------------+----------+ | RHEL9 | PASS | +-------------------+----------+ | Ubuntu 22.04 | PASS | +-------------------+----------+ | Ubuntu 24.04 | PASS | +-------------------+----------+ CentOS Stream 9 Kernel: Depends on container host Compiler: gcc 11.5.0 20240719 (Red Hat 11.5.0-2) Debian Bullseye Kernel: Depends on container host Compiler: gcc (Debian 10.2.1-6) 10.2.1 20210110 CentOS Stream 10 Kernel: Depends on container host Compiler: gcc 14.2.1 20241104 (Red Hat 14.2.1-6) Debian 12 Kernel: Depends on container host Compiler: gcc (Debian 12.2.0-14) 12.2.0 Fedora 40 (Clang) Kernel: Depends on container host Compiler: clang 18.1.8 (Fedora 18.1.8-1.fc40) Fedora 40 Kernel: Depends on container host Compiler: gcc 14.2.1 20240912 (Red Hat 14.2.1-3) Fedora 41 Kernel: Depends on container host Compiler: gcc 14.2.1 20240912 (Red Hat 14.2.1-3) RHEL8 Kernel: Depends on container host Compiler: gcc 8.5.0 20210514 (Red Hat 8.5.0-22) Fedora 41 (Clang) Kernel: Depends on container host Compiler: clang 19.1.5 (Fedora 19.1.5-1.fc41) openSUSE Leap 15 Kernel: Depends on container host Compiler: gcc (SUSE Linux) 7.5.0 RHEL9 Kernel: Depends on container host Compiler: gcc 11.5.0 20240719 (Red Hat 11.5.0-2) Ubuntu 22.04 Kernel: Depends on container host Compiler: gcc (Ubuntu 11.4.0-1ubuntu1~22.04) 11.4.0 Ubuntu 24.04 Kernel: Depends on container host Compiler: gcc (Ubuntu 13.3.0-6ubuntu2~24.04) 13.3.0 To view detailed results, visit: https://lab.dpdk.org/results/dashboard/patchsets/32631/ UNH-IOL DPDK Community Lab To manage your email subscriptions, visit: https://lab.dpdk.org/results/dashboard/preferences/subscriptions/