From mboxrd@z Thu Jan 1 00:00:00 1970 Return-Path: Received: from mails.dpdk.org (mails.dpdk.org [217.70.189.124]) by inbox.dpdk.org (Postfix) with ESMTP id E22EF46286 for ; Fri, 21 Feb 2025 07:29:31 +0100 (CET) Received: from mails.dpdk.org (localhost [127.0.0.1]) by mails.dpdk.org (Postfix) with ESMTP id DCD9A40647; Fri, 21 Feb 2025 07:29:31 +0100 (CET) Received: from mail-oa1-f97.google.com (mail-oa1-f97.google.com [209.85.160.97]) by mails.dpdk.org (Postfix) with ESMTP id 6E7D64029A for ; Fri, 21 Feb 2025 07:29:30 +0100 (CET) Received: by mail-oa1-f97.google.com with SMTP id 586e51a60fabf-2b199bb8af9so1737738fac.1 for ; Thu, 20 Feb 2025 22:29:30 -0800 (PST) DKIM-Signature: v=1; a=rsa-sha256; c=relaxed/relaxed; d=iol.unh.edu; s=unh-iol; t=1740119369; x=1740724169; darn=dpdk.org; h=references:in-reply-to:cc:to:from:subject:message-id:date:from:to :cc:subject:date:message-id:reply-to; bh=c1DPZl81UlcHEoJ/pMlIuCdp7ZjLYM1Vthx5l38GpsU=; b=Jmhm+0oot3YupymtrbR7VxRvVz93XErdaF/o3LlHuufqoYIr3QEwZ1Y/DypSS0Dtio hph6HurpyyaoEfhfndOo1/oQ1I2TY58T91yQHWb67hSNdSMS/b2j0Gae+jlxU9ZCg+aZ f/KJ6ajk/YAgcG9TS8LLCKxI9w9QS2vt5DeFg= X-Google-DKIM-Signature: v=1; a=rsa-sha256; c=relaxed/relaxed; d=1e100.net; s=20230601; t=1740119369; x=1740724169; h=references:in-reply-to:cc:to:from:subject:message-id:date :x-gm-message-state:from:to:cc:subject:date:message-id:reply-to; bh=c1DPZl81UlcHEoJ/pMlIuCdp7ZjLYM1Vthx5l38GpsU=; b=PQfMlrAOuhQPD9mIyude9SbG1jiqlzGRrlh1g8mDiqw0gZeproKMlkH5jBfRvYiM9w ULQPG1ilAxlwgL3puqWv4w6IETHGKULRo4JNZP74mpfAyMfIYbIV3pCYWrB3h4FgW8GE LkWfW80akRSZUpzLoWcdtLwG3NfBtipqaE3xwpUeH1PpT+tlx6AZ91D63nUjMx5WGswY aWd09/2VlRY+6RuGPekB3ZMAjV4onYjfTGjuyq2pVru842ReyuWOv1e0h59DlUV5hiNz VuOFBaINXrzCoEfP+EFogps9j2KfHea+OL9XTR8thYraH0DKiDux5mCvebSoY/aNfyuS ZReA== X-Gm-Message-State: AOJu0YwDttA54OjuHSctO2EYJMM4HUqNgtOn+yZwwjyF4q8vWD6edkZt VN0hfGzdh8DmjYqB9kuwbTCLeSBmartMtGlkAj7zwv9LWlX468vEoGNtR8iA5+0Q1JZTA+xefNn HZsP40fDHg8g40cmneLW497MMdh0k5XGKJ8u2ZGAO+FpRYziGHVY10qjq X-Gm-Gg: ASbGncutGQ/fiKyUojJ4hg67Q5ntPl8c9wSlqgfX9HRMBoshQrqisweXVwjXGwEUw0E G42t4SIh4E1XEC3KJjwneouAkvvZR4d0DGaxGhauK0Z9Gpj0nlHS0SdrIgHfpGQ+9ZxXPemy/S5 DOyuV7RBnunqpjSwSJn6cQ4uuN1R3Gejl+g8PoE4ibuQy5MV1U1A9I7wYYbnPZtTGUdMdQUYt1N U3BCn6D2elLr/ZFnlV++61K63SVd87Up75ukbXzgGkVqZmTjdj3i5efIojKAMXK11TwUzDLj0U9 9StmF1g3b0CGMIsO+wTc/N4N7cd08uMXCF7b65A2oeA3W3LYPpyd X-Google-Smtp-Source: AGHT+IEBDDlXQzM8ziBUughlqxsXLxL4BdM+kB0IGGpNVq28aTIbfUPfzSV4WgtvQGvUwLxzMHrtQCL6svrR X-Received: by 2002:a05:6870:c0d0:b0:29e:1962:7a23 with SMTP id 586e51a60fabf-2bd5003136cmr1431850fac.4.1740119369644; Thu, 20 Feb 2025 22:29:29 -0800 (PST) Received: from postal.iol.unh.edu (postal.iol.unh.edu. [2606:4100:3880:1234::84]) by smtp-relay.gmail.com with ESMTPS id 586e51a60fabf-2b9548200f0sm1052964fac.3.2025.02.20.22.29.29 (version=TLS1_2 cipher=ECDHE-ECDSA-AES128-GCM-SHA256 bits=128/128); Thu, 20 Feb 2025 22:29:29 -0800 (PST) X-Relaying-Domain: iol.unh.edu Date: Thu, 20 Feb 2025 22:29:29 -0800 (PST) Message-ID: <67b81d49.050a0220.1064f9.596aSMTPIN_ADDED_MISSING@mx.google.com> Received: from [172.21.0.7] (unknown [172.18.0.240]) by postal.iol.unh.edu (Postfix) with ESMTP id 62F666052471; Fri, 21 Feb 2025 01:29:20 -0500 (EST) Subject: |SUCCESS| pw151771 [PATCH] net/zxdh: remove unnecessary null free ch From: dpdklab@iol.unh.edu To: Test Report Cc: dpdk-test-reports@iol.unh.edu In-Reply-To: <20250220224411.302807-1-stephen@networkplumber.org> References: <20250220224411.302807-1-stephen@networkplumber.org> Content-Type: text/plain X-BeenThere: test-report@dpdk.org X-Mailman-Version: 2.1.29 Precedence: list List-Id: automatic DPDK test reports List-Unsubscribe: , List-Archive: List-Post: List-Help: List-Subscribe: , Errors-To: test-report-bounces@dpdk.org Test-Label: iol-unit-amd64-testing Test-Status: SUCCESS http://dpdk.org/patch/151771 _Testing PASS_ Submitter: Stephen Hemminger Date: Thursday, February 20 2025 22:44:10 DPDK git baseline: Repo:dpdk Branch: master CommitID:3497d187f963e5fddca607637f6a42b8b944fa49 151771 --> testing pass Upstream job id: Generic-Unit-Test-DPDK#316924 Test environment and result as below: +-------------------+----------------+ | Environment | dpdk_unit_test | +===================+================+ | CentOS Stream 10 | PASS | +-------------------+----------------+ | CentOS Stream 9 | PASS | +-------------------+----------------+ | Debian 12 | PASS | +-------------------+----------------+ | Debian Bullseye | PASS | +-------------------+----------------+ | Ubuntu 22.04 | PASS | +-------------------+----------------+ | RHEL9 | PASS | +-------------------+----------------+ | RHEL8 | PASS | +-------------------+----------------+ | Ubuntu 20.04 | PASS | +-------------------+----------------+ | Fedora 40 | PASS | +-------------------+----------------+ | Fedora 41 | PASS | +-------------------+----------------+ | Ubuntu 24.04 | PASS | +-------------------+----------------+ | Fedora 41 (Clang) | PASS | +-------------------+----------------+ | Fedora 40 (Clang) | PASS | +-------------------+----------------+ CentOS Stream 10 Kernel: Depends on container host Compiler: gcc 14.2.1 20241104 (Red Hat 14.2.1-6) CentOS Stream 9 Kernel: Depends on container host Compiler: gcc 11.5.0 20240719 (Red Hat 11.5.0-2) Debian 12 Kernel: Depends on container host Compiler: gcc (Debian 12.2.0-14) 12.2.0 Debian Bullseye Kernel: Depends on container host Compiler: gcc (Debian 10.2.1-6) 10.2.1 20210110 Ubuntu 22.04 Kernel: Depends on container host Compiler: gcc (Ubuntu 11.4.0-1ubuntu1~22.04) 11.4.0 RHEL9 Kernel: Depends on container host Compiler: gcc 11.5.0 20240719 (Red Hat 11.5.0-2) RHEL8 Kernel: Depends on container host Compiler: gcc 8.5.0 20210514 (Red Hat 8.5.0-22) Ubuntu 20.04 Kernel: Depends on container host Compiler: gcc (Ubuntu 9.4.0-1ubuntu1~20.04.2) 9.4.0 Fedora 40 Kernel: Depends on container host Compiler: gcc 14.2.1 20240912 (Red Hat 14.2.1-3) Fedora 41 Kernel: Depends on container host Compiler: gcc 14.2.1 20240912 (Red Hat 14.2.1-3) Ubuntu 24.04 Kernel: Depends on container host Compiler: gcc (Ubuntu 13.3.0-6ubuntu2~24.04) 13.3.0 Fedora 41 (Clang) Kernel: Depends on container host Compiler: clang 19.1.5 (Fedora 19.1.5-1.fc41) Fedora 40 (Clang) Kernel: Depends on container host Compiler: clang 18.1.8 (Fedora 18.1.8-1.fc40) To view detailed results, visit: https://lab.dpdk.org/results/dashboard/patchsets/32631/ UNH-IOL DPDK Community Lab To manage your email subscriptions, visit: https://lab.dpdk.org/results/dashboard/preferences/subscriptions/