From mboxrd@z Thu Jan 1 00:00:00 1970 Return-Path: Received: from mails.dpdk.org (mails.dpdk.org [217.70.189.124]) by inbox.dpdk.org (Postfix) with ESMTP id 9515546286 for ; Fri, 21 Feb 2025 07:50:49 +0100 (CET) Received: from mails.dpdk.org (localhost [127.0.0.1]) by mails.dpdk.org (Postfix) with ESMTP id 8E7B440647; Fri, 21 Feb 2025 07:50:49 +0100 (CET) Received: from mail-qv1-f100.google.com (mail-qv1-f100.google.com [209.85.219.100]) by mails.dpdk.org (Postfix) with ESMTP id 8C4254029A for ; Fri, 21 Feb 2025 07:50:48 +0100 (CET) Received: by mail-qv1-f100.google.com with SMTP id 6a1803df08f44-6dd15d03eacso17721206d6.0 for ; Thu, 20 Feb 2025 22:50:48 -0800 (PST) DKIM-Signature: v=1; a=rsa-sha256; c=relaxed/relaxed; d=iol.unh.edu; s=unh-iol; t=1740120648; x=1740725448; darn=dpdk.org; h=references:in-reply-to:cc:to:from:subject:message-id:date:from:to :cc:subject:date:message-id:reply-to; bh=Qsfhl5YMsTmYk6ajorIRycKgmFWU+6+9EhVqBKVINDk=; b=BW+i5lxOvHqLsFMArB2vuJLIQMQcRFdk+lvoamy85aecsa0stOY1GedWOWXcv49Fg/ Lo4TW2oJ30WSenVj77Xmz1a534eAIiedfZMunb5LkTlG1pIvJk8HvHhhxC/Uo0yJRP0H gETsPnJnFOCv91OeZPEPQ4E2e/sh57CtBvluM= X-Google-DKIM-Signature: v=1; a=rsa-sha256; c=relaxed/relaxed; d=1e100.net; s=20230601; t=1740120648; x=1740725448; h=references:in-reply-to:cc:to:from:subject:message-id:date :x-gm-message-state:from:to:cc:subject:date:message-id:reply-to; bh=Qsfhl5YMsTmYk6ajorIRycKgmFWU+6+9EhVqBKVINDk=; b=NT7fJd7NAAUK3vjxjsMAwxLJqibioZhqdVIEj+rh57inS806JB5MwovXY6m8Y80n+7 wUyzaoRdy2+0eKtA75JmRJ7nIeXQNIM1cXelOzx0JzY9Qkxn9dQwMx+WuvFylfC8rdNV gWaQOReiY2CVUWYGXDHqd7ISfzSKBnyY1tD8KjsBO3tM4mg8SHDZD/yFV5bt4IyFIpEs cLk8OHVeq3aj8Bdz7KRK+Hkz68wQCucVnTccl9WjNBGfa0l/XitdkA+aAlSzBtKX2LNR nFYm13AzRik0RMz94aG2OmFDD2pPrbcaIoEf8LRzIy8JSwjLNyvA6fgpTIUEhtBcsB3f JCGw== X-Gm-Message-State: AOJu0YyWt08ZfdrobjvxJG1J5R0YPQzVfcPR195b0MSekhlDyWlEoOju E6Zk8GmEJmo5mRvJ+cn94m98s0ud4szyaAN6ueDGtcqwxdtess2mRi1ba/PfjplOq7ZYc8jK//n G0FeSLxRCS8hiA6RMDWJl91dhLfMhRZPix6umfEZfBCzLGyln+Reinnv0 X-Gm-Gg: ASbGncuX5Vw6w+wmxeOey+0/pYHySYkVuSKVWBXxR9o7sEw8FkQybiRUXzA1ZX1jSFD 7dXtlJObqP/nUjCIyCV4knRNmWAtZfenZsuQ323njRmauNWkummXc7ICLqnUKFAHwxrAHDcnelm ovsz+qBYFmaOm9W+4iig3+++YGR628+4BzysWRgtjAHJLh+Z0fx6FNS5CcWUdxSBE70mjfpyBRB pVJuYCINvHQKbTPJyYsqlhaKG53Y3QxYWcMneFt/S28I9yaziyqYE5jE3jhWkZyjykhp1kxNfl1 ItgtBjXwUjOk1p6qCTMsmspjgHEOQPVuxy8jjOvwjzgKCN/RpGUn X-Google-Smtp-Source: AGHT+IEf+B4KddwO4LUZlMq8NQtr9s5J012uztb44WReBRjErpOJvAx4kfkxZwX6+fXt2BDARb5w+cmT2bNx X-Received: by 2002:a05:6214:4003:b0:6e4:29a1:507c with SMTP id 6a1803df08f44-6e6ae77a95fmr29947256d6.8.1740120647956; Thu, 20 Feb 2025 22:50:47 -0800 (PST) Received: from postal.iol.unh.edu (postal.iol.unh.edu. [2606:4100:3880:1234::84]) by smtp-relay.gmail.com with ESMTPS id 6a1803df08f44-6e65d7a3528sm6956656d6.58.2025.02.20.22.50.47 (version=TLS1_2 cipher=ECDHE-ECDSA-AES128-GCM-SHA256 bits=128/128); Thu, 20 Feb 2025 22:50:47 -0800 (PST) X-Relaying-Domain: iol.unh.edu Date: Thu, 20 Feb 2025 22:50:47 -0800 (PST) Message-ID: <67b82247.050a0220.cfc93.3017SMTPIN_ADDED_MISSING@mx.google.com> Received: from [172.17.0.5] (unknown [172.18.0.217]) by postal.iol.unh.edu (Postfix) with ESMTP id 1FBAB6052471; Fri, 21 Feb 2025 01:50:45 -0500 (EST) Subject: |SUCCESS| pw151690 [PATCH] test/crypto: remove unused variable From: dpdklab@iol.unh.edu To: Test Report Cc: dpdk-test-reports@iol.unh.edu In-Reply-To: <20250220132807.2000-1-felix.zhang@jaguarmicro.com> References: <20250220132807.2000-1-felix.zhang@jaguarmicro.com> Content-Type: text/plain X-BeenThere: test-report@dpdk.org X-Mailman-Version: 2.1.29 Precedence: list List-Id: automatic DPDK test reports List-Unsubscribe: , List-Archive: List-Post: List-Help: List-Subscribe: , Errors-To: test-report-bounces@dpdk.org Test-Label: iol-sample-apps-testing Test-Status: SUCCESS http://dpdk.org/patch/151690 _Testing PASS_ Submitter: Shaokai Zhang Date: Thursday, February 20 2025 13:28:07 DPDK git baseline: Repo:dpdk Branch: master CommitID:fab31a03ba98e7457284df95dd9eef2223a4ccaa 151690 --> testing pass Upstream job id: ACVP-FIPS-testing#8979 Test environment and result as below: +--------------------+----------------------+----------------------+ | Environment | compressdev_zlib_pmd | dpdk_fips_validation | +====================+======================+======================+ | Ubuntu 22.04 | PASS | SKIPPED | +--------------------+----------------------+----------------------+ | Ubuntu 22.04 (ARM) | PASS | SKIPPED | +--------------------+----------------------+----------------------+ | Ubuntu 20.04 | SKIPPED | PASS | +--------------------+----------------------+----------------------+ Ubuntu 22.04 Kernel: 5.15.0-100-generic Compiler: gcc gcc (Ubuntu 11.4.0-1ubuntu1~22.04) 11.4.0 Ubuntu 22.04 (ARM) Kernel: 5.15.0-97-generic Compiler: gcc gcc (Ubuntu 11.4.0-1ubuntu1~22.04) 11.4.0 Ubuntu 20.04 Kernel: Depends on container host Compiler: gcc (Ubuntu 9.4.0-1ubuntu1~20.04.2) 9.4.0 To view detailed results, visit: https://lab.dpdk.org/results/dashboard/patchsets/32623/ UNH-IOL DPDK Community Lab To manage your email subscriptions, visit: https://lab.dpdk.org/results/dashboard/preferences/subscriptions/