From mboxrd@z Thu Jan 1 00:00:00 1970 Return-Path: Received: from mails.dpdk.org (mails.dpdk.org [217.70.189.124]) by inbox.dpdk.org (Postfix) with ESMTP id 7692D46286 for ; Fri, 21 Feb 2025 07:55:21 +0100 (CET) Received: from mails.dpdk.org (localhost [127.0.0.1]) by mails.dpdk.org (Postfix) with ESMTP id 1AFCE40647; Fri, 21 Feb 2025 07:55:21 +0100 (CET) Received: from mail-il1-f228.google.com (mail-il1-f228.google.com [209.85.166.228]) by mails.dpdk.org (Postfix) with ESMTP id 69BA74029A for ; Fri, 21 Feb 2025 07:55:19 +0100 (CET) Received: by mail-il1-f228.google.com with SMTP id e9e14a558f8ab-3cf8e017abcso5769745ab.1 for ; Thu, 20 Feb 2025 22:55:19 -0800 (PST) DKIM-Signature: v=1; a=rsa-sha256; c=relaxed/relaxed; d=iol.unh.edu; s=unh-iol; t=1740120918; x=1740725718; darn=dpdk.org; h=references:in-reply-to:cc:to:from:subject:message-id:date:from:to :cc:subject:date:message-id:reply-to; bh=I1WBc9c4CiGb1+bNIrC4/Y9WKXKv+xdJDbrjj4ctQc4=; b=AHd/xIguLLTKrKM4EcUGQX0dLLwXRV6oaN4OR82RHMP5ttzRH3n5am8g0jmlXyXMNj W/adn4Fwofezh1jLDy28fs6caYUgONwzNgHf4Z5Eg0iOVQVG+HgVF/T6729XfCL9FF77 mpangCK9qExzyNft7Inetb4H8oQA4Ws5xZfBs= X-Google-DKIM-Signature: v=1; a=rsa-sha256; c=relaxed/relaxed; d=1e100.net; s=20230601; t=1740120918; x=1740725718; h=references:in-reply-to:cc:to:from:subject:message-id:date :x-gm-message-state:from:to:cc:subject:date:message-id:reply-to; bh=I1WBc9c4CiGb1+bNIrC4/Y9WKXKv+xdJDbrjj4ctQc4=; b=Q2OQ+6vA1tHJ9n8BGqKw4pxFLg2BYzY6WF5hlwaff+UbI2RwwZs/OtxAcs5pt29gM0 g5eZquD5SZMH8EWczeUVubmMZ3jdSl0pLJEgpqneWc3fCENYWwAZViTYzM8TzMXAz/UU 0ccC5SzDzDhl7smLsO0JpugmNje+pTyrIMBjM6pdeFJ9HxfiKHLVoIqd48GQrUqpYln1 E92yQ6o6iMSJY3h/jxjemKWcotX30DsBGX3wUr/LLqSK0ky5VBd2PaiZwdddOOp2wDAk ssiCIAHTlsX7F/4vf5oo7XVThm+9ayPFwoHxgeRxei5fpnjASAkXL2mYJiiLH3SFqfKK +SnQ== X-Gm-Message-State: AOJu0Yykr0Nq8SF4pt0w5bFroidqEDz9YJNMU1vgMSPErwu5q4Hl5HSQ kaHMFXxehQHbDqL7ZeHYRxF+7Vi8eQfv22mW+tD2W+Ugj0n5nkKVRo2AanY7IZVJJdiaB1XsZ39 AZVI+IQtkiAXYMOrLIBNYVDY81WOZIlKZ8NbDKiSm X-Gm-Gg: ASbGncs3cTGcqRRHoWlhbwyvWVZt7TSQWlRvBXfgO0lsc2vZ1MxzNx8cNm+914EoaYg 4wNTPNUcAwC8JurCRa7A7corX4PDl5CV/igv191JUVFyO7wVGnVIUhHBW93i7lhg2q9vQfcYz7P Y9FZ7GGwyvqOL0mgrEwSHC8QbANdM601pZ0fITS8MggCPNfz83kZ3xnLbtVm2eP8C9kGdcbzv68 kxD+CgwoSC2WSg1ZWuIgO0QjOy3uIUtUm41R9oPGRceuIKimrIhNvcyAE/2FfEBkxiKpG7Eyv7i usrmvdbrwYIh4uJ6h3XmvGLWUFEcPugoOf3Cj33W X-Google-Smtp-Source: AGHT+IErQCnuBISkYsrGWgWC+6bhCm11meIb/qT+ffMK+v+AB0sdvl7zIiU3IlkruIGCS6fcSuy1+6MrDH2O X-Received: by 2002:a05:6e02:170e:b0:3d0:3fa2:ccfd with SMTP id e9e14a558f8ab-3d2cae4987amr21354335ab.5.1740120918677; Thu, 20 Feb 2025 22:55:18 -0800 (PST) Received: from postal.iol.unh.edu (postal.iol.unh.edu. [132.177.123.84]) by smtp-relay.gmail.com with ESMTPS id e9e14a558f8ab-3d2875d2d6asm8098265ab.0.2025.02.20.22.55.18 (version=TLS1_2 cipher=ECDHE-ECDSA-AES128-GCM-SHA256 bits=128/128); Thu, 20 Feb 2025 22:55:18 -0800 (PST) X-Relaying-Domain: iol.unh.edu Date: Thu, 20 Feb 2025 22:55:18 -0800 (PST) Message-ID: <67b82356.050a0220.1b0f97.83c5SMTPIN_ADDED_MISSING@mx.google.com> Received: from [172.17.0.4] (unknown [172.18.0.217]) by postal.iol.unh.edu (Postfix) with ESMTP id 637D96052471; Fri, 21 Feb 2025 01:55:15 -0500 (EST) Subject: |SUCCESS| pw151772 [PATCH] [v3] net/mana: use mana_local_data for tr From: dpdklab@iol.unh.edu To: Test Report Cc: dpdk-test-reports@iol.unh.edu In-Reply-To: <1740094322-10919-1-git-send-email-longli@linuxonhyperv.com> References: <1740094322-10919-1-git-send-email-longli@linuxonhyperv.com> Content-Type: text/plain X-BeenThere: test-report@dpdk.org X-Mailman-Version: 2.1.29 Precedence: list List-Id: automatic DPDK test reports List-Unsubscribe: , List-Archive: List-Post: List-Help: List-Subscribe: , Errors-To: test-report-bounces@dpdk.org Test-Label: iol-compile-amd64-testing Test-Status: SUCCESS http://dpdk.org/patch/151772 _Testing PASS_ Submitter: Long Li Date: Thursday, February 20 2025 23:32:02 DPDK git baseline: Repo:dpdk Branch: master CommitID:3497d187f963e5fddca607637f6a42b8b944fa49 151772 --> testing pass Upstream job id: Generic-DPDK-Compile-Meson#363784 Test environment and result as below: +-------------------+--------------------+-------------------+------------------+ | Environment | dpdk_meson_compile | dpdk_compile_spdk | dpdk_compile_ovs | +===================+====================+===================+==================+ | CentOS Stream 9 | PASS | PASS | SKIPPED | +-------------------+--------------------+-------------------+------------------+ | CentOS Stream 10 | PASS | SKIPPED | SKIPPED | +-------------------+--------------------+-------------------+------------------+ | Debian Bullseye | PASS | PASS | SKIPPED | +-------------------+--------------------+-------------------+------------------+ | Debian 12 | PASS | PASS | SKIPPED | +-------------------+--------------------+-------------------+------------------+ | Fedora 40 | PASS | PASS | SKIPPED | +-------------------+--------------------+-------------------+------------------+ | Fedora 40 (Clang) | PASS | PASS | SKIPPED | +-------------------+--------------------+-------------------+------------------+ | Fedora 41 | PASS | PASS | PASS | +-------------------+--------------------+-------------------+------------------+ | Fedora 41 (Clang) | PASS | PASS | PASS | +-------------------+--------------------+-------------------+------------------+ | openSUSE Leap 15 | PASS | SKIPPED | SKIPPED | +-------------------+--------------------+-------------------+------------------+ | RHEL8 | PASS | SKIPPED | SKIPPED | +-------------------+--------------------+-------------------+------------------+ | RHEL9 | PASS | SKIPPED | SKIPPED | +-------------------+--------------------+-------------------+------------------+ | Ubuntu 20.04 | PASS | SKIPPED | SKIPPED | +-------------------+--------------------+-------------------+------------------+ | Ubuntu 22.04 | PASS | PASS | SKIPPED | +-------------------+--------------------+-------------------+------------------+ | Ubuntu 24.04 | PASS | PASS | PASS | +-------------------+--------------------+-------------------+------------------+ | Alpine | PASS | SKIPPED | SKIPPED | +-------------------+--------------------+-------------------+------------------+ | FreeBSD 13.4 | PASS | SKIPPED | SKIPPED | +-------------------+--------------------+-------------------+------------------+ | FreeBSD 14.2 | PASS | SKIPPED | SKIPPED | +-------------------+--------------------+-------------------+------------------+ CentOS Stream 9 Kernel: Depends on container host Compiler: gcc 11.5.0 20240719 (Red Hat 11.5.0-2) CentOS Stream 10 Kernel: Depends on container host Compiler: gcc 14.2.1 20241104 (Red Hat 14.2.1-6) Debian Bullseye Kernel: Depends on container host Compiler: gcc (Debian 10.2.1-6) 10.2.1 20210110 Debian 12 Kernel: Depends on container host Compiler: gcc (Debian 12.2.0-14) 12.2.0 Fedora 40 Kernel: Depends on container host Compiler: gcc 14.2.1 20240912 (Red Hat 14.2.1-3) Fedora 40 (Clang) Kernel: Depends on container host Compiler: clang 18.1.8 (Fedora 18.1.8-1.fc40) Fedora 41 Kernel: Depends on container host Compiler: gcc 14.2.1 20240912 (Red Hat 14.2.1-3) Fedora 41 (Clang) Kernel: Depends on container host Compiler: clang 19.1.5 (Fedora 19.1.5-1.fc41) openSUSE Leap 15 Kernel: Depends on container host Compiler: gcc (SUSE Linux) 7.5.0 RHEL8 Kernel: Depends on container host Compiler: gcc 8.5.0 20210514 (Red Hat 8.5.0-22) RHEL9 Kernel: Depends on container host Compiler: gcc 11.5.0 20240719 (Red Hat 11.5.0-2) Ubuntu 20.04 Kernel: Depends on container host Compiler: gcc (Ubuntu 9.4.0-1ubuntu1~20.04.2) 9.4.0 Ubuntu 22.04 Kernel: Depends on container host Compiler: gcc (Ubuntu 11.4.0-1ubuntu1~22.04) 11.4.0 Ubuntu 24.04 Kernel: Depends on container host Compiler: gcc (Ubuntu 13.3.0-6ubuntu2~24.04) 13.3.0 Alpine Kernel: Depends on container host Compiler: gcc (Alpine 14.2.0) 14.2.0 FreeBSD 13.4 Kernel: 13.4-RELEASE-p1 Compiler: clang 18.1.6 FreeBSD 14.2 Kernel: 14.2-RELEASE Compiler: clang 18.1.6 To view detailed results, visit: https://lab.dpdk.org/results/dashboard/patchsets/32632/ UNH-IOL DPDK Community Lab To manage your email subscriptions, visit: https://lab.dpdk.org/results/dashboard/preferences/subscriptions/