From mboxrd@z Thu Jan 1 00:00:00 1970 Return-Path: Received: from mails.dpdk.org (mails.dpdk.org [217.70.189.124]) by inbox.dpdk.org (Postfix) with ESMTP id 7CCBA46286 for ; Fri, 21 Feb 2025 07:56:00 +0100 (CET) Received: from mails.dpdk.org (localhost [127.0.0.1]) by mails.dpdk.org (Postfix) with ESMTP id 779B840647; Fri, 21 Feb 2025 07:56:00 +0100 (CET) Received: from mail-io1-f98.google.com (mail-io1-f98.google.com [209.85.166.98]) by mails.dpdk.org (Postfix) with ESMTP id 6E5AC4029A for ; Fri, 21 Feb 2025 07:55:59 +0100 (CET) Received: by mail-io1-f98.google.com with SMTP id ca18e2360f4ac-855a7e3be0eso46308239f.1 for ; Thu, 20 Feb 2025 22:55:59 -0800 (PST) DKIM-Signature: v=1; a=rsa-sha256; c=relaxed/relaxed; d=iol.unh.edu; s=unh-iol; t=1740120959; x=1740725759; darn=dpdk.org; h=references:in-reply-to:cc:to:from:subject:message-id:date:from:to :cc:subject:date:message-id:reply-to; bh=tuBXCEW75zRg6ztdy9xcyY0nvcc4y9NMTCijCYSqXUA=; b=OMehHBV7l3B9Yq3u+zwVQ/nv9VxBvE+mIJ1ScYPJ64P5QKilu9vTOW7bb0uBpP+qhr ZvCG0TSRAmWQjcqUAHIusVlhBHnW9NrESe+EMBxmfyNMEelvISMivmRI+U6089g0gRSL RCBVR/VFnXS6tSU+j66dfRaq3PbTyy2qakA8I= X-Google-DKIM-Signature: v=1; a=rsa-sha256; c=relaxed/relaxed; d=1e100.net; s=20230601; t=1740120959; x=1740725759; h=references:in-reply-to:cc:to:from:subject:message-id:date :x-gm-message-state:from:to:cc:subject:date:message-id:reply-to; bh=tuBXCEW75zRg6ztdy9xcyY0nvcc4y9NMTCijCYSqXUA=; b=YICoBPPXOU6t73CBGeuCckS7BoiDPR5baPiINMY0MsQ/YDFz0FvDCT9srkhwemDe19 sP+TQuXlwDI30eTWLZnnZ2v877rcVixcV6zaHyFk9Qv+NrbAyABqefwo8RQpr3YDb5/M Bx3wLzlZBLxdJqS1AZFXjGgGhDzpgd+7wNGZQkKyUumfnuy6a99eF35DYc4QFb3xC64D yy4lib10qmNXaAuwH5tcbOoV3UNitkW5fLhdq0HnmE6TqGdX6v8R8WVHoBpsuX5wujaQ mtsqpQW0dF/qwGo4tbshwsEEy3qEGdw/YTjsu4USS9s/DeM7aY5+y+k//uK2ypz6t59b Ms0g== X-Gm-Message-State: AOJu0YxmgyldipF88mERe2TveBiGpEcerlQG3nF6N/BW+bh1aBHY7KaD 5E7MhASPqMTFF21lR6OImjckmTN6pH251Xd+QAgDnHxTCCxUuKMFv3K5pUblV55rKQu+Ora1YLS jsTct+ZYlwfylD70f82Cl+MIvUzxgk8q/1UMqiifI X-Gm-Gg: ASbGncsk3piejOKc8Rj2Maaq/PR+AdvPpr0qii9doL399WXNpDCqrEmceCZ7WyYKuRa lV/z9FegqvQokXI6UNvP29b/gb/I29AIv1AoyhewNomvL+D1oSaKbqIbqRcLSI60L0sV8row4cP /c54pG2aww+fO3SbDtt5B370K2HsOl+Y1PmT31Hu75dSMOE2ddR435/wFCopgIoY6PhdJ/2VJnh 2Ot6daHw1+aO6m3PV/eCMUtOLcERY94mlCCGrd/jcHvnOKbVNnSAyy4/dcPbgo8s4fY6GPM/sLG gJzIG9fD5/8AabCqIQBSCLy2brM1q40QEv1WNNnl X-Google-Smtp-Source: AGHT+IGgVpz0WujB/4Afl50yrhDWimC51hA2RGnYCaR2MNpn8EOkQUXdYRrBjjP+bPHmxFN1em0UENN+xeRB X-Received: by 2002:a05:6e02:13ac:b0:3d0:23f6:2eed with SMTP id e9e14a558f8ab-3d2cae87d95mr16763655ab.11.1740120958787; Thu, 20 Feb 2025 22:55:58 -0800 (PST) Received: from postal.iol.unh.edu (postal.iol.unh.edu. [132.177.123.84]) by smtp-relay.gmail.com with ESMTPS id e9e14a558f8ab-3d18fb87c38sm10709135ab.60.2025.02.20.22.55.58 (version=TLS1_2 cipher=ECDHE-ECDSA-AES128-GCM-SHA256 bits=128/128); Thu, 20 Feb 2025 22:55:58 -0800 (PST) X-Relaying-Domain: iol.unh.edu Date: Thu, 20 Feb 2025 22:55:58 -0800 (PST) Message-ID: <67b8237e.050a0220.261414.5d72SMTPIN_ADDED_MISSING@mx.google.com> Received: from [172.17.0.4] (unknown [172.18.0.217]) by postal.iol.unh.edu (Postfix) with ESMTP id 802AE6052471; Fri, 21 Feb 2025 01:55:49 -0500 (EST) Subject: |SUCCESS| pw151772 [PATCH] [v3] net/mana: use mana_local_data for tr From: dpdklab@iol.unh.edu To: Test Report Cc: dpdk-test-reports@iol.unh.edu In-Reply-To: <1740094322-10919-1-git-send-email-longli@linuxonhyperv.com> References: <1740094322-10919-1-git-send-email-longli@linuxonhyperv.com> Content-Type: text/plain X-BeenThere: test-report@dpdk.org X-Mailman-Version: 2.1.29 Precedence: list List-Id: automatic DPDK test reports List-Unsubscribe: , List-Archive: List-Post: List-Help: List-Subscribe: , Errors-To: test-report-bounces@dpdk.org Test-Label: iol-compile-arm64-testing Test-Status: SUCCESS http://dpdk.org/patch/151772 _Testing PASS_ Submitter: Long Li Date: Thursday, February 20 2025 23:32:02 DPDK git baseline: Repo:dpdk Branch: master CommitID:3497d187f963e5fddca607637f6a42b8b944fa49 151772 --> testing pass Upstream job id: Generic-DPDK-Compile-Meson#363791 Test environment and result as below: +----------------------------------------+--------------------+ | Environment | dpdk_meson_compile | +========================================+====================+ | RHEL9 (ARM) | PASS | +----------------------------------------+--------------------+ | Ubuntu 20.04 ARM GCC Cross Compile | PASS | +----------------------------------------+--------------------+ | Ubuntu 20.04 ARM SVE | PASS | +----------------------------------------+--------------------+ | Fedora 40 (ARM Clang) | PASS | +----------------------------------------+--------------------+ | Fedora 41 (ARM Clang) | PASS | +----------------------------------------+--------------------+ | Debian 12 with MUSDK | PASS | +----------------------------------------+--------------------+ | Fedora 40 (ARM) | PASS | +----------------------------------------+--------------------+ | Ubuntu 22.04 (ARM) | PASS | +----------------------------------------+--------------------+ | Fedora 41 (ARM) | PASS | +----------------------------------------+--------------------+ | Ubuntu 24.04 (ARM) | PASS | +----------------------------------------+--------------------+ | CentOS Stream 9 (ARM) | PASS | +----------------------------------------+--------------------+ | Ubuntu 20.04 (ARM) | PASS | +----------------------------------------+--------------------+ | CentOS Stream 10 (ARM) | PASS | +----------------------------------------+--------------------+ | Debian 11 (Buster) (ARM) | PASS | +----------------------------------------+--------------------+ | Debian 12 (arm) | PASS | +----------------------------------------+--------------------+ | Ubuntu 20.04 ARM Clang Cross Compile | PASS | +----------------------------------------+--------------------+ | Ubuntu 20.04 aarch32 GCC Cross Compile | PASS | +----------------------------------------+--------------------+ RHEL9 (ARM) Kernel: Depends on container host Compiler: gcc 11.5.0 20240719 (Red Hat 11.5.0-2) Ubuntu 20.04 ARM GCC Cross Compile Kernel: Depends on container host Compiler: aarch64-linux-gnu-gcc (Ubuntu 9.4.0-1ubuntu1~20.04.2) 9.4.0 Ubuntu 20.04 ARM SVE Kernel: Depends on container host Compiler: gcc (Ubuntu 10.5.0-1ubuntu1~20.04) 10.5.0 Fedora 40 (ARM Clang) Kernel: Depends on container host Compiler: clang 18.1.8 (Fedora 18.1.8-1.fc40) Fedora 41 (ARM Clang) Kernel: Depends on container host Compiler: clang 19.1.5 (Fedora 19.1.5-1.fc41) Debian 12 with MUSDK Kernel: Depends on container host Compiler: gcc (Debian 12.2.0-14) 12.2.0 Fedora 40 (ARM) Kernel: Depends on container host Compiler: gcc 14.2.1 20240912 (Red Hat 14.2.1-3) Ubuntu 22.04 (ARM) Kernel: Depends on container host Compiler: gcc (Ubuntu 11.4.0-1ubuntu1~22.04) 11.4.0 Fedora 41 (ARM) Kernel: Depends on container host Compiler: gcc 14.2.1 20240912 (Red Hat 14.2.1-3) Ubuntu 24.04 (ARM) Kernel: Depends on container host Compiler: gcc (Ubuntu 13.3.0-6ubuntu2~24.04) 13.3.0 CentOS Stream 9 (ARM) Kernel: Depends on container host Compiler: gcc 11.5.0 20240719 (Red Hat 11.5.0-2) Ubuntu 20.04 (ARM) Kernel: Depends on container host Compiler: gcc (Ubuntu 9.4.0-1ubuntu1~20.04.2) 9.4.0 CentOS Stream 10 (ARM) Kernel: Depends on container host Compiler: gcc 14.2.1 20241104 (Red Hat 14.2.1-6) Debian 11 (Buster) (ARM) Kernel: Depends on container host Compiler: gcc (Debian 10.2.1-6) 10.2.1 20210110 Debian 12 (arm) Kernel: Depends on container host Compiler: gcc (Debian 12.2.0-14) 12.2.0 Ubuntu 20.04 ARM Clang Cross Compile Kernel: Depends on container host Compiler: clang 10.0.0-4ubuntu1 Ubuntu 20.04 aarch32 GCC Cross Compile Kernel: Depends on container host Compiler: gcc 9.4.0 To view detailed results, visit: https://lab.dpdk.org/results/dashboard/patchsets/32632/ UNH-IOL DPDK Community Lab To manage your email subscriptions, visit: https://lab.dpdk.org/results/dashboard/preferences/subscriptions/