From mboxrd@z Thu Jan 1 00:00:00 1970 Return-Path: Received: from mails.dpdk.org (mails.dpdk.org [217.70.189.124]) by inbox.dpdk.org (Postfix) with ESMTP id 99D4546286 for ; Fri, 21 Feb 2025 07:56:29 +0100 (CET) Received: from mails.dpdk.org (localhost [127.0.0.1]) by mails.dpdk.org (Postfix) with ESMTP id 931D040647; Fri, 21 Feb 2025 07:56:29 +0100 (CET) Received: from mail-pl1-f225.google.com (mail-pl1-f225.google.com [209.85.214.225]) by mails.dpdk.org (Postfix) with ESMTP id F208D4029A for ; Fri, 21 Feb 2025 07:56:27 +0100 (CET) Received: by mail-pl1-f225.google.com with SMTP id d9443c01a7336-221206dbd7eso34557045ad.2 for ; Thu, 20 Feb 2025 22:56:27 -0800 (PST) DKIM-Signature: v=1; a=rsa-sha256; c=relaxed/relaxed; d=iol.unh.edu; s=unh-iol; t=1740120987; x=1740725787; darn=dpdk.org; h=references:in-reply-to:cc:to:from:subject:message-id:date:from:to :cc:subject:date:message-id:reply-to; bh=805dS7m8StUdOO4k2l4DmXV2+MIYtjWpiaxL33kvVS8=; b=YNa+269UzpGtgtSLjSGgDBrkdCy1w9v1oWRrScrTJhOFYwVsHgZEAIjWswYdbWeL2c DKunj9k/Uu+gv8RDyt+EENDQzO6PUWwWnuVUtoVLRM2hszJa6pZStFLEvKEfxiIpM57f WpKYPq+LCBqWcz8p3Y4gD4dGcP0OYuT+d73HQ= X-Google-DKIM-Signature: v=1; a=rsa-sha256; c=relaxed/relaxed; d=1e100.net; s=20230601; t=1740120987; x=1740725787; h=references:in-reply-to:cc:to:from:subject:message-id:date :x-gm-message-state:from:to:cc:subject:date:message-id:reply-to; bh=805dS7m8StUdOO4k2l4DmXV2+MIYtjWpiaxL33kvVS8=; b=Ykb0HZ/5u4z+7Aig6uR3qhrXJE+7toEBY+5NVlYp1080AYD+M+mNfZdA32Mqx9EHL7 Qxy3eI8N2GifuX7JEmHiH+18y5lmo4LMIEFb1vqt0NK3zU83O3MJqQdbxaL14oXvkjcs bMyzBJTt5YEbxbYTVdMi5YaGUW91iCMNwF+J1qKPfPGh03/UkyUh+m8sUaSAt+SAvTUs 04ukXPporcYaNHO75Z4mR9IBIk0FpZksh3jzeD8WEBMznDIYm6S+nZq2GCvNlleT3gbd bqndgq7hhDv1YEOOA7nP5O6MXHIaUrl8LLxwafkYbm7F1rVLmVca1c9NllSphiza038o ibmA== X-Gm-Message-State: AOJu0YyYauxLFQ1LbITTJ6Fb1sl9YnfoWIagoeJtq5Hsuu79IC7GCGYo gnnsOnPS98/yasBZ2t5xkxyA1NXQoNbs3pNa+u203clSRyRSTtnyv3zhXnZF5zyZGPxZ3KhFngj BeMX4tUA+3ejMugWFIxd4ygv/h4MzkbDIiiGpt0r3 X-Gm-Gg: ASbGncvThP95DKxSpX+OcUtQbvKxB5Y+spZ0PptvlTzIiX8lBp/bbThv668S+ZRLW1Q q6B6hODpF1+T1FgHIAJrF5dDdlRa4gQj2Qnc6FRpLYeGsHSoFdj/kdttdzm5s4m8hXUAYb9wtkp qo82ZGm+5nmPBntBnO/hK2YoD9Y3uQaQu9ZHM6+Mgj+g1ZUXTQoTjEVMi36EAVoHRTMMDkeSpgZ lES7po5+SGpXLiGvOhLHOAze2K2UIFNt3Th57CDkmaf5rBI/FaTRBtMR+cbOLpb8OGsyxRwwEgT Cu9l55aTKDGq7fJ8ZEPJpQgtIFvHyRDUJdpHp989 X-Google-Smtp-Source: AGHT+IH74S935saYXJMiv31+XtNbROeJPF8kXo8DWfxT1Fl+g2Xw03NBRCpkRfQv/kUXp9EgZ/fk0D6iJ1sR X-Received: by 2002:a17:903:2349:b0:220:ec62:7dc8 with SMTP id d9443c01a7336-2219ff28ef8mr36415325ad.2.1740120987127; Thu, 20 Feb 2025 22:56:27 -0800 (PST) Received: from postal.iol.unh.edu (postal.iol.unh.edu. [132.177.123.84]) by smtp-relay.gmail.com with ESMTPS id d9443c01a7336-220d540b418sm7924575ad.99.2025.02.20.22.56.27 (version=TLS1_2 cipher=ECDHE-ECDSA-AES128-GCM-SHA256 bits=128/128); Thu, 20 Feb 2025 22:56:27 -0800 (PST) X-Relaying-Domain: iol.unh.edu Date: Thu, 20 Feb 2025 22:56:27 -0800 (PST) Message-ID: <67b8239b.170a0220.afa1c.7436SMTPIN_ADDED_MISSING@mx.google.com> Received: from [172.21.0.5] (unknown [172.18.0.240]) by postal.iol.unh.edu (Postfix) with ESMTP id 9A0966052471; Fri, 21 Feb 2025 01:56:17 -0500 (EST) Subject: |SUCCESS| pw151772 [PATCH] [v3] net/mana: use mana_local_data for tr From: dpdklab@iol.unh.edu To: Test Report Cc: dpdk-test-reports@iol.unh.edu In-Reply-To: <1740094322-10919-1-git-send-email-longli@linuxonhyperv.com> References: <1740094322-10919-1-git-send-email-longli@linuxonhyperv.com> Content-Type: text/plain X-BeenThere: test-report@dpdk.org X-Mailman-Version: 2.1.29 Precedence: list List-Id: automatic DPDK test reports List-Unsubscribe: , List-Archive: List-Post: List-Help: List-Subscribe: , Errors-To: test-report-bounces@dpdk.org Test-Label: iol-compile-arm64-testing Test-Status: SUCCESS http://dpdk.org/patch/151772 _Testing PASS_ Submitter: Long Li Date: Thursday, February 20 2025 23:32:02 DPDK git baseline: Repo:dpdk Branch: master CommitID:3497d187f963e5fddca607637f6a42b8b944fa49 151772 --> testing pass Upstream job id: Generic-DPDK-Compile-Meson#363793 Test environment and result as below: +----------------------------------------+--------------------+ | Environment | dpdk_meson_compile | +========================================+====================+ | RHEL9 (ARM) | PASS | +----------------------------------------+--------------------+ | Ubuntu 20.04 ARM GCC Cross Compile | PASS | +----------------------------------------+--------------------+ | Ubuntu 20.04 ARM SVE | PASS | +----------------------------------------+--------------------+ | Fedora 40 (ARM Clang) | PASS | +----------------------------------------+--------------------+ | Fedora 41 (ARM Clang) | PASS | +----------------------------------------+--------------------+ | Debian 12 with MUSDK | PASS | +----------------------------------------+--------------------+ | Fedora 40 (ARM) | PASS | +----------------------------------------+--------------------+ | Ubuntu 22.04 (ARM) | PASS | +----------------------------------------+--------------------+ | Fedora 41 (ARM) | PASS | +----------------------------------------+--------------------+ | Ubuntu 24.04 (ARM) | PASS | +----------------------------------------+--------------------+ | CentOS Stream 9 (ARM) | PASS | +----------------------------------------+--------------------+ | Ubuntu 20.04 (ARM) | PASS | +----------------------------------------+--------------------+ | CentOS Stream 10 (ARM) | PASS | +----------------------------------------+--------------------+ | Debian 11 (Buster) (ARM) | PASS | +----------------------------------------+--------------------+ | Debian 12 (arm) | PASS | +----------------------------------------+--------------------+ | Ubuntu 20.04 ARM Clang Cross Compile | PASS | +----------------------------------------+--------------------+ | Ubuntu 20.04 aarch32 GCC Cross Compile | PASS | +----------------------------------------+--------------------+ RHEL9 (ARM) Kernel: Depends on container host Compiler: gcc 11.5.0 20240719 (Red Hat 11.5.0-2) Ubuntu 20.04 ARM GCC Cross Compile Kernel: Depends on container host Compiler: aarch64-linux-gnu-gcc (Ubuntu 9.4.0-1ubuntu1~20.04.2) 9.4.0 Ubuntu 20.04 ARM SVE Kernel: Depends on container host Compiler: gcc (Ubuntu 10.5.0-1ubuntu1~20.04) 10.5.0 Fedora 40 (ARM Clang) Kernel: Depends on container host Compiler: clang 18.1.8 (Fedora 18.1.8-1.fc40) Fedora 41 (ARM Clang) Kernel: Depends on container host Compiler: clang 19.1.5 (Fedora 19.1.5-1.fc41) Debian 12 with MUSDK Kernel: Depends on container host Compiler: gcc (Debian 12.2.0-14) 12.2.0 Fedora 40 (ARM) Kernel: Depends on container host Compiler: gcc 14.2.1 20240912 (Red Hat 14.2.1-3) Ubuntu 22.04 (ARM) Kernel: Depends on container host Compiler: gcc (Ubuntu 11.4.0-1ubuntu1~22.04) 11.4.0 Fedora 41 (ARM) Kernel: Depends on container host Compiler: gcc 14.2.1 20240912 (Red Hat 14.2.1-3) Ubuntu 24.04 (ARM) Kernel: Depends on container host Compiler: gcc (Ubuntu 13.3.0-6ubuntu2~24.04) 13.3.0 CentOS Stream 9 (ARM) Kernel: Depends on container host Compiler: gcc 11.5.0 20240719 (Red Hat 11.5.0-2) Ubuntu 20.04 (ARM) Kernel: Depends on container host Compiler: gcc (Ubuntu 9.4.0-1ubuntu1~20.04.2) 9.4.0 CentOS Stream 10 (ARM) Kernel: Depends on container host Compiler: gcc 14.2.1 20241104 (Red Hat 14.2.1-6) Debian 11 (Buster) (ARM) Kernel: Depends on container host Compiler: gcc (Debian 10.2.1-6) 10.2.1 20210110 Debian 12 (arm) Kernel: Depends on container host Compiler: gcc (Debian 12.2.0-14) 12.2.0 Ubuntu 20.04 ARM Clang Cross Compile Kernel: Depends on container host Compiler: clang 10.0.0-4ubuntu1 Ubuntu 20.04 aarch32 GCC Cross Compile Kernel: Depends on container host Compiler: gcc 9.4.0 To view detailed results, visit: https://lab.dpdk.org/results/dashboard/patchsets/32632/ UNH-IOL DPDK Community Lab To manage your email subscriptions, visit: https://lab.dpdk.org/results/dashboard/preferences/subscriptions/