From mboxrd@z Thu Jan 1 00:00:00 1970 Return-Path: Received: from mails.dpdk.org (mails.dpdk.org [217.70.189.124]) by inbox.dpdk.org (Postfix) with ESMTP id 826AC46289 for ; Fri, 21 Feb 2025 08:23:47 +0100 (CET) Received: from mails.dpdk.org (localhost [127.0.0.1]) by mails.dpdk.org (Postfix) with ESMTP id 5A73C40647; Fri, 21 Feb 2025 08:23:47 +0100 (CET) Received: from mail-yb1-f228.google.com (mail-yb1-f228.google.com [209.85.219.228]) by mails.dpdk.org (Postfix) with ESMTP id BBC744029A for ; Fri, 21 Feb 2025 08:23:46 +0100 (CET) Received: by mail-yb1-f228.google.com with SMTP id 3f1490d57ef6-e587cca1e47so1726749276.0 for ; Thu, 20 Feb 2025 23:23:46 -0800 (PST) DKIM-Signature: v=1; a=rsa-sha256; c=relaxed/relaxed; d=iol.unh.edu; s=unh-iol; t=1740122626; x=1740727426; darn=dpdk.org; h=references:in-reply-to:cc:to:from:subject:message-id:date:from:to :cc:subject:date:message-id:reply-to; bh=G+w0UFE590FaZ0dor0LSBWe/aq4G7K9mKO25nMG4Gc4=; b=Or3sd115fWiGzP4o/cB46Rzz1OoULq47xA4fYEzSCIwtYkBF/Jo2QOkFNSwYC4vvpa hFuMBJst+NyUmWVvsu8S6Z/X34M3PBiYzFnqXn5LDILVYAGIdSy87hQZTYbymrEK4So3 IoQ3JB+Cc4+y0EKeQRyreWifw1Undsd3ywB6M= X-Google-DKIM-Signature: v=1; a=rsa-sha256; c=relaxed/relaxed; d=1e100.net; s=20230601; t=1740122626; x=1740727426; h=references:in-reply-to:cc:to:from:subject:message-id:date :x-gm-message-state:from:to:cc:subject:date:message-id:reply-to; bh=G+w0UFE590FaZ0dor0LSBWe/aq4G7K9mKO25nMG4Gc4=; b=M3Htye6hfC6cvcHmGolNVuQs2ixXqP0l4gYU0cUl4fN6vliIqrjNkol7dbtgPh29E5 Jv880sl/dw5ClQY1kw1gNuPGIHNWlaO0oUkPasnIBKnfBkwotr1GP6XkcrxrANY7CJel 5xTsIRwJdF/Mmjjkrf1X0XczeJPRUe6Z6Ulaawz9Mvs2HxXb6phjL1CPU5bZBwU0BvZv rv3lZrifpCR6PT1NBYHsuvhMtpUI6FtxhLBQihs9E210LL+4tYlbeDWNRne3SGUYsJ2y F33IJAdendvifkCS1e3gtDffbQ0xsSUg/zDTUb9EdkLFDWJB36RKjiJSb1MqBOO1XAfl Xcbg== X-Gm-Message-State: AOJu0YzBQSlf6T9Q1w472cZCBLq9jUy0OSuw3Ch/NBYmpKow/Qpr+zCV vc52SIoh4H6LIX4JoEnhCq1gR91UISbUbBagx+9UV6UiJXjsTwNoCSH7qA/zmz8mjlzW+kA3pLj VIwown3Rr3LMSQZRt/No753WihVDCXGN52pqcvwmcAWLAt+Wk6Fdo28w+ X-Gm-Gg: ASbGnctt2lXF+8OskPvoCJPFYMywBk/t/AZKDcIHHkKqYOvmFTKj+V9izm4W1fbU/Xi TE4fjJvW4MwQawzxc5BydSmZU/BrH5uR2ZOkNH+FWuxkhymQpBR5nxlLF6bT8/OyicyAIH/5YO/ eBSlm7ypZ4TzOVAkmR+bJjVVFF96nzsmGzvvvvS1U4y0lVMXX5TsrhO1a9rjn1qkNLfQwwnSQvN GLQSDWde1KUqn0HQZLO2V0A5AlrJeODjrgCaMwPVbKXcA79it31+QmOiSLemSFdRTTnSXQMFg9V ziRnlLSiLxhUuRNivldkO3EmqZbdR35kYo/U3IAnac/6SKAg69Ln X-Google-Smtp-Source: AGHT+IEtJfncehjLxrHPMqMAm4r3bKD6tn8F4pUFDkL3661q8gj5XKWODoMQkmLh5rchzOt5adIGsxe4BXAa X-Received: by 2002:a05:6902:150e:b0:e5d:fc90:9448 with SMTP id 3f1490d57ef6-e5e246964dfmr1784343276.40.1740122625864; Thu, 20 Feb 2025 23:23:45 -0800 (PST) Received: from postal.iol.unh.edu (postal.iol.unh.edu. [2606:4100:3880:1234::84]) by smtp-relay.gmail.com with ESMTPS id 3f1490d57ef6-e5dae10a628sm906490276.23.2025.02.20.23.23.45 (version=TLS1_2 cipher=ECDHE-ECDSA-AES128-GCM-SHA256 bits=128/128); Thu, 20 Feb 2025 23:23:45 -0800 (PST) X-Relaying-Domain: iol.unh.edu Date: Thu, 20 Feb 2025 23:23:45 -0800 (PST) Message-ID: <67b82a01.250a0220.876c7.e814SMTPIN_ADDED_MISSING@mx.google.com> Received: from [172.21.0.5] (unknown [172.18.0.240]) by postal.iol.unh.edu (Postfix) with ESMTP id D4E0B6052471; Fri, 21 Feb 2025 02:23:42 -0500 (EST) Subject: |SUCCESS| pw151771 [PATCH] net/zxdh: remove unnecessary null free ch From: dpdklab@iol.unh.edu To: Test Report Cc: dpdk-test-reports@iol.unh.edu In-Reply-To: <20250220224411.302807-1-stephen@networkplumber.org> References: <20250220224411.302807-1-stephen@networkplumber.org> Content-Type: text/plain X-BeenThere: test-report@dpdk.org X-Mailman-Version: 2.1.29 Precedence: list List-Id: automatic DPDK test reports List-Unsubscribe: , List-Archive: List-Post: List-Help: List-Subscribe: , Errors-To: test-report-bounces@dpdk.org Test-Label: iol-compile-amd64-testing Test-Status: SUCCESS http://dpdk.org/patch/151771 _Testing PASS_ Submitter: Stephen Hemminger Date: Thursday, February 20 2025 22:44:10 DPDK git baseline: Repo:dpdk Branch: master CommitID:3497d187f963e5fddca607637f6a42b8b944fa49 151771 --> testing pass Upstream job id: Generic-DPDK-Compile-Meson#363813 Test environment and result as below: +-------------------+--------------------+-------------------+------------------+ | Environment | dpdk_meson_compile | dpdk_compile_spdk | dpdk_compile_ovs | +===================+====================+===================+==================+ | CentOS Stream 9 | PASS | PASS | SKIPPED | +-------------------+--------------------+-------------------+------------------+ | CentOS Stream 10 | PASS | SKIPPED | SKIPPED | +-------------------+--------------------+-------------------+------------------+ | Debian Bullseye | PASS | PASS | SKIPPED | +-------------------+--------------------+-------------------+------------------+ | Debian 12 | PASS | PASS | SKIPPED | +-------------------+--------------------+-------------------+------------------+ | Fedora 40 | PASS | PASS | SKIPPED | +-------------------+--------------------+-------------------+------------------+ | Fedora 41 | PASS | PASS | PASS | +-------------------+--------------------+-------------------+------------------+ | Fedora 41 (Clang) | PASS | PASS | PASS | +-------------------+--------------------+-------------------+------------------+ | Fedora 40 (Clang) | PASS | PASS | SKIPPED | +-------------------+--------------------+-------------------+------------------+ | openSUSE Leap 15 | PASS | SKIPPED | SKIPPED | +-------------------+--------------------+-------------------+------------------+ | RHEL9 | PASS | SKIPPED | SKIPPED | +-------------------+--------------------+-------------------+------------------+ | Ubuntu 20.04 | PASS | SKIPPED | SKIPPED | +-------------------+--------------------+-------------------+------------------+ | Ubuntu 22.04 | PASS | PASS | SKIPPED | +-------------------+--------------------+-------------------+------------------+ | RHEL8 | PASS | SKIPPED | SKIPPED | +-------------------+--------------------+-------------------+------------------+ | Ubuntu 24.04 | PASS | PASS | PASS | +-------------------+--------------------+-------------------+------------------+ | Alpine | PASS | SKIPPED | SKIPPED | +-------------------+--------------------+-------------------+------------------+ | FreeBSD 13.4 | PASS | SKIPPED | SKIPPED | +-------------------+--------------------+-------------------+------------------+ | FreeBSD 14.2 | PASS | SKIPPED | SKIPPED | +-------------------+--------------------+-------------------+------------------+ CentOS Stream 9 Kernel: Depends on container host Compiler: gcc 11.5.0 20240719 (Red Hat 11.5.0-2) CentOS Stream 10 Kernel: Depends on container host Compiler: gcc 14.2.1 20241104 (Red Hat 14.2.1-6) Debian Bullseye Kernel: Depends on container host Compiler: gcc (Debian 10.2.1-6) 10.2.1 20210110 Debian 12 Kernel: Depends on container host Compiler: gcc (Debian 12.2.0-14) 12.2.0 Fedora 40 Kernel: Depends on container host Compiler: gcc 14.2.1 20240912 (Red Hat 14.2.1-3) Fedora 41 Kernel: Depends on container host Compiler: gcc 14.2.1 20240912 (Red Hat 14.2.1-3) Fedora 41 (Clang) Kernel: Depends on container host Compiler: clang 19.1.5 (Fedora 19.1.5-1.fc41) Fedora 40 (Clang) Kernel: Depends on container host Compiler: clang 18.1.8 (Fedora 18.1.8-1.fc40) openSUSE Leap 15 Kernel: Depends on container host Compiler: gcc (SUSE Linux) 7.5.0 RHEL9 Kernel: Depends on container host Compiler: gcc 11.5.0 20240719 (Red Hat 11.5.0-2) Ubuntu 20.04 Kernel: Depends on container host Compiler: gcc (Ubuntu 9.4.0-1ubuntu1~20.04.2) 9.4.0 Ubuntu 22.04 Kernel: Depends on container host Compiler: gcc (Ubuntu 11.4.0-1ubuntu1~22.04) 11.4.0 RHEL8 Kernel: Depends on container host Compiler: gcc 8.5.0 20210514 (Red Hat 8.5.0-22) Ubuntu 24.04 Kernel: Depends on container host Compiler: gcc (Ubuntu 13.3.0-6ubuntu2~24.04) 13.3.0 Alpine Kernel: Depends on container host Compiler: gcc (Alpine 14.2.0) 14.2.0 FreeBSD 13.4 Kernel: 13.4-RELEASE-p1 Compiler: clang 18.1.6 FreeBSD 14.2 Kernel: 14.2-RELEASE Compiler: clang 18.1.6 To view detailed results, visit: https://lab.dpdk.org/results/dashboard/patchsets/32631/ UNH-IOL DPDK Community Lab To manage your email subscriptions, visit: https://lab.dpdk.org/results/dashboard/preferences/subscriptions/