From mboxrd@z Thu Jan 1 00:00:00 1970 Return-Path: Received: from mails.dpdk.org (mails.dpdk.org [217.70.189.124]) by inbox.dpdk.org (Postfix) with ESMTP id A9CCC46289 for ; Fri, 21 Feb 2025 09:52:37 +0100 (CET) Received: from mails.dpdk.org (localhost [127.0.0.1]) by mails.dpdk.org (Postfix) with ESMTP id 8396B40647; Fri, 21 Feb 2025 09:52:37 +0100 (CET) Received: from mail-io1-f99.google.com (mail-io1-f99.google.com [209.85.166.99]) by mails.dpdk.org (Postfix) with ESMTP id 0A2FF4029A for ; Fri, 21 Feb 2025 09:52:35 +0100 (CET) Received: by mail-io1-f99.google.com with SMTP id ca18e2360f4ac-855bb9fa914so51454939f.1 for ; Fri, 21 Feb 2025 00:52:35 -0800 (PST) DKIM-Signature: v=1; a=rsa-sha256; c=relaxed/relaxed; d=iol.unh.edu; s=unh-iol; t=1740127955; x=1740732755; darn=dpdk.org; h=references:in-reply-to:cc:to:from:subject:message-id:date:from:to :cc:subject:date:message-id:reply-to; bh=8FMe5rzPJNE1b/FcB2ABMZTVw4qUOjfxrTfWHBhREYE=; b=CDpxnwd5lw5eNsrICfnVMUaKCQC+2/Wtc7EgBSOevTwmoJ8PPfcH7VV3GnnaY2eLM9 5QQ3mlqMHjpRAPGcv7hUejJK0H303WvBl5sl9wFkE4ROafrODF6PQbnW0FXl+A8R+Wi1 ggvFs31KIA1ztWJ2jGQ0NApvKNwo8MzgmrIzI= X-Google-DKIM-Signature: v=1; a=rsa-sha256; c=relaxed/relaxed; d=1e100.net; s=20230601; t=1740127955; x=1740732755; h=references:in-reply-to:cc:to:from:subject:message-id:date :x-gm-message-state:from:to:cc:subject:date:message-id:reply-to; bh=8FMe5rzPJNE1b/FcB2ABMZTVw4qUOjfxrTfWHBhREYE=; b=G/id/t7VklwM4Ogjf101/y+ueHu8mrHscPIpMW0xJTyx1OG999MbfXJ2koCq5z3Ast gyBhlm6bz9WZzSTJduOCoH6I+6zGfblUCW9MjxF1AZvYIOOxGNt/Ha9qLjTpmQotZxQP REczxYX91H255ej75XBrQMdrHFCF1/9FOUE/yWDsoI4JHwAA5TgQ2C0CXRWCLJ2NrhoR YVw40D0FP45S3bNQstRaVyGDC/vQZ5CyIXDc9+edN5S+ujt4wPk8J97kZHGkj1tr397i I0JnLmOcK2kFajcWO6vFiAHU6EK1HuITTSJ6iCI1iz4fICHOs7BRPTvoi8jNRJJGyphX ueTA== X-Gm-Message-State: AOJu0Yx2vIqy3tWt8H4pSZr8H6qqi22EuqOyGgO7vUrnSnTWVRq+jQtl plbrlOlxYaeGIz4tkei9tboEjdNYPMU0F4OxLS5+LrDBAzyIQeYKDJQ3VtpU0ZbmQsm8oR/1zVY zUgdMjOpjkAFhHkepezRJ9Gld/g4uIDDEPwBruhc8UApmVB+FnzXgEtzo X-Gm-Gg: ASbGncupdFroGABSnzZjEVfEYDg5swskWu26e20CFi6ssXCuKtpX03EOOjf1eT7Ou4Q chVRHAt+QHdyUYQhVheaphVLgXhzGFgfgzUC3Sh7QkjBlRyqZtahznkGeSEYZkfon1R3jhb6V4Y juDtYVnINnFMzcim1Ppj3EkPO0lu033TvOnCLheqo+ZQCiD8wQixH5jYSHJiv3qayzqgdEkq5hD LmvxGDWU71EfCHNBwBueDQjN86wZO+QNy14c8DgUFFDDeKyetU4t1lQl03X9cie3Dm5ekwwWwSM KaSMiSZlCuESLCl69OcLw74mrH+dudGqapkT3e33LBj0PTO/9BmJ X-Google-Smtp-Source: AGHT+IE/q9vmTufsB7T6oKVTzIR+yfm3a6a2TFhFE6gc2AoZN0PIqa2jF2vXRjDsL04cVZP45ppaoAGirEuv X-Received: by 2002:a05:6602:6426:b0:855:c476:8b8a with SMTP id ca18e2360f4ac-855daac1293mr228654739f.0.1740127955275; Fri, 21 Feb 2025 00:52:35 -0800 (PST) Received: from postal.iol.unh.edu (postal.iol.unh.edu. [2606:4100:3880:1234::84]) by smtp-relay.gmail.com with ESMTPS id ca18e2360f4ac-855b7853e47sm25394039f.0.2025.02.21.00.52.35 (version=TLS1_2 cipher=ECDHE-ECDSA-AES128-GCM-SHA256 bits=128/128); Fri, 21 Feb 2025 00:52:35 -0800 (PST) X-Relaying-Domain: iol.unh.edu Date: Fri, 21 Feb 2025 00:52:35 -0800 (PST) Message-ID: <67b83ed3.050a0220.4d2aa.d53bSMTPIN_ADDED_MISSING@mx.google.com> Received: from [172.17.0.3] (unknown [172.18.0.217]) by postal.iol.unh.edu (Postfix) with ESMTP id 519C26052471; Fri, 21 Feb 2025 03:52:32 -0500 (EST) Subject: |SUCCESS| pw151771 [PATCH] net/zxdh: remove unnecessary null free ch From: dpdklab@iol.unh.edu To: Test Report Cc: dpdk-test-reports@iol.unh.edu In-Reply-To: <20250220224411.302807-1-stephen@networkplumber.org> References: <20250220224411.302807-1-stephen@networkplumber.org> Content-Type: text/plain X-BeenThere: test-report@dpdk.org X-Mailman-Version: 2.1.29 Precedence: list List-Id: automatic DPDK test reports List-Unsubscribe: , List-Archive: List-Post: List-Help: List-Subscribe: , Errors-To: test-report-bounces@dpdk.org Test-Label: iol-compile-arm64-testing Test-Status: SUCCESS http://dpdk.org/patch/151771 _Testing PASS_ Submitter: Stephen Hemminger Date: Thursday, February 20 2025 22:44:10 DPDK git baseline: Repo:dpdk Branch: master CommitID:3497d187f963e5fddca607637f6a42b8b944fa49 151771 --> testing pass Upstream job id: Generic-DPDK-Compile-Meson#363825 Test environment and result as below: +----------------------------------------+--------------------+ | Environment | dpdk_meson_compile | +========================================+====================+ | Ubuntu 20.04 ARM GCC Cross Compile | PASS | +----------------------------------------+--------------------+ | RHEL9 (ARM) | PASS | +----------------------------------------+--------------------+ | Debian 12 with MUSDK | PASS | +----------------------------------------+--------------------+ | Fedora 40 (ARM) | PASS | +----------------------------------------+--------------------+ | Ubuntu 20.04 ARM SVE | PASS | +----------------------------------------+--------------------+ | Ubuntu 22.04 (ARM) | PASS | +----------------------------------------+--------------------+ | Ubuntu 24.04 (ARM) | PASS | +----------------------------------------+--------------------+ | Fedora 40 (ARM Clang) | PASS | +----------------------------------------+--------------------+ | Fedora 41 (ARM) | PASS | +----------------------------------------+--------------------+ | Ubuntu 20.04 (ARM) | PASS | +----------------------------------------+--------------------+ | CentOS Stream 9 (ARM) | PASS | +----------------------------------------+--------------------+ | CentOS Stream 10 (ARM) | PASS | +----------------------------------------+--------------------+ | Debian 11 (Buster) (ARM) | PASS | +----------------------------------------+--------------------+ | Debian 12 (arm) | PASS | +----------------------------------------+--------------------+ | Fedora 41 (ARM Clang) | PASS | +----------------------------------------+--------------------+ | Ubuntu 20.04 ARM Clang Cross Compile | PASS | +----------------------------------------+--------------------+ | Ubuntu 20.04 aarch32 GCC Cross Compile | PASS | +----------------------------------------+--------------------+ Ubuntu 20.04 ARM GCC Cross Compile Kernel: Depends on container host Compiler: aarch64-linux-gnu-gcc (Ubuntu 9.4.0-1ubuntu1~20.04.2) 9.4.0 RHEL9 (ARM) Kernel: Depends on container host Compiler: gcc 11.5.0 20240719 (Red Hat 11.5.0-2) Debian 12 with MUSDK Kernel: Depends on container host Compiler: gcc (Debian 12.2.0-14) 12.2.0 Fedora 40 (ARM) Kernel: Depends on container host Compiler: gcc 14.2.1 20240912 (Red Hat 14.2.1-3) Ubuntu 20.04 ARM SVE Kernel: Depends on container host Compiler: gcc (Ubuntu 10.5.0-1ubuntu1~20.04) 10.5.0 Ubuntu 22.04 (ARM) Kernel: Depends on container host Compiler: gcc (Ubuntu 11.4.0-1ubuntu1~22.04) 11.4.0 Ubuntu 24.04 (ARM) Kernel: Depends on container host Compiler: gcc (Ubuntu 13.3.0-6ubuntu2~24.04) 13.3.0 Fedora 40 (ARM Clang) Kernel: Depends on container host Compiler: clang 18.1.8 (Fedora 18.1.8-1.fc40) Fedora 41 (ARM) Kernel: Depends on container host Compiler: gcc 14.2.1 20240912 (Red Hat 14.2.1-3) Ubuntu 20.04 (ARM) Kernel: Depends on container host Compiler: gcc (Ubuntu 9.4.0-1ubuntu1~20.04.2) 9.4.0 CentOS Stream 9 (ARM) Kernel: Depends on container host Compiler: gcc 11.5.0 20240719 (Red Hat 11.5.0-2) CentOS Stream 10 (ARM) Kernel: Depends on container host Compiler: gcc 14.2.1 20241104 (Red Hat 14.2.1-6) Debian 11 (Buster) (ARM) Kernel: Depends on container host Compiler: gcc (Debian 10.2.1-6) 10.2.1 20210110 Debian 12 (arm) Kernel: Depends on container host Compiler: gcc (Debian 12.2.0-14) 12.2.0 Fedora 41 (ARM Clang) Kernel: Depends on container host Compiler: clang 19.1.5 (Fedora 19.1.5-1.fc41) Ubuntu 20.04 ARM Clang Cross Compile Kernel: Depends on container host Compiler: clang 10.0.0-4ubuntu1 Ubuntu 20.04 aarch32 GCC Cross Compile Kernel: Depends on container host Compiler: gcc 9.4.0 To view detailed results, visit: https://lab.dpdk.org/results/dashboard/patchsets/32631/ UNH-IOL DPDK Community Lab To manage your email subscriptions, visit: https://lab.dpdk.org/results/dashboard/preferences/subscriptions/