From mboxrd@z Thu Jan 1 00:00:00 1970 Return-Path: Received: from mails.dpdk.org (mails.dpdk.org [217.70.189.124]) by inbox.dpdk.org (Postfix) with ESMTP id CBCF14628B for ; Fri, 21 Feb 2025 11:18:00 +0100 (CET) Received: from mails.dpdk.org (localhost [127.0.0.1]) by mails.dpdk.org (Postfix) with ESMTP id C2933402ED; Fri, 21 Feb 2025 11:18:00 +0100 (CET) Received: from mail-qt1-f227.google.com (mail-qt1-f227.google.com [209.85.160.227]) by mails.dpdk.org (Postfix) with ESMTP id 1599C402D3 for ; Fri, 21 Feb 2025 11:17:59 +0100 (CET) Received: by mail-qt1-f227.google.com with SMTP id d75a77b69052e-472049c72afso20715681cf.2 for ; Fri, 21 Feb 2025 02:17:59 -0800 (PST) DKIM-Signature: v=1; a=rsa-sha256; c=relaxed/relaxed; d=iol.unh.edu; s=unh-iol; t=1740133078; x=1740737878; darn=dpdk.org; h=references:in-reply-to:cc:to:from:subject:message-id:date:from:to :cc:subject:date:message-id:reply-to; bh=7IeBmYd/sbjEIc8eBTCUszCfp9qP2iIbav30+KI6B5M=; b=YdK4fS6mBg7wZSDE3YQQaKWeAzyFmkQqmZ65A4d/DPOUIQZczKsiocJjfoGU64kjWa bKnvljtp5oGnBlA14EQu1MkqW5HhwvEtGGEMTG2svpXwoELY19phCeyovwAEkNP5WfTF nL3pfJ9q2/ksK6iUJCcSN/LupkXkmINkRGMUg= X-Google-DKIM-Signature: v=1; a=rsa-sha256; c=relaxed/relaxed; d=1e100.net; s=20230601; t=1740133078; x=1740737878; h=references:in-reply-to:cc:to:from:subject:message-id:date :x-gm-message-state:from:to:cc:subject:date:message-id:reply-to; bh=7IeBmYd/sbjEIc8eBTCUszCfp9qP2iIbav30+KI6B5M=; b=LY0pZqyFc69IjUjGD4GlJQ2q1fyWys4mCM8bYc8D2XAiAQuu+wF01ZZn1ASws2Y/gN u21YqvBFvP5lB4s23ACqe3IPUjQZGmpAix4jsFnKOmudlVlh+QyOVAu+HrHTPcpynbsB gP3jIasav3XPtQODUFKrSRAFDQ5xsJN8VLTMk1ScvVAl2w2Shnk6zzGtsGQ447H0RT81 IQ15x4uf1se2xRXX/nhR6fSMY5ii2I3JfQuF1oDTXbFc+yuKiVLHc0zpGT9FnM9kddoz XKQWXwE0qhOZZi43w1LjQSFcJ8bX2lygBAyQZ3TNjbiezOxZubgEbTzaV71wA/YSFKn3 zBOA== X-Gm-Message-State: AOJu0YwNImPsdTugRY3MDROn948xLcvwCVUD8+hkQKgBn2NsTCa3eyn+ REvyT9034QTEFi6TAoEncGBrjZQPyxvYqZuLqbip44LZ8I6qMxhPhFiBOwr0dl2TBOrpf3MzjmG /50XBqC7V43srLgiob4XuUdClKvvj3dHkpXLik/S/mjrctK2z3vt6zoWX X-Gm-Gg: ASbGnctQW/dmMMZORql3/nL4oqnxfjDco4rBxJo26thdGLnMTt2N7wCc0rJ/AQmRaYL RZWnBgCE3UhL2nb4j2lV/xktHczzmGdzgwqL36E80SoqZ8cITBFxNKQr1dUyTpf+eqqrPHhxhd1 34WQWC8zPxkd/GezoQsOFi8T3id9uC82sKeWgE5dwT8KU0fMpfA9YPzd3Kw4JteoRwaDRerhHtC vscUvrKCZOvVPMe/u+pWYNS8OVSFCr4br8JrpQEWwR9lCa7XEqP7me93w4aD22gcZXSduicYI50 XHHb5dSywAvdbteFhTnAkXHlCmW8QwEqLlfPODVdiwC26VaRBrWc X-Google-Smtp-Source: AGHT+IFRuDKHMcp+IN9BcmfftNPeBuBgtvLtBdpQVUBrFyrtpU3slfhblZj0C30P9aWJG7HINa9dVBmk8eBL X-Received: by 2002:a05:622a:1814:b0:472:67:aeb0 with SMTP id d75a77b69052e-472228be6f3mr33545221cf.17.1740133078454; Fri, 21 Feb 2025 02:17:58 -0800 (PST) Received: from postal.iol.unh.edu (postal.iol.unh.edu. [2606:4100:3880:1234::84]) by smtp-relay.gmail.com with ESMTPS id d75a77b69052e-4722e9a75f6sm66061cf.7.2025.02.21.02.17.58 (version=TLS1_2 cipher=ECDHE-ECDSA-AES128-GCM-SHA256 bits=128/128); Fri, 21 Feb 2025 02:17:58 -0800 (PST) X-Relaying-Domain: iol.unh.edu Date: Fri, 21 Feb 2025 02:17:58 -0800 (PST) Message-ID: <67b852d6.c80a0220.148980.0587SMTPIN_ADDED_MISSING@mx.google.com> Received: from [172.17.0.5] (unknown [172.18.0.217]) by postal.iol.unh.edu (Postfix) with ESMTP id A56676052471; Fri, 21 Feb 2025 05:17:55 -0500 (EST) Subject: |SUCCESS| pw151773-151775 [PATCH] [3/3] maintainers: update for Inte From: dpdklab@iol.unh.edu To: Test Report Cc: dpdk-test-reports@iol.unh.edu In-Reply-To: <20250221004528.6999-3-rosen.xu@intel.com> References: <20250221004528.6999-3-rosen.xu@intel.com> Content-Type: text/plain X-BeenThere: test-report@dpdk.org X-Mailman-Version: 2.1.29 Precedence: list List-Id: automatic DPDK test reports List-Unsubscribe: , List-Archive: List-Post: List-Help: List-Subscribe: , Errors-To: test-report-bounces@dpdk.org Test-Label: iol-compile-arm64-testing Test-Status: SUCCESS http://dpdk.org/patch/151775 _Testing PASS_ Submitter: Rosen Xu Date: Friday, February 21 2025 00:45:28 DPDK git baseline: Repo:dpdk Branch: master CommitID:fab31a03ba98e7457284df95dd9eef2223a4ccaa 151773-151775 --> testing pass Upstream job id: Generic-DPDK-Compile-Meson#363851 Test environment and result as below: +----------------------------------------+--------------------+ | Environment | dpdk_meson_compile | +========================================+====================+ | RHEL9 (ARM) | PASS | +----------------------------------------+--------------------+ | Ubuntu 20.04 ARM GCC Cross Compile | PASS | +----------------------------------------+--------------------+ | Ubuntu 20.04 ARM SVE | PASS | +----------------------------------------+--------------------+ | Fedora 40 (ARM) | PASS | +----------------------------------------+--------------------+ | Debian 12 with MUSDK | PASS | +----------------------------------------+--------------------+ | Fedora 41 (ARM) | PASS | +----------------------------------------+--------------------+ | Fedora 41 (ARM Clang) | PASS | +----------------------------------------+--------------------+ | Fedora 40 (ARM Clang) | PASS | +----------------------------------------+--------------------+ | Ubuntu 22.04 (ARM) | PASS | +----------------------------------------+--------------------+ | Ubuntu 20.04 (ARM) | PASS | +----------------------------------------+--------------------+ | Ubuntu 24.04 (ARM) | PASS | +----------------------------------------+--------------------+ | CentOS Stream 9 (ARM) | PASS | +----------------------------------------+--------------------+ | CentOS Stream 10 (ARM) | PASS | +----------------------------------------+--------------------+ | Debian 12 (arm) | PASS | +----------------------------------------+--------------------+ | Debian 11 (Buster) (ARM) | PASS | +----------------------------------------+--------------------+ | Ubuntu 20.04 aarch32 GCC Cross Compile | PASS | +----------------------------------------+--------------------+ RHEL9 (ARM) Kernel: Depends on container host Compiler: gcc 11.5.0 20240719 (Red Hat 11.5.0-2) Ubuntu 20.04 ARM GCC Cross Compile Kernel: Depends on container host Compiler: aarch64-linux-gnu-gcc (Ubuntu 9.4.0-1ubuntu1~20.04.2) 9.4.0 Ubuntu 20.04 ARM SVE Kernel: Depends on container host Compiler: gcc (Ubuntu 10.5.0-1ubuntu1~20.04) 10.5.0 Fedora 40 (ARM) Kernel: Depends on container host Compiler: gcc 14.2.1 20240912 (Red Hat 14.2.1-3) Debian 12 with MUSDK Kernel: Depends on container host Compiler: gcc (Debian 12.2.0-14) 12.2.0 Fedora 41 (ARM) Kernel: Depends on container host Compiler: gcc 14.2.1 20240912 (Red Hat 14.2.1-3) Fedora 41 (ARM Clang) Kernel: Depends on container host Compiler: clang 19.1.5 (Fedora 19.1.5-1.fc41) Fedora 40 (ARM Clang) Kernel: Depends on container host Compiler: clang 18.1.8 (Fedora 18.1.8-1.fc40) Ubuntu 22.04 (ARM) Kernel: Depends on container host Compiler: gcc (Ubuntu 11.4.0-1ubuntu1~22.04) 11.4.0 Ubuntu 20.04 (ARM) Kernel: Depends on container host Compiler: gcc (Ubuntu 9.4.0-1ubuntu1~20.04.2) 9.4.0 Ubuntu 24.04 (ARM) Kernel: Depends on container host Compiler: gcc (Ubuntu 13.3.0-6ubuntu2~24.04) 13.3.0 CentOS Stream 9 (ARM) Kernel: Depends on container host Compiler: gcc 11.5.0 20240719 (Red Hat 11.5.0-2) CentOS Stream 10 (ARM) Kernel: Depends on container host Compiler: gcc 14.2.1 20241104 (Red Hat 14.2.1-6) Debian 12 (arm) Kernel: Depends on container host Compiler: gcc (Debian 12.2.0-14) 12.2.0 Debian 11 (Buster) (ARM) Kernel: Depends on container host Compiler: gcc (Debian 10.2.1-6) 10.2.1 20210110 Ubuntu 20.04 aarch32 GCC Cross Compile Kernel: Depends on container host Compiler: gcc 9.4.0 To view detailed results, visit: https://lab.dpdk.org/results/dashboard/patchsets/32633/ UNH-IOL DPDK Community Lab To manage your email subscriptions, visit: https://lab.dpdk.org/results/dashboard/preferences/subscriptions/