From mboxrd@z Thu Jan 1 00:00:00 1970 Return-Path: Received: from mails.dpdk.org (mails.dpdk.org [217.70.189.124]) by inbox.dpdk.org (Postfix) with ESMTP id 014494628B for ; Fri, 21 Feb 2025 11:26:11 +0100 (CET) Received: from mails.dpdk.org (localhost [127.0.0.1]) by mails.dpdk.org (Postfix) with ESMTP id D133240667; Fri, 21 Feb 2025 11:26:11 +0100 (CET) Received: from mail-yb1-f225.google.com (mail-yb1-f225.google.com [209.85.219.225]) by mails.dpdk.org (Postfix) with ESMTP id 4B69A402ED for ; Fri, 21 Feb 2025 11:26:10 +0100 (CET) Received: by mail-yb1-f225.google.com with SMTP id 3f1490d57ef6-e5dcc411189so1762508276.0 for ; Fri, 21 Feb 2025 02:26:10 -0800 (PST) DKIM-Signature: v=1; a=rsa-sha256; c=relaxed/relaxed; d=iol.unh.edu; s=unh-iol; t=1740133569; x=1740738369; darn=dpdk.org; h=cc:to:from:subject:message-id:date:from:to:cc:subject:date :message-id:reply-to; bh=99jvfZG5EKDmt7HMKQo2cCIjl89fuW9AJjaI2IDLlnE=; b=h2rydks7NyC2GK1f75sUmjEPgcN8rsrJ8SkIbQC/F+GXR9bDd5LJsgKYFhdpK0kI5z REs5A2m7mfriQQKOoGkftz6WBdlH5vr3KBpzDeFDmEggDSaS3FmxHe19EDcTV62KNaFE lIAjpxKanly5G8gRuJd2enVK9AzYDY9CSIZA8= X-Google-DKIM-Signature: v=1; a=rsa-sha256; c=relaxed/relaxed; d=1e100.net; s=20230601; t=1740133569; x=1740738369; h=cc:to:from:subject:message-id:date:x-gm-message-state:from:to:cc :subject:date:message-id:reply-to; bh=99jvfZG5EKDmt7HMKQo2cCIjl89fuW9AJjaI2IDLlnE=; b=S4JlKTUpsZ88M6Topphyp4Y/uctZnpcCLTMdZAxRAcPx7xoad7oLIiD8shXS9yWOUA pP2zurDufwXqjz+FjVM9w8mrN6KNJrY8vhcdt/nYIbP2R2HRQssAUIC3SrXWB1RpY5Lb 4rWoGoIXF+VatlOMDZD98ZtONKEykFRjGM4+ykkXGqlZGDzcY03hMWMEtSkPe/Clpk32 t96i4xw2hyS5fu03qyoFMypIefSSrr4QTY21ZzBPXanUs1dskatVIWFBHGgJ2BrYpFCT EIBd9eh0G+5r28vQKeXyQyDJEe/Sxn5tUNe4z1LQq53LRXtDgNEqiCBNcKRd+T2832sl GFaw== X-Gm-Message-State: AOJu0YxrAQiEFZUJB5EXoEMJ/fGBp70WpcMxXtRbP+dd+ExcsA1X5ia5 uRX53DGXjznHVZuoCWxmJOgts33NUtqm2l0VoXfLO2/eParQmBaP0Wg+qIyPJdgU2n5lD+C/fxj oB3gh7uuQs2nfXCnwRqYdKw1uCoNUau7vGwvuzdL3OPZMKRTX X-Gm-Gg: ASbGncvhHb35v64310s6RUIjVqwtRfGxxCipmE7OXizkwC6NTxHFKWj/BDabHTIJ/PA G9tfDGvoo0La7DN/lsOBoClaCPnMHx8MU1djb0t87LsnhfCwVRZNeMoUxCU6inlaMO9TqpWNibL NbUSAHI5xaQuMD6F0UuLXza/5DEZWzLoRgQDoL/QrEOv1gqsEwAAD57aw3xBEP5A99HvbBRSjDW XZY/ciaxTbgLXUXdS7zSIrWqqAkpn1wZ500Ppea8mUYTz2srR/0fLR5CN29+btihmCn4b0FyDE5 K8iCARy7411k4FGuSkimov0xyu0M3BptJg9ETkjTiqPoCo0ytKrl X-Google-Smtp-Source: AGHT+IEBZbBY/crN2X5d3wPTu0FkSvJQuj0drG+i1xSOrmC8PwY2kOrVb6bdS7iYaMBOHyER1O0CTduMOlwy X-Received: by 2002:a05:6902:c0d:b0:e5d:eba5:b88c with SMTP id 3f1490d57ef6-e5e246961d7mr2169539276.43.1740133569592; Fri, 21 Feb 2025 02:26:09 -0800 (PST) Received: from postal.iol.unh.edu (postal.iol.unh.edu. [2606:4100:3880:1234::84]) by smtp-relay.gmail.com with ESMTPS id 3f1490d57ef6-e5dadb64e3esm928475276.0.2025.02.21.02.26.09 (version=TLS1_2 cipher=ECDHE-ECDSA-AES128-GCM-SHA256 bits=128/128); Fri, 21 Feb 2025 02:26:09 -0800 (PST) X-Relaying-Domain: iol.unh.edu Date: Fri, 21 Feb 2025 02:26:09 -0800 (PST) Message-ID: <67b854c1.250a0220.247188.fd9dSMTPIN_ADDED_MISSING@mx.google.com> Received: from [172.17.0.5] (unknown [172.18.0.217]) by postal.iol.unh.edu (Postfix) with ESMTP id 60F636052471; Fri, 21 Feb 2025 05:26:06 -0500 (EST) Subject: |SUCCESS| [GIT MASTER] 39594cdfcb730ea667370b1e304313d10996aff3 From: dpdklab@iol.unh.edu To: Test Report Cc: dpdk-test-reports@iol.unh.edu, Xueming Li , Christian Ehrhardt , Kevin Traynor , Luca Boccassi Content-Type: text/plain X-BeenThere: test-report@dpdk.org X-Mailman-Version: 2.1.29 Precedence: list List-Id: automatic DPDK test reports List-Unsubscribe: , List-Archive: List-Post: List-Help: List-Subscribe: , Errors-To: test-report-bounces@dpdk.org _Testing PASS_ Branch: tags/v24.11 39594cdfcb730ea667370b1e304313d10996aff3 --> testing pass Upstream job id: Generic-DPDK-Compile-Meson#363874 Test environment and result as below: +-------------------+--------------------+-------------------+------------------+ | Environment | dpdk_meson_compile | dpdk_compile_spdk | dpdk_compile_ovs | +===================+====================+===================+==================+ | Debian Bullseye | PASS | PASS | SKIPPED | +-------------------+--------------------+-------------------+------------------+ | CentOS Stream 10 | PASS | SKIPPED | SKIPPED | +-------------------+--------------------+-------------------+------------------+ | CentOS Stream 9 | PASS | PASS | SKIPPED | +-------------------+--------------------+-------------------+------------------+ | Fedora 41 | PASS | PASS | PASS | +-------------------+--------------------+-------------------+------------------+ | Fedora 40 (Clang) | PASS | PASS | SKIPPED | +-------------------+--------------------+-------------------+------------------+ | openSUSE Leap 15 | PASS | SKIPPED | SKIPPED | +-------------------+--------------------+-------------------+------------------+ | Fedora 40 | PASS | PASS | SKIPPED | +-------------------+--------------------+-------------------+------------------+ | Debian 12 | PASS | PASS | SKIPPED | +-------------------+--------------------+-------------------+------------------+ | Fedora 41 (Clang) | PASS | PASS | PASS | +-------------------+--------------------+-------------------+------------------+ | RHEL9 | PASS | SKIPPED | SKIPPED | +-------------------+--------------------+-------------------+------------------+ | Ubuntu 24.04 | PASS | PASS | PASS | +-------------------+--------------------+-------------------+------------------+ | Ubuntu 22.04 | PASS | PASS | SKIPPED | +-------------------+--------------------+-------------------+------------------+ | Ubuntu 20.04 | PASS | SKIPPED | SKIPPED | +-------------------+--------------------+-------------------+------------------+ | RHEL8 | PASS | SKIPPED | SKIPPED | +-------------------+--------------------+-------------------+------------------+ | Alpine | PASS | SKIPPED | SKIPPED | +-------------------+--------------------+-------------------+------------------+ | FreeBSD 13.4 | PASS | SKIPPED | SKIPPED | +-------------------+--------------------+-------------------+------------------+ | FreeBSD 14.2 | PASS | SKIPPED | SKIPPED | +-------------------+--------------------+-------------------+------------------+ Debian Bullseye Kernel: Depends on container host Compiler: gcc (Debian 10.2.1-6) 10.2.1 20210110 CentOS Stream 10 Kernel: Depends on container host Compiler: gcc 14.2.1 20241104 (Red Hat 14.2.1-6) CentOS Stream 9 Kernel: Depends on container host Compiler: gcc 11.5.0 20240719 (Red Hat 11.5.0-2) Fedora 41 Kernel: Depends on container host Compiler: gcc 14.2.1 20240912 (Red Hat 14.2.1-3) Fedora 40 (Clang) Kernel: Depends on container host Compiler: clang 18.1.8 (Fedora 18.1.8-1.fc40) openSUSE Leap 15 Kernel: Depends on container host Compiler: gcc (SUSE Linux) 7.5.0 Fedora 40 Kernel: Depends on container host Compiler: gcc 14.2.1 20240912 (Red Hat 14.2.1-3) Debian 12 Kernel: Depends on container host Compiler: gcc (Debian 12.2.0-14) 12.2.0 Fedora 41 (Clang) Kernel: Depends on container host Compiler: clang 19.1.5 (Fedora 19.1.5-1.fc41) RHEL9 Kernel: Depends on container host Compiler: gcc 11.5.0 20240719 (Red Hat 11.5.0-2) Ubuntu 24.04 Kernel: Depends on container host Compiler: gcc (Ubuntu 13.3.0-6ubuntu2~24.04) 13.3.0 Ubuntu 22.04 Kernel: Depends on container host Compiler: gcc (Ubuntu 11.4.0-1ubuntu1~22.04) 11.4.0 Ubuntu 20.04 Kernel: Depends on container host Compiler: gcc (Ubuntu 9.4.0-1ubuntu1~20.04.2) 9.4.0 RHEL8 Kernel: Depends on container host Compiler: gcc 8.5.0 20210514 (Red Hat 8.5.0-22) Alpine Kernel: Depends on container host Compiler: gcc (Alpine 14.2.0) 14.2.0 FreeBSD 13.4 Kernel: 13.4-RELEASE-p1 Compiler: clang 18.1.6 FreeBSD 14.2 Kernel: 14.2-RELEASE Compiler: clang 18.1.6 To view detailed results, visit: https://lab.dpdk.org/results/dashboard/tarballs/32650/ UNH-IOL DPDK Community Lab To manage your email subscriptions, visit: https://lab.dpdk.org/results/dashboard/preferences/subscriptions/