From mboxrd@z Thu Jan 1 00:00:00 1970 Return-Path: Received: from mails.dpdk.org (mails.dpdk.org [217.70.189.124]) by inbox.dpdk.org (Postfix) with ESMTP id EED424628B for ; Fri, 21 Feb 2025 11:26:42 +0100 (CET) Received: from mails.dpdk.org (localhost [127.0.0.1]) by mails.dpdk.org (Postfix) with ESMTP id EA0F0402ED; Fri, 21 Feb 2025 11:26:42 +0100 (CET) Received: from mail-pl1-f226.google.com (mail-pl1-f226.google.com [209.85.214.226]) by mails.dpdk.org (Postfix) with ESMTP id D8435402D3 for ; Fri, 21 Feb 2025 11:26:41 +0100 (CET) Received: by mail-pl1-f226.google.com with SMTP id d9443c01a7336-220d39a5627so29250485ad.1 for ; Fri, 21 Feb 2025 02:26:41 -0800 (PST) DKIM-Signature: v=1; a=rsa-sha256; c=relaxed/relaxed; d=iol.unh.edu; s=unh-iol; t=1740133601; x=1740738401; darn=dpdk.org; h=cc:to:from:subject:message-id:date:from:to:cc:subject:date :message-id:reply-to; bh=f99TQRBvNekkx0ME16Kww+dl/vLK5XPGzSizVtorDGk=; b=dJ0CFvf99ySKwrbVVw8i4Iq9Z5FXm+FNV0hQh9qGvCqxeeEg47tnbEfIsWkjbwBOCh +90BbQvbwUF0svcvILku6zpjFbJMF8n16vit4OwQztXUdFtjngiDEjnSPewhGWMStZZF z6cucwEtDo3a0FSZUN/q28cLBoi+vIlERPFOI= X-Google-DKIM-Signature: v=1; a=rsa-sha256; c=relaxed/relaxed; d=1e100.net; s=20230601; t=1740133601; x=1740738401; h=cc:to:from:subject:message-id:date:x-gm-message-state:from:to:cc :subject:date:message-id:reply-to; bh=f99TQRBvNekkx0ME16Kww+dl/vLK5XPGzSizVtorDGk=; b=n3YYDIkVJHs6hjdz47+J2Von8QT6ExkESo2Rxz+REDv6t1FI5FGNS/QcJY02b3pscb p3NlHveUJkj+3QM/XsDiFcJDcuAAiFVVWQEK7iBoJtCuTVtCR84Vf1AigOWf0PB8FNdu bi8pnkg+fBhWFfaFpXKOkLmFgnxkOmkywuh9xrGcHZFOr8zycppsysBYjCkzwQRWWRX+ 5Mr8mzroQea614dB4+VELxkKyhiFzRf6wmfXvObREsy3E5hUNJneifVzUduwEVGSvqWo wS8MCHG2JF0qQNmoJmv9sLVCvoKJAGEbrnbVoJA/z7KSgo+GD0pooLPkgcijL2a1tQWi F4SA== X-Gm-Message-State: AOJu0YyKME2jV9wEqpovr5q/0sfGNOMPsFYiyhxNgWRBHm+oFAL/BsOb PsjClkafPx0K+59h7NNNAfVvRjOYOYvkJ2Am+MCFOPr2HoSQIFrvJRRCGvVos8vdCRmZjqyQpTO CILfyIVU5eusGVQ84uFjjSd0nIJMvkrCN22xPyZkDV7jreExO X-Gm-Gg: ASbGncvYxYDQ56iOC3keU0yjah6VwszKD2rRSSlN2UYv9lxGjE2dlV7LuQS+A95fG/o 5jqepl4BJWtuS0cw4gfRhNLu/GxcPTfpTTAKNYc1krStJvMial+ZTbO4UxTjKaKCWZo7h3rPKmm q40zSTSM1AHkmoZ1SsI408pFBGaFceLI9Vpv5WdJlNk9BelGZBvP4JPaGATg2AdBFUGl8UeXku2 W/R4tsPE//Uo7TMr0cgiiGCp2LB1iBX6eRWS+K32Iu8YFQQOq7g50277m8YRYR9+Yl6h7vRCRUO pGLgCLr0oq0MllmJA/HzTZ/89CuxLUx0/w02jCFsnZkfWXC4WXGJ X-Google-Smtp-Source: AGHT+IFTA23nGd/CHmdmO7d/qBgA8o87orJar/t92AFMuVKLMF6DuE/sGN23aJDdqh+hzR/cO6zEEM+sK/Bh X-Received: by 2002:a05:6a20:a11f:b0:1ee:d8c8:4b72 with SMTP id adf61e73a8af0-1eef3cbe2c3mr4948366637.23.1740133600969; Fri, 21 Feb 2025 02:26:40 -0800 (PST) Received: from postal.iol.unh.edu (postal.iol.unh.edu. [2606:4100:3880:1234::84]) by smtp-relay.gmail.com with ESMTPS id 41be03b00d2f7-adfa73d2638sm626785a12.10.2025.02.21.02.26.40 (version=TLS1_2 cipher=ECDHE-ECDSA-AES128-GCM-SHA256 bits=128/128); Fri, 21 Feb 2025 02:26:40 -0800 (PST) X-Relaying-Domain: iol.unh.edu Date: Fri, 21 Feb 2025 02:26:40 -0800 (PST) Message-ID: <67b854e0.630a0220.25b4f4.fcfdSMTPIN_ADDED_MISSING@mx.google.com> Received: from [172.21.0.6] (unknown [172.18.0.240]) by postal.iol.unh.edu (Postfix) with ESMTP id 302546052471; Fri, 21 Feb 2025 05:26:38 -0500 (EST) Subject: |SUCCESS| [GIT MASTER] 39594cdfcb730ea667370b1e304313d10996aff3 From: dpdklab@iol.unh.edu To: Test Report Cc: dpdk-test-reports@iol.unh.edu, Xueming Li , Christian Ehrhardt , Kevin Traynor , Luca Boccassi Content-Type: text/plain X-BeenThere: test-report@dpdk.org X-Mailman-Version: 2.1.29 Precedence: list List-Id: automatic DPDK test reports List-Unsubscribe: , List-Archive: List-Post: List-Help: List-Subscribe: , Errors-To: test-report-bounces@dpdk.org _Testing PASS_ Branch: tags/v24.11 39594cdfcb730ea667370b1e304313d10996aff3 --> testing pass Upstream job id: Generic-DPDK-Compile-Meson#363881 Test environment and result as below: +-------------------+--------------------+-------------------+------------------+ | Environment | dpdk_meson_compile | dpdk_compile_spdk | dpdk_compile_ovs | +===================+====================+===================+==================+ | Debian Bullseye | PASS | PASS | SKIPPED | +-------------------+--------------------+-------------------+------------------+ | CentOS Stream 10 | PASS | SKIPPED | SKIPPED | +-------------------+--------------------+-------------------+------------------+ | CentOS Stream 9 | PASS | PASS | SKIPPED | +-------------------+--------------------+-------------------+------------------+ | Fedora 41 | PASS | PASS | PASS | +-------------------+--------------------+-------------------+------------------+ | Fedora 40 (Clang) | PASS | PASS | SKIPPED | +-------------------+--------------------+-------------------+------------------+ | openSUSE Leap 15 | PASS | SKIPPED | SKIPPED | +-------------------+--------------------+-------------------+------------------+ | Fedora 40 | PASS | PASS | SKIPPED | +-------------------+--------------------+-------------------+------------------+ | Debian 12 | PASS | PASS | SKIPPED | +-------------------+--------------------+-------------------+------------------+ | Fedora 41 (Clang) | PASS | PASS | PASS | +-------------------+--------------------+-------------------+------------------+ | RHEL9 | PASS | SKIPPED | SKIPPED | +-------------------+--------------------+-------------------+------------------+ | Ubuntu 24.04 | PASS | PASS | PASS | +-------------------+--------------------+-------------------+------------------+ | Ubuntu 22.04 | PASS | PASS | SKIPPED | +-------------------+--------------------+-------------------+------------------+ | Ubuntu 20.04 | PASS | SKIPPED | SKIPPED | +-------------------+--------------------+-------------------+------------------+ | RHEL8 | PASS | SKIPPED | SKIPPED | +-------------------+--------------------+-------------------+------------------+ | Alpine | PASS | SKIPPED | SKIPPED | +-------------------+--------------------+-------------------+------------------+ | FreeBSD 13.4 | PASS | SKIPPED | SKIPPED | +-------------------+--------------------+-------------------+------------------+ | FreeBSD 14.2 | PASS | SKIPPED | SKIPPED | +-------------------+--------------------+-------------------+------------------+ Debian Bullseye Kernel: Depends on container host Compiler: gcc (Debian 10.2.1-6) 10.2.1 20210110 CentOS Stream 10 Kernel: Depends on container host Compiler: gcc 14.2.1 20241104 (Red Hat 14.2.1-6) CentOS Stream 9 Kernel: Depends on container host Compiler: gcc 11.5.0 20240719 (Red Hat 11.5.0-2) Fedora 41 Kernel: Depends on container host Compiler: gcc 14.2.1 20240912 (Red Hat 14.2.1-3) Fedora 40 (Clang) Kernel: Depends on container host Compiler: clang 18.1.8 (Fedora 18.1.8-1.fc40) openSUSE Leap 15 Kernel: Depends on container host Compiler: gcc (SUSE Linux) 7.5.0 Fedora 40 Kernel: Depends on container host Compiler: gcc 14.2.1 20240912 (Red Hat 14.2.1-3) Debian 12 Kernel: Depends on container host Compiler: gcc (Debian 12.2.0-14) 12.2.0 Fedora 41 (Clang) Kernel: Depends on container host Compiler: clang 19.1.5 (Fedora 19.1.5-1.fc41) RHEL9 Kernel: Depends on container host Compiler: gcc 11.5.0 20240719 (Red Hat 11.5.0-2) Ubuntu 24.04 Kernel: Depends on container host Compiler: gcc (Ubuntu 13.3.0-6ubuntu2~24.04) 13.3.0 Ubuntu 22.04 Kernel: Depends on container host Compiler: gcc (Ubuntu 11.4.0-1ubuntu1~22.04) 11.4.0 Ubuntu 20.04 Kernel: Depends on container host Compiler: gcc (Ubuntu 9.4.0-1ubuntu1~20.04.2) 9.4.0 RHEL8 Kernel: Depends on container host Compiler: gcc 8.5.0 20210514 (Red Hat 8.5.0-22) Alpine Kernel: Depends on container host Compiler: gcc (Alpine 14.2.0) 14.2.0 FreeBSD 13.4 Kernel: 13.4-RELEASE-p1 Compiler: clang 18.1.6 FreeBSD 14.2 Kernel: 14.2-RELEASE Compiler: clang 18.1.6 To view detailed results, visit: https://lab.dpdk.org/results/dashboard/tarballs/32650/ UNH-IOL DPDK Community Lab To manage your email subscriptions, visit: https://lab.dpdk.org/results/dashboard/preferences/subscriptions/