From mboxrd@z Thu Jan 1 00:00:00 1970 Return-Path: Received: from mails.dpdk.org (mails.dpdk.org [217.70.189.124]) by inbox.dpdk.org (Postfix) with ESMTP id 9A5D74628B for ; Fri, 21 Feb 2025 11:44:14 +0100 (CET) Received: from mails.dpdk.org (localhost [127.0.0.1]) by mails.dpdk.org (Postfix) with ESMTP id 94581402D3; Fri, 21 Feb 2025 11:44:14 +0100 (CET) Received: from mail-yw1-f226.google.com (mail-yw1-f226.google.com [209.85.128.226]) by mails.dpdk.org (Postfix) with ESMTP id 82E05402CC for ; Fri, 21 Feb 2025 11:44:12 +0100 (CET) Received: by mail-yw1-f226.google.com with SMTP id 00721157ae682-6fb2a0e4125so13485997b3.1 for ; Fri, 21 Feb 2025 02:44:12 -0800 (PST) DKIM-Signature: v=1; a=rsa-sha256; c=relaxed/relaxed; d=iol.unh.edu; s=unh-iol; t=1740134652; x=1740739452; darn=dpdk.org; h=references:in-reply-to:cc:to:from:subject:message-id:date:from:to :cc:subject:date:message-id:reply-to; bh=UaSF2Nf/tnSIXU/8Poy2/dsTFE9yg4UKBZQ1+j9uJ+o=; b=FCswfuqBpkegzz8pNPv1M3nQIWgQvbW3hVUZa/zi9sivPTR5vqtvMZl5vvoELhs5Jz KgPa6+WzqmwGMhrdRePtBcjCT/f3sap4OxySnkJrvXm+eVSbjKBVy4ZgMiX9v0t6gkc0 4oTiNqCjj5ieX9n6mdlmJIAn01ctp2zaTc2ys= X-Google-DKIM-Signature: v=1; a=rsa-sha256; c=relaxed/relaxed; d=1e100.net; s=20230601; t=1740134652; x=1740739452; h=references:in-reply-to:cc:to:from:subject:message-id:date :x-gm-message-state:from:to:cc:subject:date:message-id:reply-to; bh=UaSF2Nf/tnSIXU/8Poy2/dsTFE9yg4UKBZQ1+j9uJ+o=; b=obLvtxhKcVWzok8UqM83M4fx8VTxhax+jT/v8fGFz6agwNiuj2X1+6PavmWCqk56Oz 65Q7CC63Rr2ktvPtN6EcTUFMvwn6ZBKxrBZzmsHtCrvkr0JnZu8zZy9EEiic12Ilo7cX apzQUavI4dPN4vaAvyB5hYvoLurCAGquMJ5lf1/RB5jsI6wL0Dz5JKGjqi0YVWkkGLVd fcShcQOwM5yod1cpz56W5W2lM9ztkQniAhu0GAYPuUOA2Jp7SiRaAAWab9n72FmxxGgV JfjFuH96vm84mnZV9fJ5vECG/ToLNeeMVc7vj9q3wFHB01HYLTWMapRf+5GV+dZSRuR1 J6zQ== X-Gm-Message-State: AOJu0YzVz4Vx4DzicEbKnT+cuSSMjoCGHpt7iXVvkTLosAwJi+qia+IS y0pcs1RXIRP7G8TQlqqvzTMWt3gPOIy1pOOlCZiebugglbdB1x2qc+I91tLyyEQZ5ULCNiEa8wA 3OysgvXM9LnzDFJVHb/oP0nZQyocI20mjQxhaNbwm X-Gm-Gg: ASbGncuQM98bd7328psR9NRO8glaNlaCkXbHn1hMusF8AK8plu1adhiSFICYqoJrCoW M5LO/MQgOqzny3VGp5eXdGnxEQelqIkGBX/xvfkgblhWmfJl8ttPQhcLZjOMIaz7UZpD3O4UNs8 VDAzz7pPpZmL+BbR8vWM+A+/CT/vPhFJmNXQmVkFwPjHoMQikg6Rl89QkgYFBQ3qBPv/8lpZIz+ knj8Yim8wjDVNSl5hZgdRZ+67NsvfavI7Sr4vsGNGfIYCP+M3sxsWDOHajB12s7qYomi+jVu8fQ F9/OvZvDXGWM2aXa52q7MxWkVufIKAVAu/Z+eKe2 X-Google-Smtp-Source: AGHT+IHmg29wspF1CebeMWGV1hRgjompVuflsRIBYg4KXmQ1dr4yzFtuTet6mtdO6QsxwRCJCCluGnaK9NVO X-Received: by 2002:a05:690c:4d09:b0:6fb:1c5a:80e5 with SMTP id 00721157ae682-6fbcc399e86mr21350367b3.32.1740134651802; Fri, 21 Feb 2025 02:44:11 -0800 (PST) Received: from postal.iol.unh.edu (postal.iol.unh.edu. [132.177.123.84]) by smtp-relay.gmail.com with ESMTPS id 00721157ae682-6fb35d586f0sm5576987b3.27.2025.02.21.02.44.11 (version=TLS1_2 cipher=ECDHE-ECDSA-AES128-GCM-SHA256 bits=128/128); Fri, 21 Feb 2025 02:44:11 -0800 (PST) X-Relaying-Domain: iol.unh.edu Date: Fri, 21 Feb 2025 02:44:11 -0800 (PST) Message-ID: <67b858fb.050a0220.2b8645.cdb6SMTPIN_ADDED_MISSING@mx.google.com> Received: from [172.17.0.3] (unknown [172.18.0.217]) by postal.iol.unh.edu (Postfix) with ESMTP id 55AA46052471; Fri, 21 Feb 2025 05:44:09 -0500 (EST) Subject: |SUCCESS| pw151776-151791 [PATCH] [v2,16/16] net/zxdh: provide meter From: dpdklab@iol.unh.edu To: Test Report Cc: dpdk-test-reports@iol.unh.edu In-Reply-To: <20250221020346.494392-17-wang.junlong1@zte.com.cn> References: <20250221020346.494392-17-wang.junlong1@zte.com.cn> Content-Type: text/plain X-BeenThere: test-report@dpdk.org X-Mailman-Version: 2.1.29 Precedence: list List-Id: automatic DPDK test reports List-Unsubscribe: , List-Archive: List-Post: List-Help: List-Subscribe: , Errors-To: test-report-bounces@dpdk.org Test-Label: iol-abi-testing Test-Status: SUCCESS http://dpdk.org/patch/151791 _Testing PASS_ Submitter: Junlong Wang Date: Friday, February 21 2025 02:03:44 DPDK git baseline: Repo:dpdk Branch: master CommitID:3497d187f963e5fddca607637f6a42b8b944fa49 151776-151791 --> testing pass Upstream job id: Generic-DPDK-Compile-ABI#117093 Test environment and result as below: +-------------------+----------+ | Environment | abi_test | +===================+==========+ | Debian Bullseye | PASS | +-------------------+----------+ | CentOS Stream 10 | PASS | +-------------------+----------+ | Fedora 41 (Clang) | PASS | +-------------------+----------+ | Debian 12 | PASS | +-------------------+----------+ | Fedora 40 | PASS | +-------------------+----------+ | Fedora 40 (Clang) | PASS | +-------------------+----------+ | openSUSE Leap 15 | PASS | +-------------------+----------+ | Fedora 41 | PASS | +-------------------+----------+ | RHEL9 | PASS | +-------------------+----------+ | Ubuntu 22.04 | PASS | +-------------------+----------+ | RHEL8 | PASS | +-------------------+----------+ | Ubuntu 24.04 | PASS | +-------------------+----------+ | CentOS Stream 9 | PASS | +-------------------+----------+ Debian Bullseye Kernel: Depends on container host Compiler: gcc (Debian 10.2.1-6) 10.2.1 20210110 CentOS Stream 10 Kernel: Depends on container host Compiler: gcc 14.2.1 20241104 (Red Hat 14.2.1-6) Fedora 41 (Clang) Kernel: Depends on container host Compiler: clang 19.1.5 (Fedora 19.1.5-1.fc41) Debian 12 Kernel: Depends on container host Compiler: gcc (Debian 12.2.0-14) 12.2.0 Fedora 40 Kernel: Depends on container host Compiler: gcc 14.2.1 20240912 (Red Hat 14.2.1-3) Fedora 40 (Clang) Kernel: Depends on container host Compiler: clang 18.1.8 (Fedora 18.1.8-1.fc40) openSUSE Leap 15 Kernel: Depends on container host Compiler: gcc (SUSE Linux) 7.5.0 Fedora 41 Kernel: Depends on container host Compiler: gcc 14.2.1 20240912 (Red Hat 14.2.1-3) RHEL9 Kernel: Depends on container host Compiler: gcc 11.5.0 20240719 (Red Hat 11.5.0-2) Ubuntu 22.04 Kernel: Depends on container host Compiler: gcc (Ubuntu 11.4.0-1ubuntu1~22.04) 11.4.0 RHEL8 Kernel: Depends on container host Compiler: gcc 8.5.0 20210514 (Red Hat 8.5.0-22) Ubuntu 24.04 Kernel: Depends on container host Compiler: gcc (Ubuntu 13.3.0-6ubuntu2~24.04) 13.3.0 CentOS Stream 9 Kernel: Depends on container host Compiler: gcc 11.5.0 20240719 (Red Hat 11.5.0-2) To view detailed results, visit: https://lab.dpdk.org/results/dashboard/patchsets/32634/ UNH-IOL DPDK Community Lab To manage your email subscriptions, visit: https://lab.dpdk.org/results/dashboard/preferences/subscriptions/