From mboxrd@z Thu Jan 1 00:00:00 1970 Return-Path: Received: from mails.dpdk.org (mails.dpdk.org [217.70.189.124]) by inbox.dpdk.org (Postfix) with ESMTP id 3D37646279 for ; Fri, 21 Feb 2025 11:58:21 +0100 (CET) Received: from mails.dpdk.org (localhost [127.0.0.1]) by mails.dpdk.org (Postfix) with ESMTP id 19286402D3; Fri, 21 Feb 2025 11:58:21 +0100 (CET) Received: from mail-pl1-f228.google.com (mail-pl1-f228.google.com [209.85.214.228]) by mails.dpdk.org (Postfix) with ESMTP id 1FAA9402CC for ; Fri, 21 Feb 2025 11:58:20 +0100 (CET) Received: by mail-pl1-f228.google.com with SMTP id d9443c01a7336-220c8cf98bbso42036415ad.1 for ; Fri, 21 Feb 2025 02:58:20 -0800 (PST) DKIM-Signature: v=1; a=rsa-sha256; c=relaxed/relaxed; d=iol.unh.edu; s=unh-iol; t=1740135499; x=1740740299; darn=dpdk.org; h=cc:to:from:subject:message-id:date:from:to:cc:subject:date :message-id:reply-to; bh=FqgFtXz67LkYYYLVqyYGXT3xX3peRM16n/Dp35SPCd0=; b=IQZWnzwyH58F3ybZUOc0ckJEzfSgYsAGplzsJ+YBI4jSNZ9HqHLOv/jV0ndvrMMDbd 13OLwMTR5A1Rsv87vf8W8k+81XKbicKIA5pUKKdtaResgpfU4FtHjw+8BZ1gsvFJp0gS qSua27/A+osVWGC0eAnysqEAVJ6Uyd/mUH9Co= X-Google-DKIM-Signature: v=1; a=rsa-sha256; c=relaxed/relaxed; d=1e100.net; s=20230601; t=1740135499; x=1740740299; h=cc:to:from:subject:message-id:date:x-gm-message-state:from:to:cc :subject:date:message-id:reply-to; bh=FqgFtXz67LkYYYLVqyYGXT3xX3peRM16n/Dp35SPCd0=; b=ipWTdSfaS0/CZ4rpRD2egd9DQoJQhntdOoCoA/PNfwJYtMCo6BESLU63C5EY7Pbu8V kGyPIOHxmNkBYbA4CLLBqgpyDX4cGUVwqRo3xuKcKRs+SF4yQS3Wa/9SBGHzG/Ok9Ad7 zVJL/PinNvdn+z1SKiT9xme0+2uvXZkrTAEL3O+M+R+sWjGpZz63gNXWHAWfuNFAknxY 5TZ3sRxp9j45zJWxlK6cCtZ42QvDyCr9dKvWMUyERms+rmsIDgmEbTlXWB0ZoqPQ/IYT EK5QGPKFh9QsqdSML4EP2XQ+1Y65DPuoF43Ob3/Yluz29o9S3jFyd5HObkAJJMltInQG kMzQ== X-Gm-Message-State: AOJu0YxkY8V/WE6vnSiNXrFK4sJsLvT5BU+1N0vu7/JiHPLmUFe70ReD k5PXqw6ubsSt3Ofvaii+Yg6a4aFOKl0/c4FjeaP2xpyMF5ccim48RU1OHfSNRF9Fm9NzUHOkKnB E9TSCtYBmwftn/tl8SGKCkm9ONn6003Ha X-Gm-Gg: ASbGncvPF06DAiW38vGN9otYZRZYfx2NgTsSOCKS++ILHcKzRO6Y01m7pxNySY/xHtv sRoRsOqpbpT1V2Q/ssdUQ/sm3rNwmmKRekyc5YLIY/DNRCm8oR3dJqz+G83FVxkvyBEyx4HrylZ 9UtAqLDQi+e8BlPlhw0HzZz9yNXBLdjk+IQ/8qStjJScyvSiY7Vkk+3d7I0yu106sRuDdoG6lSJ 6hOKkNGDL6+TSIl7mFwITa5+h5H5Cd0D0Vr1oS3BVoR5ePNEVk3aRht5noEWErhQ5HynFCCymaO c5vE32KBH3p3WsgTUESXgFghc4w+MC24AUJ3w/Lw X-Google-Smtp-Source: AGHT+IFf2ytTY7/tZSKyw6d9rNy5dxqdapAGZDN77ydKN+G7qaUDoCAfUK5nD9d/dQctCJZrdAdj6hNXyUma X-Received: by 2002:a17:902:e546:b0:220:cd9a:a167 with SMTP id d9443c01a7336-221a0ec3cf2mr49013245ad.4.1740135499303; Fri, 21 Feb 2025 02:58:19 -0800 (PST) Received: from postal.iol.unh.edu (postal.iol.unh.edu. [132.177.123.84]) by smtp-relay.gmail.com with ESMTPS id d9443c01a7336-220d53f9f5bsm7759245ad.76.2025.02.21.02.58.19 (version=TLS1_2 cipher=ECDHE-ECDSA-AES128-GCM-SHA256 bits=128/128); Fri, 21 Feb 2025 02:58:19 -0800 (PST) X-Relaying-Domain: iol.unh.edu Date: Fri, 21 Feb 2025 02:58:19 -0800 (PST) Message-ID: <67b85c4b.170a0220.198f54.5851SMTPIN_ADDED_MISSING@mx.google.com> Received: from [172.21.0.7] (unknown [172.18.0.240]) by postal.iol.unh.edu (Postfix) with ESMTP id A277B6052471; Fri, 21 Feb 2025 05:58:15 -0500 (EST) Subject: |SUCCESS| [GIT MASTER] 39594cdfcb730ea667370b1e304313d10996aff3 From: dpdklab@iol.unh.edu To: Test Report Cc: dpdk-test-reports@iol.unh.edu, Xueming Li , Christian Ehrhardt , Kevin Traynor , Luca Boccassi Content-Type: text/plain X-BeenThere: test-report@dpdk.org X-Mailman-Version: 2.1.29 Precedence: list List-Id: automatic DPDK test reports List-Unsubscribe: , List-Archive: List-Post: List-Help: List-Subscribe: , Errors-To: test-report-bounces@dpdk.org _Testing PASS_ Branch: tags/v24.11 39594cdfcb730ea667370b1e304313d10996aff3 --> testing pass Upstream job id: Generic-VM-Unit-Test-DPDK#27306 Test environment and result as below: +---------------------+----------------+ | Environment | dpdk_unit_test | +=====================+================+ | CentOS Stream 10 | PASS | +---------------------+----------------+ | Fedora 40 (Clang) | PASS | +---------------------+----------------+ | Ubuntu 20.04 | PASS | +---------------------+----------------+ | Windows Server 2022 | PASS | +---------------------+----------------+ CentOS Stream 10 Kernel: Depends on container host Compiler: gcc 14.2.1 20241104 (Red Hat 14.2.1-6) Fedora 40 (Clang) Kernel: Depends on container host Compiler: clang 18.1.8 (Fedora 18.1.8-1.fc40) Ubuntu 20.04 Kernel: Depends on container host Compiler: gcc (Ubuntu 9.4.0-1ubuntu1~20.04.2) 9.4.0 Windows Server 2022 Kernel: 10.0.20348.2031 Compiler: clang 15.0.7, gcc 14.1.0 (MinGW), and MSVC VS 19.39.33521 To view detailed results, visit: https://lab.dpdk.org/results/dashboard/tarballs/32650/ UNH-IOL DPDK Community Lab To manage your email subscriptions, visit: https://lab.dpdk.org/results/dashboard/preferences/subscriptions/