From mboxrd@z Thu Jan 1 00:00:00 1970 Return-Path: Received: from mails.dpdk.org (mails.dpdk.org [217.70.189.124]) by inbox.dpdk.org (Postfix) with ESMTP id 58FA646279 for ; Fri, 21 Feb 2025 12:00:12 +0100 (CET) Received: from mails.dpdk.org (localhost [127.0.0.1]) by mails.dpdk.org (Postfix) with ESMTP id 5128E402ED; Fri, 21 Feb 2025 12:00:12 +0100 (CET) Received: from mail-pl1-f227.google.com (mail-pl1-f227.google.com [209.85.214.227]) by mails.dpdk.org (Postfix) with ESMTP id C7B8F402D3 for ; Fri, 21 Feb 2025 12:00:11 +0100 (CET) Received: by mail-pl1-f227.google.com with SMTP id d9443c01a7336-219f8263ae0so40467305ad.0 for ; Fri, 21 Feb 2025 03:00:11 -0800 (PST) DKIM-Signature: v=1; a=rsa-sha256; c=relaxed/relaxed; d=iol.unh.edu; s=unh-iol; t=1740135611; x=1740740411; darn=dpdk.org; h=references:in-reply-to:cc:to:from:subject:message-id:date:from:to :cc:subject:date:message-id:reply-to; bh=tnn34ncCpkeSjUcXxR0DNjLW9OCcRlgmU5+UwCeVWXw=; b=B3Songs3wn0B3QlPIaAkFBLHymZnzZFTsSK7d/jNt0Ye0an6QZKuQXc/5zaPuZZAFc Ki1yP70dXppQ+VA8gGxQEdXI/2MZWctrif4HMIKYhZdcRBU+iZLitgon0DEoRhlBVOAi WI4dYnoBBEC3W1J6SvhxaUP5rsl7pgRrzmr0Q= X-Google-DKIM-Signature: v=1; a=rsa-sha256; c=relaxed/relaxed; d=1e100.net; s=20230601; t=1740135611; x=1740740411; h=references:in-reply-to:cc:to:from:subject:message-id:date :x-gm-message-state:from:to:cc:subject:date:message-id:reply-to; bh=tnn34ncCpkeSjUcXxR0DNjLW9OCcRlgmU5+UwCeVWXw=; b=CDLDHhCFqbgk2k9DeKMvL7QmldspMvuPktIF6Q6h0BJ0ZxqEfiFQtknuyKLozRaDN4 7fxlAyHi5UMsJnnz2r2CUJxMBqEB9fFMHNif9WjhDfdgP9PSMlrge2BGs+SlOQYwJ7/+ fp2r1P34f+7kQjm8wi+nwJOTNE3bDWGZE8fIRRimSV+fZqmdPULjn9DCRFqQzFhi3GuG SDi/7YnpNf5C+LtwaZbgGMXJDzSy+1ose9Zsa+adwt5LHAA+bNVRJ0u/gPkhcocBUcCd VE2gtdqB4bCHS4R3QjQoMM4HwpzpMrgebJweISjXJWqbBynqN9qxC7aCJMixnSa5osK3 B9UQ== X-Gm-Message-State: AOJu0YwfUX/vDXzok8/t7UwSq2L88yfe5HOpRa9Y/ReS2dJ2hDxuS3ZX bD6BGamGoAAyamLBet9oe/ccdyFqiFc0K8V+0PhNWE6GVgxILecFxeRydkRUuNTEFidC/pH+L0z dFjazD/zU9uTR6jgU4vE+zzNYiVklm4Dso5Oit2JoT9PhplP50oyhWdE0 X-Gm-Gg: ASbGncseJLIp3/6tI88HsLqJQpxcXWnDPNCIScDRdxir0t5+qPeaxMfZTATxWdz2OSi mCrDwCt/FXfKy4vhyUvq+IO3GBx29RKmJiv151VrU/SPNdSWqlPP3zim1Vts2ftRDMNKv4OSeA4 B6LxK8Xl6FisUvP/Nh2vMxEo4JQ32a3wBNAT27TgS3WZad+h232L0u8E9b8RhlK7bsHOoLliCMb atDdaDw+a0Q1ubvb3SWpAhKakVEdf9PQsn4viNzvz982fyVPoSkjpDPnXq5gLLOCxLMPl76IfMd cOkFyS5A+I0nwCXmqVTJSrIB3HpaJWs+48zmRH/gR9nWx/gqHFie X-Google-Smtp-Source: AGHT+IFb+xEazgcpEXLIZLuBu7gEPDBejJ5ohNgqPqLFdrlRuNt68/yJm02wXOEvMt54dhk50CZxmHpoGT34 X-Received: by 2002:a05:6a21:7a8e:b0:1ee:efb2:f683 with SMTP id adf61e73a8af0-1eef52f804dmr4745022637.20.1740135610235; Fri, 21 Feb 2025 03:00:10 -0800 (PST) Received: from postal.iol.unh.edu (postal.iol.unh.edu. [2606:4100:3880:1234::84]) by smtp-relay.gmail.com with ESMTPS id 41be03b00d2f7-adfa73d2638sm628961a12.10.2025.02.21.03.00.10 (version=TLS1_2 cipher=ECDHE-ECDSA-AES128-GCM-SHA256 bits=128/128); Fri, 21 Feb 2025 03:00:10 -0800 (PST) X-Relaying-Domain: iol.unh.edu Date: Fri, 21 Feb 2025 03:00:10 -0800 (PST) Message-ID: <67b85cba.630a0220.25b4f4.ff11SMTPIN_ADDED_MISSING@mx.google.com> Received: from [172.21.0.7] (unknown [172.18.0.240]) by postal.iol.unh.edu (Postfix) with ESMTP id 0F2896052471; Fri, 21 Feb 2025 06:00:07 -0500 (EST) Subject: |SUCCESS| pw151574 [PATCH] config/arm: update NVIDIA BlueField-3 con From: dpdklab@iol.unh.edu To: Test Report Cc: dpdk-test-reports@iol.unh.edu In-Reply-To: <20250218104942.81984-1-getelson@nvidia.com> References: <20250218104942.81984-1-getelson@nvidia.com> Content-Type: text/plain X-BeenThere: test-report@dpdk.org X-Mailman-Version: 2.1.29 Precedence: list List-Id: automatic DPDK test reports List-Unsubscribe: , List-Archive: List-Post: List-Help: List-Subscribe: , Errors-To: test-report-bounces@dpdk.org Test-Label: iol-compile-amd64-testing Test-Status: SUCCESS http://dpdk.org/patch/151574 _Testing PASS_ Submitter: Gregory Etelson Date: Tuesday, February 18 2025 10:49:42 DPDK git baseline: Repo:dpdk Branch: master CommitID:e5176f23ae8b31437c3e5eb875c81f95bf3a9942 151574 --> testing pass Upstream job id: Windows-Compile-DPDK-Native#26810 Test environment and result as below: +---------------------+--------------------+-------------------+------------------+-------------------+-------------------------+----------------------+ | Environment | dpdk_meson_compile | dpdk_compile_spdk | dpdk_compile_ovs | dpdk_msvc_compile | dpdk_llvm_clang_compile | dpdk_mingw64_compile | +=====================+====================+===================+==================+===================+=========================+======================+ | CentOS Stream 9 | PASS | PASS | SKIPPED | SKIPPED | SKIPPED | SKIPPED | +---------------------+--------------------+-------------------+------------------+-------------------+-------------------------+----------------------+ | Debian Bullseye | PASS | PASS | SKIPPED | SKIPPED | SKIPPED | SKIPPED | +---------------------+--------------------+-------------------+------------------+-------------------+-------------------------+----------------------+ | Debian 12 | PASS | PASS | SKIPPED | SKIPPED | SKIPPED | SKIPPED | +---------------------+--------------------+-------------------+------------------+-------------------+-------------------------+----------------------+ | Fedora 40 (Clang) | PASS | PASS | SKIPPED | SKIPPED | SKIPPED | SKIPPED | +---------------------+--------------------+-------------------+------------------+-------------------+-------------------------+----------------------+ | Fedora 40 | PASS | PASS | SKIPPED | SKIPPED | SKIPPED | SKIPPED | +---------------------+--------------------+-------------------+------------------+-------------------+-------------------------+----------------------+ | Fedora 41 | PASS | PASS | PASS | SKIPPED | SKIPPED | SKIPPED | +---------------------+--------------------+-------------------+------------------+-------------------+-------------------------+----------------------+ | openSUSE Leap 15 | PASS | SKIPPED | SKIPPED | SKIPPED | SKIPPED | SKIPPED | +---------------------+--------------------+-------------------+------------------+-------------------+-------------------------+----------------------+ | RHEL8 | PASS | SKIPPED | SKIPPED | SKIPPED | SKIPPED | SKIPPED | +---------------------+--------------------+-------------------+------------------+-------------------+-------------------------+----------------------+ | RHEL9 | PASS | SKIPPED | SKIPPED | SKIPPED | SKIPPED | SKIPPED | +---------------------+--------------------+-------------------+------------------+-------------------+-------------------------+----------------------+ | Ubuntu 20.04 | PASS | SKIPPED | SKIPPED | SKIPPED | SKIPPED | SKIPPED | +---------------------+--------------------+-------------------+------------------+-------------------+-------------------------+----------------------+ | Ubuntu 22.04 | PASS | PASS | SKIPPED | SKIPPED | SKIPPED | SKIPPED | +---------------------+--------------------+-------------------+------------------+-------------------+-------------------------+----------------------+ | Ubuntu 24.04 | PASS | PASS | PASS | SKIPPED | SKIPPED | SKIPPED | +---------------------+--------------------+-------------------+------------------+-------------------+-------------------------+----------------------+ | Alpine | PASS | SKIPPED | SKIPPED | SKIPPED | SKIPPED | SKIPPED | +---------------------+--------------------+-------------------+------------------+-------------------+-------------------------+----------------------+ | FreeBSD 14.2 | PASS | SKIPPED | SKIPPED | SKIPPED | SKIPPED | SKIPPED | +---------------------+--------------------+-------------------+------------------+-------------------+-------------------------+----------------------+ | CentOS Stream 10 | PASS | SKIPPED | SKIPPED | SKIPPED | SKIPPED | SKIPPED | +---------------------+--------------------+-------------------+------------------+-------------------+-------------------------+----------------------+ | Fedora 41 (Clang) | PASS | PASS | PASS | SKIPPED | SKIPPED | SKIPPED | +---------------------+--------------------+-------------------+------------------+-------------------+-------------------------+----------------------+ | FreeBSD 13.4 | PASS | SKIPPED | SKIPPED | SKIPPED | SKIPPED | SKIPPED | +---------------------+--------------------+-------------------+------------------+-------------------+-------------------------+----------------------+ | Windows Server 2022 | SKIPPED | SKIPPED | SKIPPED | PASS | PASS | PASS | +---------------------+--------------------+-------------------+------------------+-------------------+-------------------------+----------------------+ CentOS Stream 9 Kernel: Depends on container host Compiler: gcc 11.5.0 20240719 (Red Hat 11.5.0-2) Debian Bullseye Kernel: Depends on container host Compiler: gcc (Debian 10.2.1-6) 10.2.1 20210110 Debian 12 Kernel: Depends on container host Compiler: gcc (Debian 12.2.0-14) 12.2.0 Fedora 40 (Clang) Kernel: Depends on container host Compiler: clang 18.1.8 (Fedora 18.1.8-1.fc40) Fedora 40 Kernel: Depends on container host Compiler: gcc 14.2.1 20240912 (Red Hat 14.2.1-3) Fedora 41 Kernel: Depends on container host Compiler: gcc 14.2.1 20240912 (Red Hat 14.2.1-3) openSUSE Leap 15 Kernel: Depends on container host Compiler: gcc (SUSE Linux) 7.5.0 RHEL8 Kernel: Depends on container host Compiler: gcc 8.5.0 20210514 (Red Hat 8.5.0-22) RHEL9 Kernel: Depends on container host Compiler: gcc 11.5.0 20240719 (Red Hat 11.5.0-2) Ubuntu 20.04 Kernel: Depends on container host Compiler: gcc (Ubuntu 9.4.0-1ubuntu1~20.04.2) 9.4.0 Ubuntu 22.04 Kernel: Depends on container host Compiler: gcc (Ubuntu 11.4.0-1ubuntu1~22.04) 11.4.0 Ubuntu 24.04 Kernel: Depends on container host Compiler: gcc (Ubuntu 13.3.0-6ubuntu2~24.04) 13.3.0 Alpine Kernel: Depends on container host Compiler: gcc (Alpine 14.2.0) 14.2.0 FreeBSD 14.2 Kernel: 14.2-RELEASE Compiler: clang 18.1.6 CentOS Stream 10 Kernel: Depends on container host Compiler: gcc 14.2.1 20241104 (Red Hat 14.2.1-6) Fedora 41 (Clang) Kernel: Depends on container host Compiler: clang 19.1.5 (Fedora 19.1.5-1.fc41) FreeBSD 13.4 Kernel: 13.4-RELEASE-p1 Compiler: clang 18.1.6 Windows Server 2022 Kernel: 10.0.20348.2031 Compiler: clang 15.0.7, gcc 14.1.0 (MinGW), and MSVC VS 19.39.33521 To view detailed results, visit: https://lab.dpdk.org/results/dashboard/patchsets/32600/ UNH-IOL DPDK Community Lab To manage your email subscriptions, visit: https://lab.dpdk.org/results/dashboard/preferences/subscriptions/