From mboxrd@z Thu Jan 1 00:00:00 1970 Return-Path: Received: from mails.dpdk.org (mails.dpdk.org [217.70.189.124]) by inbox.dpdk.org (Postfix) with ESMTP id D3C2B4627B for ; Fri, 21 Feb 2025 12:46:59 +0100 (CET) Received: from mails.dpdk.org (localhost [127.0.0.1]) by mails.dpdk.org (Postfix) with ESMTP id CA2FA402CC; Fri, 21 Feb 2025 12:46:59 +0100 (CET) Received: from mail-il1-f225.google.com (mail-il1-f225.google.com [209.85.166.225]) by mails.dpdk.org (Postfix) with ESMTP id 5ADA3402BB for ; Fri, 21 Feb 2025 12:46:58 +0100 (CET) Received: by mail-il1-f225.google.com with SMTP id e9e14a558f8ab-3cfe17f75dfso17821525ab.2 for ; Fri, 21 Feb 2025 03:46:58 -0800 (PST) DKIM-Signature: v=1; a=rsa-sha256; c=relaxed/relaxed; d=iol.unh.edu; s=unh-iol; t=1740138417; x=1740743217; darn=dpdk.org; h=cc:to:from:subject:message-id:date:from:to:cc:subject:date :message-id:reply-to; bh=SJeSl7zDQW5gzPQt6WWoVVSWDG28DTeYmmC2cwAplPg=; b=TrA9cNZPLcJ39/bknkhVwZk2iTORf/ccvdMaKErub+/MRXwSLZyQKbmCWMcEQgtiwm 3E96AfJpQSLWsZ9lkAKqFNSmKZT2NPZE0AJe7OyAXH/zghp7utAxMwq3oPez4p3LCE/k XJEtgG/Dm262smTZlADBjlUNM7io3ymyszhSc= X-Google-DKIM-Signature: v=1; a=rsa-sha256; c=relaxed/relaxed; d=1e100.net; s=20230601; t=1740138417; x=1740743217; h=cc:to:from:subject:message-id:date:x-gm-message-state:from:to:cc :subject:date:message-id:reply-to; bh=SJeSl7zDQW5gzPQt6WWoVVSWDG28DTeYmmC2cwAplPg=; b=vK0Xav2VymmRdlQ5XkxW8uKIbLsUJXdgTANCtMd+1fQWvVdrPxgezEmH71XDbK5Ffv SSKlaMEcPhQgogDSX/i22aIacsHnXyaqRe0Jbg0LghuyVQ3OKnu4ISwfnfCbNmzj3Qn9 3MWJeUJN/o5FX4xRwk65WKv8W8HOyDPlRGADmv4nlkomtefnNR6cgiECZLNASn081TZt LzJFw0YLIJklgYKRTWNgAPZCUlvD+VoV12/rsXsOQ6IEEhCE4E4CEdoKKu7HJlZ7zUws I3ryBC/fYdnzo8+sX0Z1VX7V5LZGteZVkDAhMsVu3fY6WXJfV+lM4Xr/8hAmcnsAvmKt tpwQ== X-Gm-Message-State: AOJu0YwejiKM7Ffda/5qLAUdcKp1TFuk34UhlzzqbdlhsHiXkUoHCL3V mdP/77fNsQGIIi6AOKVKAh/A4hrnhIA963x5jZ/PVc8H8UZY1GBjxrlbCPEzfWRNDgqmlP/rp57 +V+AiNld/2ro7Zt02r7IfRPoldtfkTPgqNalFTTJfbrwz0vZ8 X-Gm-Gg: ASbGncs7lCttivG7LgmSX7SnfGj3dtbFBC1SXR4TKRzVJ5l7CnyH8D103HJIP1OyETQ YScluauYwCwCk0Omht7ED3/iLMZxgo3iOJz46l+aZNp5ua5w8pY83EyKu446lPO3WjLCGgkQ9LJ YcaYID5BHkeXfHO9+8xXp7LlyPGdO4aAn2BBWplyhwJ/wF/QAtPDQg/AAWXtlR3Ga7poL6acUNz g/EI/r1olmc0kZaAKwyf4+DVBO2k734shMOHhFHscLxuqB7r+0x9nv8QHWvsgimucIoJx8q2K8R Z9fHrzvj2W5qqsoTEuZIDqBDu74UMqaqQW0SS/8c751lUk49K67E X-Google-Smtp-Source: AGHT+IE/KQPXP4qMbOmnBxi6di67GGHHqA7dl96tCx3ULvv/KDH7wNs1cAXuPfQPNVp/hDIxBIghyNbnnMGl X-Received: by 2002:a05:6e02:320d:b0:3d2:b66b:94cd with SMTP id e9e14a558f8ab-3d2cb43252amr28022465ab.3.1740138417609; Fri, 21 Feb 2025 03:46:57 -0800 (PST) Received: from postal.iol.unh.edu (postal.iol.unh.edu. [2606:4100:3880:1234::84]) by smtp-relay.gmail.com with ESMTPS id 8926c6da1cb9f-4ee94d98801sm765820173.48.2025.02.21.03.46.57 (version=TLS1_2 cipher=ECDHE-ECDSA-AES128-GCM-SHA256 bits=128/128); Fri, 21 Feb 2025 03:46:57 -0800 (PST) X-Relaying-Domain: iol.unh.edu Date: Fri, 21 Feb 2025 03:46:57 -0800 (PST) Message-ID: <67b867b1.050a0220.397568.675bSMTPIN_ADDED_MISSING@mx.google.com> Received: from [172.17.0.6] (unknown [172.18.0.217]) by postal.iol.unh.edu (Postfix) with ESMTP id 0F84A6052472; Fri, 21 Feb 2025 06:46:49 -0500 (EST) Subject: |SUCCESS| [GIT MASTER] c66daa12e76d7b4912cfb7109a761856a7a873ab From: dpdklab@iol.unh.edu To: Test Report Cc: dpdk-test-reports@iol.unh.edu, Xueming Li , Christian Ehrhardt , Kevin Traynor , Luca Boccassi Content-Type: text/plain X-BeenThere: test-report@dpdk.org X-Mailman-Version: 2.1.29 Precedence: list List-Id: automatic DPDK test reports List-Unsubscribe: , List-Archive: List-Post: List-Help: List-Subscribe: , Errors-To: test-report-bounces@dpdk.org _Testing PASS_ Branch: tags/v23.11 c66daa12e76d7b4912cfb7109a761856a7a873ab --> testing pass Upstream job id: Generic-DPDK-Compile-Meson#363907 Test environment and result as below: +------------------------------------+--------------------+ | Environment | dpdk_meson_compile | +====================================+====================+ | RHEL9 (ARM) | PASS | +------------------------------------+--------------------+ | Ubuntu 20.04 ARM GCC Cross Compile | PASS | +------------------------------------+--------------------+ | Fedora 40 (ARM) | PASS | +------------------------------------+--------------------+ | Ubuntu 20.04 ARM SVE | PASS | +------------------------------------+--------------------+ | Fedora 40 (ARM Clang) | PASS | +------------------------------------+--------------------+ | Ubuntu 22.04 (ARM) | PASS | +------------------------------------+--------------------+ | Fedora 41 (ARM) | PASS | +------------------------------------+--------------------+ | Ubuntu 20.04 (ARM) | PASS | +------------------------------------+--------------------+ | Fedora 41 (ARM Clang) | PASS | +------------------------------------+--------------------+ | CentOS Stream 9 (ARM) | PASS | +------------------------------------+--------------------+ | Ubuntu 24.04 (ARM) | PASS | +------------------------------------+--------------------+ | CentOS Stream 10 (ARM) | PASS | +------------------------------------+--------------------+ | Debian 12 (arm) | PASS | +------------------------------------+--------------------+ | Debian 12 with MUSDK | PASS | +------------------------------------+--------------------+ | Debian 11 (Buster) (ARM) | PASS | +------------------------------------+--------------------+ RHEL9 (ARM) Kernel: Depends on container host Compiler: gcc 11.5.0 20240719 (Red Hat 11.5.0-2) Ubuntu 20.04 ARM GCC Cross Compile Kernel: Depends on container host Compiler: aarch64-linux-gnu-gcc (Ubuntu 9.4.0-1ubuntu1~20.04.2) 9.4.0 Fedora 40 (ARM) Kernel: Depends on container host Compiler: gcc 14.2.1 20240912 (Red Hat 14.2.1-3) Ubuntu 20.04 ARM SVE Kernel: Depends on container host Compiler: gcc (Ubuntu 10.5.0-1ubuntu1~20.04) 10.5.0 Fedora 40 (ARM Clang) Kernel: Depends on container host Compiler: clang 18.1.8 (Fedora 18.1.8-1.fc40) Ubuntu 22.04 (ARM) Kernel: Depends on container host Compiler: gcc (Ubuntu 11.4.0-1ubuntu1~22.04) 11.4.0 Fedora 41 (ARM) Kernel: Depends on container host Compiler: gcc 14.2.1 20240912 (Red Hat 14.2.1-3) Ubuntu 20.04 (ARM) Kernel: Depends on container host Compiler: gcc (Ubuntu 9.4.0-1ubuntu1~20.04.2) 9.4.0 Fedora 41 (ARM Clang) Kernel: Depends on container host Compiler: clang 19.1.5 (Fedora 19.1.5-1.fc41) CentOS Stream 9 (ARM) Kernel: Depends on container host Compiler: gcc 11.5.0 20240719 (Red Hat 11.5.0-2) Ubuntu 24.04 (ARM) Kernel: Depends on container host Compiler: gcc (Ubuntu 13.3.0-6ubuntu2~24.04) 13.3.0 CentOS Stream 10 (ARM) Kernel: Depends on container host Compiler: gcc 14.2.1 20241104 (Red Hat 14.2.1-6) Debian 12 (arm) Kernel: Depends on container host Compiler: gcc (Debian 12.2.0-14) 12.2.0 Debian 12 with MUSDK Kernel: Depends on container host Compiler: gcc (Debian 12.2.0-14) 12.2.0 Debian 11 (Buster) (ARM) Kernel: Depends on container host Compiler: gcc (Debian 10.2.1-6) 10.2.1 20210110 To view detailed results, visit: https://lab.dpdk.org/results/dashboard/tarballs/32651/ UNH-IOL DPDK Community Lab To manage your email subscriptions, visit: https://lab.dpdk.org/results/dashboard/preferences/subscriptions/