From mboxrd@z Thu Jan 1 00:00:00 1970 Return-Path: Received: from mails.dpdk.org (mails.dpdk.org [217.70.189.124]) by inbox.dpdk.org (Postfix) with ESMTP id 9E3F14627B for ; Fri, 21 Feb 2025 13:05:06 +0100 (CET) Received: from mails.dpdk.org (localhost [127.0.0.1]) by mails.dpdk.org (Postfix) with ESMTP id 92DB4402CC; Fri, 21 Feb 2025 13:05:06 +0100 (CET) Received: from mail-io1-f97.google.com (mail-io1-f97.google.com [209.85.166.97]) by mails.dpdk.org (Postfix) with ESMTP id AB1A4402BB for ; Fri, 21 Feb 2025 13:05:04 +0100 (CET) Received: by mail-io1-f97.google.com with SMTP id ca18e2360f4ac-855bd88ee2cso54618239f.0 for ; Fri, 21 Feb 2025 04:05:04 -0800 (PST) DKIM-Signature: v=1; a=rsa-sha256; c=relaxed/relaxed; d=iol.unh.edu; s=unh-iol; t=1740139504; x=1740744304; darn=dpdk.org; h=references:in-reply-to:cc:to:from:subject:message-id:date:from:to :cc:subject:date:message-id:reply-to; bh=Uzeg97U1p/t1+gKMgs24Xg+qQ0oMDwDStafC79jG/Pw=; b=N3oxNefnTiCzwTLPBmJwLvrcTZFxeJnEDIWH3RSpPoQ0b87WnYXAHlvspHB1wJ/dr8 eG6oGgwlCd2rG19gWF9cwgQ6l71QuhgJz2YJ4Vt31Tg3gQcGtOHTyJq4f+mHt6SI6Miz Jl3pCGrb7stlB6QLwpRKwKLr5f/HeraqEt/rA= X-Google-DKIM-Signature: v=1; a=rsa-sha256; c=relaxed/relaxed; d=1e100.net; s=20230601; t=1740139504; x=1740744304; h=references:in-reply-to:cc:to:from:subject:message-id:date :x-gm-message-state:from:to:cc:subject:date:message-id:reply-to; bh=Uzeg97U1p/t1+gKMgs24Xg+qQ0oMDwDStafC79jG/Pw=; b=aIFrgdZy9SiIf98sY9IM3UCHsNg9PvNGIf2d2Lw7FlYGF1x3Us8WddDNUWOMaKNNF9 5nVg4OKpIIvHQpSojq8YcpM6RBJMHa4AvLUcxXtUhwLh1e6M1kPdRLZexzicV4j584n0 rFZzY7NLKAfxrh7HAJHO8DzWLBNLwkVPYGH5XqunZhA/CZur/2aIZtbSLaI75XlFWhYr U96Uo6WMfcEESE1vNrUbKpToivho43Lc9l/ZXxP60CtHj2Y5vQos36q1vXoA7zvWB/+9 NUG0yl6utDcvR91ESHJKV9/sZRzGjoNJoR4c6juUSvFiczNKqPdgrB/C3NRG2MM4BJAC 1Jdg== X-Gm-Message-State: AOJu0YyHFvDXDa+GjKsfE1HLTDLfbTb/DA4GvxDBdEpUziXw6t6Hndat /NdaOrVJyve53mSLc9v/PY8L6vF+rbMohc1bfv0opdC7hVUERzhBnnjWAHO7sbYPN18FuiQer/H G6jasvMmdx7yRN9TnAK6mLyV9tk2ZghAV999/0G9b X-Gm-Gg: ASbGncusEmIJIs+yLTzT8P1DaIJ+4L1KzUCgMfq6Rj6uN9B5wE4gK197QHxIaD66btA 9z5yidUvEhRZDdyRN9rWVPnG5wnCB6dnn3SWUVTBCWHeK0DAzyw27Y4mm3CUeJ3e9mz0QZSzM2+ GuNqp7fr3niyLa3PiywGwss51H8SvzApKfhe1G4rCRm8JXY5596XpaCodAt0gXaZXnmHEt48Cxr dGzYLsqoHWoqWul4YFPz+cymI86gy56+enM4VBDuQBLCM5+mw5o2/To9af1hXSzZ+PstdnPNFSj JVKVqm1KYcd0XC/P9rpxW/1rPXTZLRJY1V0yRl6r X-Google-Smtp-Source: AGHT+IGwn1ellSrnI40Z0iGBvbK/Q6SztFcpc5K8bAij2t0bjP7Zq/q0w1EHpTMpKjbDEN8T/nGYV1E6Rcdk X-Received: by 2002:a05:6602:6b0b:b0:855:bf2b:adba with SMTP id ca18e2360f4ac-855dabb87a5mr284745039f.8.1740139503918; Fri, 21 Feb 2025 04:05:03 -0800 (PST) Received: from postal.iol.unh.edu (postal.iol.unh.edu. [132.177.123.84]) by smtp-relay.gmail.com with ESMTPS id ca18e2360f4ac-8558ffc6140sm46158539f.17.2025.02.21.04.05.03 (version=TLS1_2 cipher=ECDHE-ECDSA-AES128-GCM-SHA256 bits=128/128); Fri, 21 Feb 2025 04:05:03 -0800 (PST) X-Relaying-Domain: iol.unh.edu Date: Fri, 21 Feb 2025 04:05:03 -0800 (PST) Message-ID: <67b86bef.050a0220.1f11e0.697cSMTPIN_ADDED_MISSING@mx.google.com> Received: from [172.21.0.5] (unknown [172.18.0.240]) by postal.iol.unh.edu (Postfix) with ESMTP id A76606052471; Fri, 21 Feb 2025 07:04:54 -0500 (EST) Subject: |SUCCESS| pw151776-151791 [PATCH] [v2,16/16] net/zxdh: provide meter From: dpdklab@iol.unh.edu To: Test Report Cc: dpdk-test-reports@iol.unh.edu In-Reply-To: <20250221020346.494392-17-wang.junlong1@zte.com.cn> References: <20250221020346.494392-17-wang.junlong1@zte.com.cn> Content-Type: text/plain X-BeenThere: test-report@dpdk.org X-Mailman-Version: 2.1.29 Precedence: list List-Id: automatic DPDK test reports List-Unsubscribe: , List-Archive: List-Post: List-Help: List-Subscribe: , Errors-To: test-report-bounces@dpdk.org Test-Label: iol-unit-arm64-testing Test-Status: SUCCESS http://dpdk.org/patch/151791 _Testing PASS_ Submitter: Junlong Wang Date: Friday, February 21 2025 02:03:44 DPDK git baseline: Repo:dpdk Branch: master CommitID:3497d187f963e5fddca607637f6a42b8b944fa49 151776-151791 --> testing pass Upstream job id: Generic-Unit-Test-DPDK#317078 Test environment and result as below: +-----------------------------+----------------+--------------+------------------------------+---------------------------+ | Environment | dpdk_unit_test | lpm_autotest | cryptodev_sw_snow3g_autotest | cryptodev_sw_zuc_autotest | +=============================+================+==============+==============================+===========================+ | 32-bit Ubuntu 22.04.4 (ARM) | PASS | SKIPPED | SKIPPED | SKIPPED | +-----------------------------+----------------+--------------+------------------------------+---------------------------+ | CentOS Stream 9 (ARM) | PASS | SKIPPED | SKIPPED | SKIPPED | +-----------------------------+----------------+--------------+------------------------------+---------------------------+ | CentOS Stream 10 (ARM) | PASS | SKIPPED | SKIPPED | SKIPPED | +-----------------------------+----------------+--------------+------------------------------+---------------------------+ | Debian 12 (arm) | PASS | SKIPPED | PASS | PASS | +-----------------------------+----------------+--------------+------------------------------+---------------------------+ | Debian 11 (Buster) (ARM) | PASS | SKIPPED | SKIPPED | SKIPPED | +-----------------------------+----------------+--------------+------------------------------+---------------------------+ | Fedora 40 (ARM) | PASS | SKIPPED | SKIPPED | SKIPPED | +-----------------------------+----------------+--------------+------------------------------+---------------------------+ | Fedora 41 (ARM) | PASS | SKIPPED | SKIPPED | SKIPPED | +-----------------------------+----------------+--------------+------------------------------+---------------------------+ | Fedora 40 (ARM Clang) | PASS | SKIPPED | SKIPPED | SKIPPED | +-----------------------------+----------------+--------------+------------------------------+---------------------------+ | Fedora 41 (ARM Clang) | PASS | SKIPPED | SKIPPED | SKIPPED | +-----------------------------+----------------+--------------+------------------------------+---------------------------+ | Ubuntu 22.04 (ARM) | PASS | SKIPPED | SKIPPED | SKIPPED | +-----------------------------+----------------+--------------+------------------------------+---------------------------+ | RHEL9 (ARM) | PASS | SKIPPED | SKIPPED | SKIPPED | +-----------------------------+----------------+--------------+------------------------------+---------------------------+ | Ubuntu 20.04 (ARM) | PASS | SKIPPED | SKIPPED | SKIPPED | +-----------------------------+----------------+--------------+------------------------------+---------------------------+ | Ubuntu 24.04 (ARM) | PASS | SKIPPED | SKIPPED | SKIPPED | +-----------------------------+----------------+--------------+------------------------------+---------------------------+ | Ubuntu 20.04 ARM SVE | SKIPPED | PASS | SKIPPED | SKIPPED | +-----------------------------+----------------+--------------+------------------------------+---------------------------+ 32-bit Ubuntu 22.04.4 (ARM) Kernel: 5.15.83+ aarch64 Compiler: gcc (Ubuntu 11.4.0-1ubuntu1~22.04) 11.4.0 CentOS Stream 9 (ARM) Kernel: Depends on container host Compiler: gcc 11.5.0 20240719 (Red Hat 11.5.0-2) CentOS Stream 10 (ARM) Kernel: Depends on container host Compiler: gcc 14.2.1 20241104 (Red Hat 14.2.1-6) Debian 12 (arm) Kernel: Depends on container host Compiler: gcc (Debian 12.2.0-14) 12.2.0 Debian 11 (Buster) (ARM) Kernel: Depends on container host Compiler: gcc (Debian 10.2.1-6) 10.2.1 20210110 Fedora 40 (ARM) Kernel: Depends on container host Compiler: gcc 14.2.1 20240912 (Red Hat 14.2.1-3) Fedora 41 (ARM) Kernel: Depends on container host Compiler: gcc 14.2.1 20240912 (Red Hat 14.2.1-3) Fedora 40 (ARM Clang) Kernel: Depends on container host Compiler: clang 18.1.8 (Fedora 18.1.8-1.fc40) Fedora 41 (ARM Clang) Kernel: Depends on container host Compiler: clang 19.1.5 (Fedora 19.1.5-1.fc41) Ubuntu 22.04 (ARM) Kernel: Depends on container host Compiler: gcc (Ubuntu 11.4.0-1ubuntu1~22.04) 11.4.0 RHEL9 (ARM) Kernel: Depends on container host Compiler: gcc 11.5.0 20240719 (Red Hat 11.5.0-2) Ubuntu 20.04 (ARM) Kernel: Depends on container host Compiler: gcc (Ubuntu 9.4.0-1ubuntu1~20.04.2) 9.4.0 Ubuntu 24.04 (ARM) Kernel: Depends on container host Compiler: gcc (Ubuntu 13.3.0-6ubuntu2~24.04) 13.3.0 Ubuntu 20.04 ARM SVE Kernel: Depends on container host Compiler: gcc (Ubuntu 10.5.0-1ubuntu1~20.04) 10.5.0 To view detailed results, visit: https://lab.dpdk.org/results/dashboard/patchsets/32634/ UNH-IOL DPDK Community Lab To manage your email subscriptions, visit: https://lab.dpdk.org/results/dashboard/preferences/subscriptions/