From mboxrd@z Thu Jan 1 00:00:00 1970 Return-Path: Received: from mails.dpdk.org (mails.dpdk.org [217.70.189.124]) by inbox.dpdk.org (Postfix) with ESMTP id 4FEDC4627B for ; Fri, 21 Feb 2025 13:13:19 +0100 (CET) Received: from mails.dpdk.org (localhost [127.0.0.1]) by mails.dpdk.org (Postfix) with ESMTP id 2B4AD402CC; Fri, 21 Feb 2025 13:13:19 +0100 (CET) Received: from mail-pl1-f225.google.com (mail-pl1-f225.google.com [209.85.214.225]) by mails.dpdk.org (Postfix) with ESMTP id 69105402BB for ; Fri, 21 Feb 2025 13:13:17 +0100 (CET) Received: by mail-pl1-f225.google.com with SMTP id d9443c01a7336-22128b7d587so37813425ad.3 for ; Fri, 21 Feb 2025 04:13:17 -0800 (PST) DKIM-Signature: v=1; a=rsa-sha256; c=relaxed/relaxed; d=iol.unh.edu; s=unh-iol; t=1740139996; x=1740744796; darn=dpdk.org; h=references:in-reply-to:cc:to:from:subject:message-id:date:from:to :cc:subject:date:message-id:reply-to; bh=21EbXvDZf5zdZ1OkaDSx2P3YGxBQzKYjH9m1Uj7CjFI=; b=SelteQcVAf9cXZv21yIWC/6Gl5g9Bhge0/XVjyjT+oknP7j97sGXX4u0rUvpcvnYT7 5jwCZOr/g+UHEQRW0hVQuyeY/HcD7kx+ZAtxO4i631239QsMpvZo9m+NZq4fakAvaG41 Trxc0hPdyEx4tbrACf0XqljWMSgU3j994z34s= X-Google-DKIM-Signature: v=1; a=rsa-sha256; c=relaxed/relaxed; d=1e100.net; s=20230601; t=1740139996; x=1740744796; h=references:in-reply-to:cc:to:from:subject:message-id:date :x-gm-message-state:from:to:cc:subject:date:message-id:reply-to; bh=21EbXvDZf5zdZ1OkaDSx2P3YGxBQzKYjH9m1Uj7CjFI=; b=J7K2Dp6GOfFqWisuHkdPHy+rXq6NnC6wsz6JHbslayCIZ9SRCrcfD3s99iHED/3YLX 7PwQ4zd9VsXwe0iD4VMEljP2Hi2ODcAN42hWCbu6UhkdWmyCAT05WyxIxsEg9uH0F+lj THBHbOHiqJpfN0Y5WJ2o6cerwK9hnpb1Pvg4r7bL2Msc1yayW6xd8Cm9q1h4RUFLeRP+ yVFqJV9ugBYZVVr16b6Fjg1t3uMar92NMMffzen0lq0Cxy67kcGoW4Gv/xmc0k7n7hbD D/vc11Ds3+AV0jaIcPPeIr9u5Sjh963cmDzIqLtLG1z6/FTWZxLL8/KLFy1yX1UQKg8n 7Jkw== X-Gm-Message-State: AOJu0YwHZGXBgCOZZ6JVFVWDrOXvpadny0L84+9wgwekk/qhJMlunNLs 433Ad8YcMKzXeicO+847LwtskxUMQcPu2fFyEoEHWP99Y2PMBcb8DpZqnZaafV19tmUPIC1Dn67 vrcJOjs2eS+1ClHkqoO1y26c26zxAfyJo0zLq0Q9dyJYZ4bMoRgX8/IDE X-Gm-Gg: ASbGncvw/ttvZOwqu5+2AgXsbBjcQQuLUTIoIa2P6J9Chm1Wdy8VYwUXf2PUm+Zi4dF illvCMjpSX8ogUBzrAiFo/lnpOvAg7+yB9OAv1yGNlXQoWlHaTkfaWT6K6qsPC7iEEw8I7um5Lf k0G2CP5rz4cmzIazpAx+M80FLczmnB+UQZ75vgF0vWUeJuLK602x9j8thitgVVHevgttFu96Gw4 7MwbYpBgOImA3f+nLbMFqFuPK0mw6jCzJSI9OVbM2jv1E6jvvmSgjKcEIyz+ykVNnFq3ZL2xWmA XWTziMUePZ+8yGLye0yvTdshWu7IcjrzakeDYnfK5gGdI0/Bz66S X-Google-Smtp-Source: AGHT+IHERu+9rFRzJ3mMGWnaBL6OteRqDuRiTTnqGL98y1ZWNOOEpKyJu8OiYv7bRbbtLumD+/svVMzvSCTa X-Received: by 2002:a17:903:2290:b0:215:a434:b6ad with SMTP id d9443c01a7336-2219ffd3e76mr43930765ad.33.1740139996422; Fri, 21 Feb 2025 04:13:16 -0800 (PST) Received: from postal.iol.unh.edu (postal.iol.unh.edu. [2606:4100:3880:1234::84]) by smtp-relay.gmail.com with ESMTPS id 98e67ed59e1d1-2fceb0f844bsm91762a91.12.2025.02.21.04.13.16 (version=TLS1_2 cipher=ECDHE-ECDSA-AES128-GCM-SHA256 bits=128/128); Fri, 21 Feb 2025 04:13:16 -0800 (PST) X-Relaying-Domain: iol.unh.edu Date: Fri, 21 Feb 2025 04:13:16 -0800 (PST) Message-ID: <67b86ddc.170a0220.337557.4c77SMTPIN_ADDED_MISSING@mx.google.com> Received: from [172.17.0.4] (unknown [172.18.0.217]) by postal.iol.unh.edu (Postfix) with ESMTP id 1F42B6052471; Fri, 21 Feb 2025 07:13:07 -0500 (EST) Subject: |SUCCESS| pw151776-151791 [PATCH] [v2,16/16] net/zxdh: provide meter From: dpdklab@iol.unh.edu To: Test Report Cc: dpdk-test-reports@iol.unh.edu In-Reply-To: <20250221020346.494392-17-wang.junlong1@zte.com.cn> References: <20250221020346.494392-17-wang.junlong1@zte.com.cn> Content-Type: text/plain X-BeenThere: test-report@dpdk.org X-Mailman-Version: 2.1.29 Precedence: list List-Id: automatic DPDK test reports List-Unsubscribe: , List-Archive: List-Post: List-Help: List-Subscribe: , Errors-To: test-report-bounces@dpdk.org Test-Label: iol-abi-testing Test-Status: SUCCESS http://dpdk.org/patch/151791 _Testing PASS_ Submitter: Junlong Wang Date: Friday, February 21 2025 02:03:44 DPDK git baseline: Repo:dpdk Branch: master CommitID:3497d187f963e5fddca607637f6a42b8b944fa49 151776-151791 --> testing pass Upstream job id: Generic-DPDK-Compile-ABI#117109 Test environment and result as below: +-------------------+----------+ | Environment | abi_test | +===================+==========+ | CentOS Stream 9 | PASS | +-------------------+----------+ | CentOS Stream 10 | PASS | +-------------------+----------+ | Debian 12 | PASS | +-------------------+----------+ | Debian Bullseye | PASS | +-------------------+----------+ | Fedora 40 | PASS | +-------------------+----------+ | Fedora 40 (Clang) | PASS | +-------------------+----------+ | Fedora 41 (Clang) | PASS | +-------------------+----------+ | Fedora 41 | PASS | +-------------------+----------+ | openSUSE Leap 15 | PASS | +-------------------+----------+ | RHEL8 | PASS | +-------------------+----------+ | RHEL9 | PASS | +-------------------+----------+ | Ubuntu 24.04 | PASS | +-------------------+----------+ | Ubuntu 22.04 | PASS | +-------------------+----------+ CentOS Stream 9 Kernel: Depends on container host Compiler: gcc 11.5.0 20240719 (Red Hat 11.5.0-2) CentOS Stream 10 Kernel: Depends on container host Compiler: gcc 14.2.1 20241104 (Red Hat 14.2.1-6) Debian 12 Kernel: Depends on container host Compiler: gcc (Debian 12.2.0-14) 12.2.0 Debian Bullseye Kernel: Depends on container host Compiler: gcc (Debian 10.2.1-6) 10.2.1 20210110 Fedora 40 Kernel: Depends on container host Compiler: gcc 14.2.1 20240912 (Red Hat 14.2.1-3) Fedora 40 (Clang) Kernel: Depends on container host Compiler: clang 18.1.8 (Fedora 18.1.8-1.fc40) Fedora 41 (Clang) Kernel: Depends on container host Compiler: clang 19.1.5 (Fedora 19.1.5-1.fc41) Fedora 41 Kernel: Depends on container host Compiler: gcc 14.2.1 20240912 (Red Hat 14.2.1-3) openSUSE Leap 15 Kernel: Depends on container host Compiler: gcc (SUSE Linux) 7.5.0 RHEL8 Kernel: Depends on container host Compiler: gcc 8.5.0 20210514 (Red Hat 8.5.0-22) RHEL9 Kernel: Depends on container host Compiler: gcc 11.5.0 20240719 (Red Hat 11.5.0-2) Ubuntu 24.04 Kernel: Depends on container host Compiler: gcc (Ubuntu 13.3.0-6ubuntu2~24.04) 13.3.0 Ubuntu 22.04 Kernel: Depends on container host Compiler: gcc (Ubuntu 11.4.0-1ubuntu1~22.04) 11.4.0 To view detailed results, visit: https://lab.dpdk.org/results/dashboard/patchsets/32634/ UNH-IOL DPDK Community Lab To manage your email subscriptions, visit: https://lab.dpdk.org/results/dashboard/preferences/subscriptions/