From mboxrd@z Thu Jan 1 00:00:00 1970 Return-Path: Received: from mails.dpdk.org (mails.dpdk.org [217.70.189.124]) by inbox.dpdk.org (Postfix) with ESMTP id 54D5B4627B for ; Fri, 21 Feb 2025 13:14:11 +0100 (CET) Received: from mails.dpdk.org (localhost [127.0.0.1]) by mails.dpdk.org (Postfix) with ESMTP id 50A82402CC; Fri, 21 Feb 2025 13:14:11 +0100 (CET) Received: from mail-pj1-f97.google.com (mail-pj1-f97.google.com [209.85.216.97]) by mails.dpdk.org (Postfix) with ESMTP id 1E38B402BB for ; Fri, 21 Feb 2025 13:14:10 +0100 (CET) Received: by mail-pj1-f97.google.com with SMTP id 98e67ed59e1d1-2fc4418c0b9so3142795a91.0 for ; Fri, 21 Feb 2025 04:14:10 -0800 (PST) DKIM-Signature: v=1; a=rsa-sha256; c=relaxed/relaxed; d=iol.unh.edu; s=unh-iol; t=1740140049; x=1740744849; darn=dpdk.org; h=references:in-reply-to:cc:to:from:subject:message-id:date:from:to :cc:subject:date:message-id:reply-to; bh=/6qpFNpQpHTRto/QJffwk7loMuUOCdWz/zWEn2ji5ec=; b=Robs7px5xKN9vIe6qk8754jwirKiv1On50DOVaULFDlQROnIV4x7oczo25AY4LPr0i SOvxXyH/pUqGh3B4fpapL7Fyvr7c+e6/vcFjLnzLi3DViuXMLHuairuSuWsBX6/4i76i yOg6mBqhJu7XxY3xlycgiwDaEmXebiLBn2XRo= X-Google-DKIM-Signature: v=1; a=rsa-sha256; c=relaxed/relaxed; d=1e100.net; s=20230601; t=1740140049; x=1740744849; h=references:in-reply-to:cc:to:from:subject:message-id:date :x-gm-message-state:from:to:cc:subject:date:message-id:reply-to; bh=/6qpFNpQpHTRto/QJffwk7loMuUOCdWz/zWEn2ji5ec=; b=QgGGYoWsa9qtxD9x/eVbWFHbNPIZKlER7xqWcvLoK7QBATcCm3pNX39cYSObJAO+yU VXbk/xplcu73vQ5YPHBeEBfTY13080Uk0vOWRKZn7x+KDMoHE1ye2OLUDwVzsczAA/gy nGUIL0xCvuuX+z0HUUzvjrD6y1RNUVmmm2/qi6+5ZAYHV6/XFl8gM8Rk77zn6GzD5N02 HBa1UTV1Dm/iVBRW3aGFkB+P00hPX2DJPkifNBTGBNnFLL3Fe8vLMIagAM2vy0RNemux BQlMP3BWDne2842WKiA/83yGdGwHjiXcPLgpCZXMHFu2OrBwBBXIAmW12a/laMK4T/O0 bMlw== X-Gm-Message-State: AOJu0YzamNYHyrUqkz9iAcZxom9wJLoW5pNy0nTWZbxvMnTq9J+oL3rH HNPxqbSj4wPj/JMlJglAcOZjADenjH5H3l0/b2FNf6caKYODpqeuLCWuoboyl94w+s7h+kLbTht UyBhG/YCdF7mwCBVsFD2EC683JDX/9cPF4xjC2XtQN5DLKIGbdw7JK41b X-Gm-Gg: ASbGncuB3peLhuOzlyMTtQTBkQBDpRTUJ+zyoLHts7kKm0WCAEjoysL0pPajEs8wMJE 7QNLN6oi0wehiLS2wZn00tHXPGqnMbyMhr7ePqyQxZ4YMhOBmN6kB9UIGuToR9saRX1pLDYBu+l 8pN0c9RDOlrjeBTd0nnL8r8jA/rQjIAgYlCkmgrwHY5fRQM2wtu5Ym6y3vkxPW1pfPVhZvojW/7 IFn42m89CzzTjvHPQJnT25wfcKGQYRsXyh/MMcZpbvFc2yyvFv57ennuvDm5Pxnv8RhJMg/qX/r mQASembhc6dRwlF12EqO8j6OxOeLee1u+y/O2WRjUxLlbMc0sn4c X-Google-Smtp-Source: AGHT+IFem7xXtBRxj7mKszAS65QsVDDMBIxpwL7u4V87wLMSF1qQxKvEImtFhDS78SjZKJutiRU4BPvvtmYK X-Received: by 2002:a17:90b:520d:b0:2ef:114d:7bf8 with SMTP id 98e67ed59e1d1-2fce77a6247mr4596972a91.6.1740140049263; Fri, 21 Feb 2025 04:14:09 -0800 (PST) Received: from postal.iol.unh.edu (postal.iol.unh.edu. [2606:4100:3880:1234::84]) by smtp-relay.gmail.com with ESMTPS id 98e67ed59e1d1-2fceb0f8483sm94379a91.11.2025.02.21.04.14.09 (version=TLS1_2 cipher=ECDHE-ECDSA-AES128-GCM-SHA256 bits=128/128); Fri, 21 Feb 2025 04:14:09 -0800 (PST) X-Relaying-Domain: iol.unh.edu Date: Fri, 21 Feb 2025 04:14:09 -0800 (PST) Message-ID: <67b86e11.170a0220.135b4e.4f90SMTPIN_ADDED_MISSING@mx.google.com> Received: from [172.17.0.3] (unknown [172.18.0.217]) by postal.iol.unh.edu (Postfix) with ESMTP id CC5126052471; Fri, 21 Feb 2025 07:14:05 -0500 (EST) Subject: |SUCCESS| pw151776-151791 [PATCH] [v2,16/16] net/zxdh: provide meter From: dpdklab@iol.unh.edu To: Test Report Cc: dpdk-test-reports@iol.unh.edu In-Reply-To: <20250221020346.494392-17-wang.junlong1@zte.com.cn> References: <20250221020346.494392-17-wang.junlong1@zte.com.cn> Content-Type: text/plain X-BeenThere: test-report@dpdk.org X-Mailman-Version: 2.1.29 Precedence: list List-Id: automatic DPDK test reports List-Unsubscribe: , List-Archive: List-Post: List-Help: List-Subscribe: , Errors-To: test-report-bounces@dpdk.org Test-Label: iol-unit-amd64-testing Test-Status: SUCCESS http://dpdk.org/patch/151791 _Testing PASS_ Submitter: Junlong Wang Date: Friday, February 21 2025 02:03:44 DPDK git baseline: Repo:dpdk Branch: master CommitID:3497d187f963e5fddca607637f6a42b8b944fa49 151776-151791 --> testing pass Upstream job id: Generic-Unit-Test-DPDK#317064 Test environment and result as below: +-------------------+----------------+ | Environment | dpdk_unit_test | +===================+================+ | CentOS Stream 9 | PASS | +-------------------+----------------+ | Debian 12 | PASS | +-------------------+----------------+ | Debian Bullseye | PASS | +-------------------+----------------+ | CentOS Stream 10 | PASS | +-------------------+----------------+ | Fedora 40 | PASS | +-------------------+----------------+ | Fedora 41 | PASS | +-------------------+----------------+ | Ubuntu 20.04 | PASS | +-------------------+----------------+ | Ubuntu 22.04 | PASS | +-------------------+----------------+ | RHEL9 | PASS | +-------------------+----------------+ | Fedora 40 (Clang) | PASS | +-------------------+----------------+ | Fedora 41 (Clang) | PASS | +-------------------+----------------+ | Ubuntu 24.04 | PASS | +-------------------+----------------+ | RHEL8 | PASS | +-------------------+----------------+ CentOS Stream 9 Kernel: Depends on container host Compiler: gcc 11.5.0 20240719 (Red Hat 11.5.0-2) Debian 12 Kernel: Depends on container host Compiler: gcc (Debian 12.2.0-14) 12.2.0 Debian Bullseye Kernel: Depends on container host Compiler: gcc (Debian 10.2.1-6) 10.2.1 20210110 CentOS Stream 10 Kernel: Depends on container host Compiler: gcc 14.2.1 20241104 (Red Hat 14.2.1-6) Fedora 40 Kernel: Depends on container host Compiler: gcc 14.2.1 20240912 (Red Hat 14.2.1-3) Fedora 41 Kernel: Depends on container host Compiler: gcc 14.2.1 20240912 (Red Hat 14.2.1-3) Ubuntu 20.04 Kernel: Depends on container host Compiler: gcc (Ubuntu 9.4.0-1ubuntu1~20.04.2) 9.4.0 Ubuntu 22.04 Kernel: Depends on container host Compiler: gcc (Ubuntu 11.4.0-1ubuntu1~22.04) 11.4.0 RHEL9 Kernel: Depends on container host Compiler: gcc 11.5.0 20240719 (Red Hat 11.5.0-2) Fedora 40 (Clang) Kernel: Depends on container host Compiler: clang 18.1.8 (Fedora 18.1.8-1.fc40) Fedora 41 (Clang) Kernel: Depends on container host Compiler: clang 19.1.5 (Fedora 19.1.5-1.fc41) Ubuntu 24.04 Kernel: Depends on container host Compiler: gcc (Ubuntu 13.3.0-6ubuntu2~24.04) 13.3.0 RHEL8 Kernel: Depends on container host Compiler: gcc 8.5.0 20210514 (Red Hat 8.5.0-22) To view detailed results, visit: https://lab.dpdk.org/results/dashboard/patchsets/32634/ UNH-IOL DPDK Community Lab To manage your email subscriptions, visit: https://lab.dpdk.org/results/dashboard/preferences/subscriptions/