From mboxrd@z Thu Jan 1 00:00:00 1970 Return-Path: Received: from mails.dpdk.org (mails.dpdk.org [217.70.189.124]) by inbox.dpdk.org (Postfix) with ESMTP id 9AAF24627B for ; Fri, 21 Feb 2025 13:38:18 +0100 (CET) Received: from mails.dpdk.org (localhost [127.0.0.1]) by mails.dpdk.org (Postfix) with ESMTP id 71B1D402CC; Fri, 21 Feb 2025 13:38:18 +0100 (CET) Received: from mail-pj1-f99.google.com (mail-pj1-f99.google.com [209.85.216.99]) by mails.dpdk.org (Postfix) with ESMTP id E3185402BB for ; Fri, 21 Feb 2025 13:38:16 +0100 (CET) Received: by mail-pj1-f99.google.com with SMTP id 98e67ed59e1d1-2fcf3a69c3cso409479a91.1 for ; Fri, 21 Feb 2025 04:38:16 -0800 (PST) DKIM-Signature: v=1; a=rsa-sha256; c=relaxed/relaxed; d=iol.unh.edu; s=unh-iol; t=1740141496; x=1740746296; darn=dpdk.org; h=cc:to:from:subject:message-id:date:from:to:cc:subject:date :message-id:reply-to; bh=NSfaasfAdn0+XrkW6zINJsnOB0/m7dQFMpKD9wLlgDM=; b=AJ7Sze0l/K95IoB86gkHAqReu/UgLaaMi1Bufy6kt+ibQbvurOZ8XqJVgCXT8t2nOL 7rh/ywDF3yd/fVad6l+5583fiS7I9H9u55sJKYeEhinA6+et3OoXpW/YZPVk9Ram3Ker lwsCMfQ4tt/vc6nuzoZXNCp1S4oj17lmrjrGo= X-Google-DKIM-Signature: v=1; a=rsa-sha256; c=relaxed/relaxed; d=1e100.net; s=20230601; t=1740141496; x=1740746296; h=cc:to:from:subject:message-id:date:x-gm-message-state:from:to:cc :subject:date:message-id:reply-to; bh=NSfaasfAdn0+XrkW6zINJsnOB0/m7dQFMpKD9wLlgDM=; b=moi8QmCfA0HWN4GWqLZOdCYzMbtbM0wQxRsPhbLijc0ZmH7YkZgkQDuI88v33pwn0X YaLXiOy+7JdbE5oHENtrjjkqeK81pRE/BUYvsxdFVFJyP3GH2gR7yw3U/KFI3Sw0ciUA CJCUcZZ3ZoxtZc5h7QBJzSjY6XLt6p5qn891kNcP9JCGSLuItLPysEZ/4TSVDVOLd8cj 2hE0VDuWZBvZHw1eupeIhuptQU+jv+dXGpcwQ1IsaNrAVu7TYIEgaGUgWxu2nCP2HTzk S3tU1eq2fKxQWcDFI/GFPaj8R4/esHR417Nq3JagWt/VeWUrGWMc2kRz+TDVHCY4UB1p 3D+g== X-Gm-Message-State: AOJu0YwwtTHALjxsFll/1pzfqS9Qt4hccrYygyRY2jxXBYx4CFmKUCEt IhGdO9AX86IQ8VewIaq0Xffd3rK2KjDbQ5ybYRdWw7DGlV8J1N8xJwsb6ILJdx9jO62gNqjmOV+ GIOzbYlHS4xvhheIlASbw+r/sLQU/6FhsmsEi9+Ol X-Gm-Gg: ASbGncuyhyy3ZCJuF+OzQ9RW2VMplUuKuHo/+ZhOtQLvJ1uiaQv9xuS+hkWgHJ5f4ua srEGR8UgjHK+fNr9PefkXRoEEOY+VL8vvWK75no6NBmBcTtXjhbQgGsw35pYtptlm4T6BiKHDIY IQfQZEQL6siohO3PVEzNjnh3pOHxwpxBa0iSxGMJSAfIQadj1+KLaBuEylD/mH8XR8ieHw0OVwv VWEuurUERBCwC0gMOs5iGWPHO8CKSpRVVvJvQSYn6A/T5htXhznWWPoPSpBH83o2irU4BSUu8dA 8pOmvl18+ijE6h6spxokynlmEVo37QWF4Fho+X5Y X-Google-Smtp-Source: AGHT+IEd1CDv5qw1YpEQZ4ua865WYfK9+aVoIm8NlRM1DhF+9RuDxrbBoA5GczOzLrHk3OAAHO88dHQPjDXy X-Received: by 2002:a17:90b:3941:b0:2fa:e9b:33ab with SMTP id 98e67ed59e1d1-2fce78acd26mr5752773a91.16.1740141496051; Fri, 21 Feb 2025 04:38:16 -0800 (PST) Received: from postal.iol.unh.edu (postal.iol.unh.edu. [132.177.123.84]) by smtp-relay.gmail.com with ESMTPS id 98e67ed59e1d1-2fceb06043asm84438a91.9.2025.02.21.04.38.15 (version=TLS1_2 cipher=ECDHE-ECDSA-AES128-GCM-SHA256 bits=128/128); Fri, 21 Feb 2025 04:38:16 -0800 (PST) X-Relaying-Domain: iol.unh.edu Date: Fri, 21 Feb 2025 04:38:16 -0800 (PST) Message-ID: <67b873b8.170a0220.36bba6.4662SMTPIN_ADDED_MISSING@mx.google.com> Received: from [172.17.0.3] (unknown [172.18.0.217]) by postal.iol.unh.edu (Postfix) with ESMTP id 054EB6052471; Fri, 21 Feb 2025 07:38:07 -0500 (EST) Subject: |SUCCESS| [GIT MASTER] 3497d187f963e5fddca607637f6a42b8b944fa49 From: dpdklab@iol.unh.edu To: Test Report Cc: dpdk-test-reports@iol.unh.edu, Stephen Hemminger Content-Type: text/plain X-BeenThere: test-report@dpdk.org X-Mailman-Version: 2.1.29 Precedence: list List-Id: automatic DPDK test reports List-Unsubscribe: , List-Archive: List-Post: List-Help: List-Subscribe: , Errors-To: test-report-bounces@dpdk.org _Testing PASS_ Branch: dpdk-next-net 3497d187f963e5fddca607637f6a42b8b944fa49 --> testing pass Upstream job id: Generic-Unit-Test-DPDK#317103 Test environment and result as below: +-------------------+----------------+ | Environment | dpdk_unit_test | +===================+================+ | CentOS Stream 9 | PASS | +-------------------+----------------+ | Debian Bullseye | PASS | +-------------------+----------------+ | CentOS Stream 10 | PASS | +-------------------+----------------+ | Debian 12 | PASS | +-------------------+----------------+ | Fedora 40 (Clang) | PASS | +-------------------+----------------+ | Fedora 40 | PASS | +-------------------+----------------+ | Fedora 41 | PASS | +-------------------+----------------+ | Fedora 41 (Clang) | PASS | +-------------------+----------------+ | Ubuntu 20.04 | PASS | +-------------------+----------------+ | RHEL8 | PASS | +-------------------+----------------+ | Ubuntu 22.04 | PASS | +-------------------+----------------+ | RHEL9 | PASS | +-------------------+----------------+ | Ubuntu 24.04 | PASS | +-------------------+----------------+ CentOS Stream 9 Kernel: Depends on container host Compiler: gcc 11.5.0 20240719 (Red Hat 11.5.0-2) Debian Bullseye Kernel: Depends on container host Compiler: gcc (Debian 10.2.1-6) 10.2.1 20210110 CentOS Stream 10 Kernel: Depends on container host Compiler: gcc 14.2.1 20241104 (Red Hat 14.2.1-6) Debian 12 Kernel: Depends on container host Compiler: gcc (Debian 12.2.0-14) 12.2.0 Fedora 40 (Clang) Kernel: Depends on container host Compiler: clang 18.1.8 (Fedora 18.1.8-1.fc40) Fedora 40 Kernel: Depends on container host Compiler: gcc 14.2.1 20240912 (Red Hat 14.2.1-3) Fedora 41 Kernel: Depends on container host Compiler: gcc 14.2.1 20240912 (Red Hat 14.2.1-3) Fedora 41 (Clang) Kernel: Depends on container host Compiler: clang 19.1.5 (Fedora 19.1.5-1.fc41) Ubuntu 20.04 Kernel: Depends on container host Compiler: gcc (Ubuntu 9.4.0-1ubuntu1~20.04.2) 9.4.0 RHEL8 Kernel: Depends on container host Compiler: gcc 8.5.0 20210514 (Red Hat 8.5.0-22) Ubuntu 22.04 Kernel: Depends on container host Compiler: gcc (Ubuntu 11.4.0-1ubuntu1~22.04) 11.4.0 RHEL9 Kernel: Depends on container host Compiler: gcc 11.5.0 20240719 (Red Hat 11.5.0-2) Ubuntu 24.04 Kernel: Depends on container host Compiler: gcc (Ubuntu 13.3.0-6ubuntu2~24.04) 13.3.0 To view detailed results, visit: https://lab.dpdk.org/results/dashboard/tarballs/32655/ UNH-IOL DPDK Community Lab To manage your email subscriptions, visit: https://lab.dpdk.org/results/dashboard/preferences/subscriptions/