From mboxrd@z Thu Jan 1 00:00:00 1970 Return-Path: Received: from mails.dpdk.org (mails.dpdk.org [217.70.189.124]) by inbox.dpdk.org (Postfix) with ESMTP id 52CB74627B for ; Fri, 21 Feb 2025 13:46:03 +0100 (CET) Received: from mails.dpdk.org (localhost [127.0.0.1]) by mails.dpdk.org (Postfix) with ESMTP id 7F17A402CC; Fri, 21 Feb 2025 13:46:02 +0100 (CET) Received: from mail-yw1-f227.google.com (mail-yw1-f227.google.com [209.85.128.227]) by mails.dpdk.org (Postfix) with ESMTP id 4367F402BB for ; Fri, 21 Feb 2025 13:46:01 +0100 (CET) Received: by mail-yw1-f227.google.com with SMTP id 00721157ae682-6f8c58229f1so18246227b3.0 for ; Fri, 21 Feb 2025 04:46:01 -0800 (PST) DKIM-Signature: v=1; a=rsa-sha256; c=relaxed/relaxed; d=iol.unh.edu; s=unh-iol; t=1740141960; x=1740746760; darn=dpdk.org; h=cc:to:from:subject:message-id:date:from:to:cc:subject:date :message-id:reply-to; bh=I95zGTI6cw44VXEtpnSXVzng/agsmo8tCFrkqDH4Qzg=; b=Xd0P7zxWXVKKC5to/wKln4jNj58Nw9lBTbQmEuNAgUZfymZMId/pb5nQeCyBrN4WtS D6mCkrqJyj4PhnuAajUBToPKnJJ0T3aSGLeLhONmBnfu6GbNkYOpbVcuWk+r5J4j+VXn kNFlU5rds2wuOWjZpr8uOWfSOJQpYXe2RmOMs= X-Google-DKIM-Signature: v=1; a=rsa-sha256; c=relaxed/relaxed; d=1e100.net; s=20230601; t=1740141960; x=1740746760; h=cc:to:from:subject:message-id:date:x-gm-message-state:from:to:cc :subject:date:message-id:reply-to; bh=I95zGTI6cw44VXEtpnSXVzng/agsmo8tCFrkqDH4Qzg=; b=IFc3j+X+FdnoYs/VaR+ikrGJ4nQF7SZ2vDJ/cccGUYc7nk26UCarcJduR+LG/Ktr+n L5o4mE910ekRIgWxh5DtYYaV9lO2oaC2Rdn2Xin0XMo/Y6qnGZSbyf1CLMF8UUTLBf1B g1kAPLGRdVFFbNTnAq+QZRvqlGHUCUQDmXxg8CJPYwRNCr8ViWUAoJ+GCOdtpeH/m0LP 8Lm9AWJ2bGwNlG8AF0NAznYVQZ581xuG1sKvFwbYAmuluKp4WAI2ue8CLeu4nbl9gque ZbGNqefTLes8CWDhkTl5PvPlT7yrxuONJlpfC79TZ96C3KmJpHUYGr3He+/asdRxTtQd xNHQ== X-Gm-Message-State: AOJu0YzBz6rXHjEb6ja8mm5TFGouVnyNNZfep1knSwrR5jMm/GIK33tb XRnlcnNsNdFmrnhy2HRMVeJ6lCudVjnBsiA7CIKZCvGD34I0J3eUWgdsJhzC9WP83f4XbsG/Wrs +2gJHCiVTr5zY1Z+HxUBh3nN3O0/+FhPHkKRwB+Li X-Gm-Gg: ASbGncs1onijxgucDCaReCe/XHZLLn0+xDNZ3Qfmcu5KCC1noDkN1tQtU61ZMdIIAeL ZZ5CnrLklYvo2JBQZeERQEXxs3vtGCMP3OgVX7VtjyWr66leTW6gYvIa64rYFmR4R0JUb/FNYQL lnOP1dGEbn2R492/iwNYJZ1WpExVWkEeGxs/MjpmTj8fjrWJbQCeX+aLW5IF8/KxGCWjrltSPXa hLoXfao0TVwQOpWfLInfuAmUigtYDQWMenSU/KcB6SwIMOJIRRSP0sbBDRK/lsYayAgcYWUebdk 0QLDJgd5ifJfazIojgtG9FOpGhJCmgzrzubTukXD X-Google-Smtp-Source: AGHT+IFsGExUyw/sTkSQV/PTV3IVXPZoMf4OckOObMp6ulvSPVXYpruz1EY3iCaAfMiUP9PHMNHnj3zCkOXh X-Received: by 2002:a05:690c:6a0b:b0:6fb:5d74:959d with SMTP id 00721157ae682-6fbb78e24b0mr66971337b3.1.1740141960416; Fri, 21 Feb 2025 04:46:00 -0800 (PST) Received: from postal.iol.unh.edu (postal.iol.unh.edu. [132.177.123.84]) by smtp-relay.gmail.com with ESMTPS id 00721157ae682-6fb35d4f39asm5327187b3.26.2025.02.21.04.46.00 (version=TLS1_2 cipher=ECDHE-ECDSA-AES128-GCM-SHA256 bits=128/128); Fri, 21 Feb 2025 04:46:00 -0800 (PST) X-Relaying-Domain: iol.unh.edu Date: Fri, 21 Feb 2025 04:46:00 -0800 (PST) Message-ID: <67b87588.050a0220.32594.a6b1SMTPIN_ADDED_MISSING@mx.google.com> Received: from [172.17.0.3] (unknown [172.18.0.217]) by postal.iol.unh.edu (Postfix) with ESMTP id D8CB76052471; Fri, 21 Feb 2025 07:45:57 -0500 (EST) Subject: |SUCCESS| [GIT MASTER] 3497d187f963e5fddca607637f6a42b8b944fa49 From: dpdklab@iol.unh.edu To: Test Report Cc: dpdk-test-reports@iol.unh.edu, Stephen Hemminger Content-Type: text/plain X-BeenThere: test-report@dpdk.org X-Mailman-Version: 2.1.29 Precedence: list List-Id: automatic DPDK test reports List-Unsubscribe: , List-Archive: List-Post: List-Help: List-Subscribe: , Errors-To: test-report-bounces@dpdk.org _Testing PASS_ Branch: dpdk-next-net 3497d187f963e5fddca607637f6a42b8b944fa49 --> testing pass Upstream job id: Generic-Unit-Test-DPDK#317097 Test environment and result as below: +-----------------------------+----------------+--------------+---------------------------+------------------------------+ | Environment | dpdk_unit_test | lpm_autotest | cryptodev_sw_zuc_autotest | cryptodev_sw_snow3g_autotest | +=============================+================+==============+===========================+==============================+ | CentOS Stream 9 (ARM) | PASS | SKIPPED | SKIPPED | SKIPPED | +-----------------------------+----------------+--------------+---------------------------+------------------------------+ | CentOS Stream 10 (ARM) | PASS | SKIPPED | SKIPPED | SKIPPED | +-----------------------------+----------------+--------------+---------------------------+------------------------------+ | Debian 11 (Buster) (ARM) | PASS | SKIPPED | SKIPPED | SKIPPED | +-----------------------------+----------------+--------------+---------------------------+------------------------------+ | Debian 12 (arm) | PASS | SKIPPED | PASS | PASS | +-----------------------------+----------------+--------------+---------------------------+------------------------------+ | Fedora 40 (ARM Clang) | PASS | SKIPPED | SKIPPED | SKIPPED | +-----------------------------+----------------+--------------+---------------------------+------------------------------+ | Fedora 40 (ARM) | PASS | SKIPPED | SKIPPED | SKIPPED | +-----------------------------+----------------+--------------+---------------------------+------------------------------+ | Fedora 41 (ARM) | PASS | SKIPPED | SKIPPED | SKIPPED | +-----------------------------+----------------+--------------+---------------------------+------------------------------+ | Fedora 41 (ARM Clang) | PASS | SKIPPED | SKIPPED | SKIPPED | +-----------------------------+----------------+--------------+---------------------------+------------------------------+ | RHEL9 (ARM) | PASS | SKIPPED | SKIPPED | SKIPPED | +-----------------------------+----------------+--------------+---------------------------+------------------------------+ | Ubuntu 20.04 (ARM) | PASS | SKIPPED | SKIPPED | SKIPPED | +-----------------------------+----------------+--------------+---------------------------+------------------------------+ | Ubuntu 24.04 (ARM) | PASS | SKIPPED | SKIPPED | SKIPPED | +-----------------------------+----------------+--------------+---------------------------+------------------------------+ | Ubuntu 22.04 (ARM) | PASS | SKIPPED | SKIPPED | SKIPPED | +-----------------------------+----------------+--------------+---------------------------+------------------------------+ | 32-bit Ubuntu 22.04.4 (ARM) | PASS | SKIPPED | SKIPPED | SKIPPED | +-----------------------------+----------------+--------------+---------------------------+------------------------------+ | Ubuntu 20.04 ARM SVE | SKIPPED | PASS | SKIPPED | SKIPPED | +-----------------------------+----------------+--------------+---------------------------+------------------------------+ CentOS Stream 9 (ARM) Kernel: Depends on container host Compiler: gcc 11.5.0 20240719 (Red Hat 11.5.0-2) CentOS Stream 10 (ARM) Kernel: Depends on container host Compiler: gcc 14.2.1 20241104 (Red Hat 14.2.1-6) Debian 11 (Buster) (ARM) Kernel: Depends on container host Compiler: gcc (Debian 10.2.1-6) 10.2.1 20210110 Debian 12 (arm) Kernel: Depends on container host Compiler: gcc (Debian 12.2.0-14) 12.2.0 Fedora 40 (ARM Clang) Kernel: Depends on container host Compiler: clang 18.1.8 (Fedora 18.1.8-1.fc40) Fedora 40 (ARM) Kernel: Depends on container host Compiler: gcc 14.2.1 20240912 (Red Hat 14.2.1-3) Fedora 41 (ARM) Kernel: Depends on container host Compiler: gcc 14.2.1 20240912 (Red Hat 14.2.1-3) Fedora 41 (ARM Clang) Kernel: Depends on container host Compiler: clang 19.1.5 (Fedora 19.1.5-1.fc41) RHEL9 (ARM) Kernel: Depends on container host Compiler: gcc 11.5.0 20240719 (Red Hat 11.5.0-2) Ubuntu 20.04 (ARM) Kernel: Depends on container host Compiler: gcc (Ubuntu 9.4.0-1ubuntu1~20.04.2) 9.4.0 Ubuntu 24.04 (ARM) Kernel: Depends on container host Compiler: gcc (Ubuntu 13.3.0-6ubuntu2~24.04) 13.3.0 Ubuntu 22.04 (ARM) Kernel: Depends on container host Compiler: gcc (Ubuntu 11.4.0-1ubuntu1~22.04) 11.4.0 32-bit Ubuntu 22.04.4 (ARM) Kernel: 5.15.83+ aarch64 Compiler: gcc (Ubuntu 11.4.0-1ubuntu1~22.04) 11.4.0 Ubuntu 20.04 ARM SVE Kernel: Depends on container host Compiler: gcc (Ubuntu 10.5.0-1ubuntu1~20.04) 10.5.0 To view detailed results, visit: https://lab.dpdk.org/results/dashboard/tarballs/32655/ UNH-IOL DPDK Community Lab To manage your email subscriptions, visit: https://lab.dpdk.org/results/dashboard/preferences/subscriptions/