From mboxrd@z Thu Jan 1 00:00:00 1970 Return-Path: Received: from mails.dpdk.org (mails.dpdk.org [217.70.189.124]) by inbox.dpdk.org (Postfix) with ESMTP id 6840C4627C for ; Fri, 21 Feb 2025 14:01:26 +0100 (CET) Received: from mails.dpdk.org (localhost [127.0.0.1]) by mails.dpdk.org (Postfix) with ESMTP id 44FF4402CC; Fri, 21 Feb 2025 14:01:26 +0100 (CET) Received: from mail-io1-f97.google.com (mail-io1-f97.google.com [209.85.166.97]) by mails.dpdk.org (Postfix) with ESMTP id 93286402BB for ; Fri, 21 Feb 2025 14:01:24 +0100 (CET) Received: by mail-io1-f97.google.com with SMTP id ca18e2360f4ac-855d6bdfe05so31537439f.2 for ; Fri, 21 Feb 2025 05:01:24 -0800 (PST) DKIM-Signature: v=1; a=rsa-sha256; c=relaxed/relaxed; d=iol.unh.edu; s=unh-iol; t=1740142884; x=1740747684; darn=dpdk.org; h=references:in-reply-to:cc:to:from:subject:message-id:date:from:to :cc:subject:date:message-id:reply-to; bh=e/hMZCYvVXCSldBZz2RshhIjQRbqKeiEQ2M7J1NPMYQ=; b=JODtJsm3VAwcYu0ctgK1p8Ym1OHAQqkTBmTBb7O6FR4o9H4A30Z7a6NtnhbCYbpGQL llJ79BlKDnpw0gRNbhsoY7i7HBKHkSCmdLryk47ylziROkzqSMzKomN2j8Q9xNFjqrnz aU6FFH8Y8U7UQ8wL9HIhNI+GM6AgBrBP4ZOfU= X-Google-DKIM-Signature: v=1; a=rsa-sha256; c=relaxed/relaxed; d=1e100.net; s=20230601; t=1740142884; x=1740747684; h=references:in-reply-to:cc:to:from:subject:message-id:date :x-gm-message-state:from:to:cc:subject:date:message-id:reply-to; bh=e/hMZCYvVXCSldBZz2RshhIjQRbqKeiEQ2M7J1NPMYQ=; b=dzyxxengdO27SAKSAOS5SRyyrAWyTQPKxB7qS4MD7fc6qcrAMxSsiE+GATpiAIxTqJ Dx4AQY4Xapm2MfrTqd1n3/7H+pLyK/Dk4XGyQWTAkoVRXi8UOEPGsUfwW/r2D8hhnsBw CNvzceZKDlpx8/wpzNDfdjMSuRtObLB7M8E6etMrz4ZWYkIvESMz38pQ4CMJVtfG7WJ4 BLcUVx0ndDMPSD2VUp/PeVI4kokKBH4iqHNls3+agDrZVA7v18/1c9W3YFuxQHXngB0c rPpRlE9T9BQ/D4viJ+x1hYFnWr9gT7Ss+ytsE5wemBLvM9t4swGojjenWqIb6YaLGwoe DJZw== X-Gm-Message-State: AOJu0Yz/HigJHLIqU450EDv4wyUrlVL6uUZDSYGuq9i32UW5ZNwp3jyX cGNPoGXrQ6bVD7YEDcjlVV7KuhhwWfkUcmRatWUog/cx9u0rAOYRuIl3rrc2xginGRPfKYfgl/S +piKTFir1m8zORz/g6cuy/qphb3aWCcS4RiLYsrMZ X-Gm-Gg: ASbGncuYRewBoq3ly23T3vSz/Np/nRXtZ4qw7NiiDG8oFU+3GLDTsT3SM91mSZ5P9Vw KVejjCSS9X1WHx1KADbTvczJZhSTkHKkjBckWTacxYBNZ7xjwQeq4TEh/T8krDyRa+ITIE8qA18 hT0DV6aPyGqDth4LNYwOZYXcfj8YBBkeE8DXGtRXaoS+I5DjlXek7yLyZqJ4uds7ql/YxpAuUMV cXwz9WkP7MYiuymfURcy77Ckk2pAQPAF/ljuOvQiltECkR7JlZhJ89pVxcuX/iTSulqmu/t/ZaL znpi2h/m5ZOEq+lEP9sZy9Xj48y+oKyTAktg3ppq X-Google-Smtp-Source: AGHT+IEOU+m3JhGJq6veCdMLoDsYvQT+8PHwYsUAWbrrWr2KQpK90omdIsDOtLNnO1Yahve/xThUjo/HMod+ X-Received: by 2002:a05:6602:3423:b0:855:bb8e:eebe with SMTP id ca18e2360f4ac-855daa77ac8mr340905739f.14.1740142883644; Fri, 21 Feb 2025 05:01:23 -0800 (PST) Received: from postal.iol.unh.edu (postal.iol.unh.edu. [132.177.123.84]) by smtp-relay.gmail.com with ESMTPS id ca18e2360f4ac-855a7f2106csm37296639f.24.2025.02.21.05.01.23 (version=TLS1_2 cipher=ECDHE-ECDSA-AES128-GCM-SHA256 bits=128/128); Fri, 21 Feb 2025 05:01:23 -0800 (PST) X-Relaying-Domain: iol.unh.edu Date: Fri, 21 Feb 2025 05:01:23 -0800 (PST) Message-ID: <67b87923.050a0220.61d30.3107SMTPIN_ADDED_MISSING@mx.google.com> Received: from [172.21.0.7] (unknown [172.18.0.240]) by postal.iol.unh.edu (Postfix) with ESMTP id 15CB06052471; Fri, 21 Feb 2025 08:01:20 -0500 (EST) Subject: |SUCCESS| pw151720-151724 [PATCH] [v3,6/6] mbuf: enable to be compil From: dpdklab@iol.unh.edu To: Test Report Cc: dpdk-test-reports@iol.unh.edu In-Reply-To: <1740083508-6703-7-git-send-email-andremue@linux.microsoft.com> References: <1740083508-6703-7-git-send-email-andremue@linux.microsoft.com> Content-Type: text/plain X-BeenThere: test-report@dpdk.org X-Mailman-Version: 2.1.29 Precedence: list List-Id: automatic DPDK test reports List-Unsubscribe: , List-Archive: List-Post: List-Help: List-Subscribe: , Errors-To: test-report-bounces@dpdk.org Test-Label: iol-sample-apps-testing Test-Status: SUCCESS http://dpdk.org/patch/151724 _Testing PASS_ Submitter: Andre Muezerie Date: Thursday, February 20 2025 20:31:48 DPDK git baseline: Repo:dpdk Branch: master CommitID:fab31a03ba98e7457284df95dd9eef2223a4ccaa 151720-151724 --> testing pass Upstream job id: ACVP-FIPS-testing#8982 Test environment and result as below: +--------------------+----------------------+----------------------+ | Environment | compressdev_zlib_pmd | dpdk_fips_validation | +====================+======================+======================+ | Ubuntu 22.04 (ARM) | PASS | SKIPPED | +--------------------+----------------------+----------------------+ | Ubuntu 22.04 | PASS | SKIPPED | +--------------------+----------------------+----------------------+ | Ubuntu 20.04 | SKIPPED | PASS | +--------------------+----------------------+----------------------+ Ubuntu 22.04 (ARM) Kernel: 5.15.0-97-generic Compiler: gcc gcc (Ubuntu 11.4.0-1ubuntu1~22.04) 11.4.0 Ubuntu 22.04 Kernel: 5.15.0-100-generic Compiler: gcc gcc (Ubuntu 11.4.0-1ubuntu1~22.04) 11.4.0 Ubuntu 20.04 Kernel: Depends on container host Compiler: gcc (Ubuntu 9.4.0-1ubuntu1~20.04.2) 9.4.0 To view detailed results, visit: https://lab.dpdk.org/results/dashboard/patchsets/32626/ UNH-IOL DPDK Community Lab To manage your email subscriptions, visit: https://lab.dpdk.org/results/dashboard/preferences/subscriptions/