From mboxrd@z Thu Jan 1 00:00:00 1970 Return-Path: Received: from mails.dpdk.org (mails.dpdk.org [217.70.189.124]) by inbox.dpdk.org (Postfix) with ESMTP id 8B2764627C for ; Fri, 21 Feb 2025 14:44:48 +0100 (CET) Received: from mails.dpdk.org (localhost [127.0.0.1]) by mails.dpdk.org (Postfix) with ESMTP id 841DA402CC; Fri, 21 Feb 2025 14:44:48 +0100 (CET) Received: from mail-pj1-f99.google.com (mail-pj1-f99.google.com [209.85.216.99]) by mails.dpdk.org (Postfix) with ESMTP id ACF43402BB for ; Fri, 21 Feb 2025 14:44:47 +0100 (CET) Received: by mail-pj1-f99.google.com with SMTP id 98e67ed59e1d1-2fc291f7ddbso3425307a91.1 for ; Fri, 21 Feb 2025 05:44:47 -0800 (PST) DKIM-Signature: v=1; a=rsa-sha256; c=relaxed/relaxed; d=iol.unh.edu; s=unh-iol; t=1740145487; x=1740750287; darn=dpdk.org; h=references:in-reply-to:cc:to:from:subject:message-id:date:from:to :cc:subject:date:message-id:reply-to; bh=glJyS7WmfreiYmU8kw43GijTb+qVInzcNmldN52v2zQ=; b=EgN/J0c8+81KOdCAmCVmCAdOM5dfjomumBqRxwLbwVclaycIU2W1/CVjQKv0dc+t21 ctJmo9/cgAaYCBj2xtjR904Mp6WtxAdpFBYKSRrdVBpHWLppUUepK2kvEqYabUMn4qNA kbc9Lag1x1s+rGFAB8k+k+hsfqRtnYHJGu7CA= X-Google-DKIM-Signature: v=1; a=rsa-sha256; c=relaxed/relaxed; d=1e100.net; s=20230601; t=1740145487; x=1740750287; h=references:in-reply-to:cc:to:from:subject:message-id:date :x-gm-message-state:from:to:cc:subject:date:message-id:reply-to; bh=glJyS7WmfreiYmU8kw43GijTb+qVInzcNmldN52v2zQ=; b=XtptH+v5VWgWYdF9d1KdvCww3MURSCMbX4pl+VPUdmHlK8iUz9UFqzVyMLqZkVG1B/ iNt3NG5u04NehKGd58TA7fxqICFHwGy96K/nVA3aLZtSOzahz1jVvt9U1d8SOfTQyl6g KiBk8xq9tywjDf8Y4eF5XGjluY1TAvsDIY9J+jXPIZGfQkeNkfct2dW73cSl9PUwxH8b dhUN5lxe1zyLOrNonOpEMy9r63mxrKjv75SOiIvPzFdbfMI7GrfaTMeelx5hEI+m739J sU5QQ6Ojxj2fWFb8zdv3qbi3lma1mAdaeTpPcgRuA5KqcjHSmxB1Px9B0XX6SK29bN00 +46w== X-Gm-Message-State: AOJu0YxkxneQqrttCV3w0lH/WoCMfXeTROHgkAl18v4Olgwu5bCU9bPw 1meBpLIH7R/VaqgKh6NI8BJxpgCmdj2Lrm7qrvz/gb4UmqJTadCS4ACtUJF1mlkQJ0bm3S48qj+ lAgw0QjjcN5W18ORPrewG2I2b52xR8xXHPahl5WGp X-Gm-Gg: ASbGnct5WfUtS1F68vkRlqMEyCQcg/yWCPsib+rRjml6adoXqDYIibMAROaPeUe0Fng ugHhiTw5eDlo6FHdPeiqOhBJegbX5JlRSy41ERqIdLXqN14j6vij0xA/+YapOxlWHFHUF9dbwT1 bt1d3Fg2qduhBXy/9lV6peA5WIdi3TTdR1tOpWjHTmtHxTZOFPNLX0eM3gs5U2HAbl34c8hWCM2 qPPMWtePVjtBZAKjOdfEcIFiuR1+V5H8bS7dnVIKnpGf6sWmrLP54F7RhixnzBMMlXej1MSgYct zHXS1V6EPf+nykB/M/4RltdXcK1iYmMohPtwoWWV X-Google-Smtp-Source: AGHT+IFh5K4CJT77DDiPr7lFHSZYXjGtr6vfv9uO1qkMOxm3cGr04KDICEBbHzJnZQaPl4YxSYgtizKyOt1j X-Received: by 2002:a17:90b:56cd:b0:2ee:af31:a7bd with SMTP id 98e67ed59e1d1-2fce789b251mr5067921a91.5.1740145486864; Fri, 21 Feb 2025 05:44:46 -0800 (PST) Received: from postal.iol.unh.edu (postal.iol.unh.edu. [132.177.123.84]) by smtp-relay.gmail.com with ESMTPS id 98e67ed59e1d1-2fceb049988sm104619a91.5.2025.02.21.05.44.46 (version=TLS1_2 cipher=ECDHE-ECDSA-AES128-GCM-SHA256 bits=128/128); Fri, 21 Feb 2025 05:44:46 -0800 (PST) X-Relaying-Domain: iol.unh.edu Date: Fri, 21 Feb 2025 05:44:46 -0800 (PST) Message-ID: <67b8834e.170a0220.7e5ef.5a80SMTPIN_ADDED_MISSING@mx.google.com> Received: from [172.21.0.7] (unknown [172.18.0.240]) by postal.iol.unh.edu (Postfix) with ESMTP id B9AE26052471; Fri, 21 Feb 2025 08:44:37 -0500 (EST) Subject: |SUCCESS| pw151776-151791 [PATCH] [v2,16/16] net/zxdh: provide meter From: dpdklab@iol.unh.edu To: Test Report Cc: dpdk-test-reports@iol.unh.edu In-Reply-To: <20250221020346.494392-17-wang.junlong1@zte.com.cn> References: <20250221020346.494392-17-wang.junlong1@zte.com.cn> Content-Type: text/plain X-BeenThere: test-report@dpdk.org X-Mailman-Version: 2.1.29 Precedence: list List-Id: automatic DPDK test reports List-Unsubscribe: , List-Archive: List-Post: List-Help: List-Subscribe: , Errors-To: test-report-bounces@dpdk.org Test-Label: iol-compile-amd64-testing Test-Status: SUCCESS http://dpdk.org/patch/151791 _Testing PASS_ Submitter: Junlong Wang Date: Friday, February 21 2025 02:03:44 DPDK git baseline: Repo:dpdk Branch: master CommitID:3497d187f963e5fddca607637f6a42b8b944fa49 151776-151791 --> testing pass Upstream job id: Windows-Compile-DPDK-VS#5000 Test environment and result as below: +---------------------+--------------------+-------------------+------------------+-------------------+ | Environment | dpdk_meson_compile | dpdk_compile_spdk | dpdk_compile_ovs | dpdk_msvc_compile | +=====================+====================+===================+==================+===================+ | CentOS Stream 9 | PASS | PASS | SKIPPED | SKIPPED | +---------------------+--------------------+-------------------+------------------+-------------------+ | Debian Bullseye | PASS | PASS | SKIPPED | SKIPPED | +---------------------+--------------------+-------------------+------------------+-------------------+ | CentOS Stream 10 | PASS | SKIPPED | SKIPPED | SKIPPED | +---------------------+--------------------+-------------------+------------------+-------------------+ | Debian 12 | PASS | PASS | SKIPPED | SKIPPED | +---------------------+--------------------+-------------------+------------------+-------------------+ | Fedora 40 (Clang) | PASS | PASS | SKIPPED | SKIPPED | +---------------------+--------------------+-------------------+------------------+-------------------+ | Fedora 41 (Clang) | PASS | PASS | PASS | SKIPPED | +---------------------+--------------------+-------------------+------------------+-------------------+ | RHEL8 | PASS | SKIPPED | SKIPPED | SKIPPED | +---------------------+--------------------+-------------------+------------------+-------------------+ | Fedora 41 | PASS | PASS | PASS | SKIPPED | +---------------------+--------------------+-------------------+------------------+-------------------+ | openSUSE Leap 15 | PASS | SKIPPED | SKIPPED | SKIPPED | +---------------------+--------------------+-------------------+------------------+-------------------+ | RHEL9 | PASS | SKIPPED | SKIPPED | SKIPPED | +---------------------+--------------------+-------------------+------------------+-------------------+ | Ubuntu 20.04 | PASS | SKIPPED | SKIPPED | SKIPPED | +---------------------+--------------------+-------------------+------------------+-------------------+ | Ubuntu 22.04 | PASS | PASS | SKIPPED | SKIPPED | +---------------------+--------------------+-------------------+------------------+-------------------+ | Ubuntu 24.04 | PASS | PASS | PASS | SKIPPED | +---------------------+--------------------+-------------------+------------------+-------------------+ | Alpine | PASS | SKIPPED | SKIPPED | SKIPPED | +---------------------+--------------------+-------------------+------------------+-------------------+ | FreeBSD 13.4 | PASS | SKIPPED | SKIPPED | SKIPPED | +---------------------+--------------------+-------------------+------------------+-------------------+ | FreeBSD 14.2 | PASS | SKIPPED | SKIPPED | SKIPPED | +---------------------+--------------------+-------------------+------------------+-------------------+ | Fedora 40 | PASS | PASS | SKIPPED | SKIPPED | +---------------------+--------------------+-------------------+------------------+-------------------+ | Windows Server 2022 | SKIPPED | SKIPPED | SKIPPED | PASS | +---------------------+--------------------+-------------------+------------------+-------------------+ CentOS Stream 9 Kernel: Depends on container host Compiler: gcc 11.5.0 20240719 (Red Hat 11.5.0-2) Debian Bullseye Kernel: Depends on container host Compiler: gcc (Debian 10.2.1-6) 10.2.1 20210110 CentOS Stream 10 Kernel: Depends on container host Compiler: gcc 14.2.1 20241104 (Red Hat 14.2.1-6) Debian 12 Kernel: Depends on container host Compiler: gcc (Debian 12.2.0-14) 12.2.0 Fedora 40 (Clang) Kernel: Depends on container host Compiler: clang 18.1.8 (Fedora 18.1.8-1.fc40) Fedora 41 (Clang) Kernel: Depends on container host Compiler: clang 19.1.5 (Fedora 19.1.5-1.fc41) RHEL8 Kernel: Depends on container host Compiler: gcc 8.5.0 20210514 (Red Hat 8.5.0-22) Fedora 41 Kernel: Depends on container host Compiler: gcc 14.2.1 20240912 (Red Hat 14.2.1-3) openSUSE Leap 15 Kernel: Depends on container host Compiler: gcc (SUSE Linux) 7.5.0 RHEL9 Kernel: Depends on container host Compiler: gcc 11.5.0 20240719 (Red Hat 11.5.0-2) Ubuntu 20.04 Kernel: Depends on container host Compiler: gcc (Ubuntu 9.4.0-1ubuntu1~20.04.2) 9.4.0 Ubuntu 22.04 Kernel: Depends on container host Compiler: gcc (Ubuntu 11.4.0-1ubuntu1~22.04) 11.4.0 Ubuntu 24.04 Kernel: Depends on container host Compiler: gcc (Ubuntu 13.3.0-6ubuntu2~24.04) 13.3.0 Alpine Kernel: Depends on container host Compiler: gcc (Alpine 14.2.0) 14.2.0 FreeBSD 13.4 Kernel: 13.4-RELEASE-p1 Compiler: clang 18.1.6 FreeBSD 14.2 Kernel: 14.2-RELEASE Compiler: clang 18.1.6 Fedora 40 Kernel: Depends on container host Compiler: gcc 14.2.1 20240912 (Red Hat 14.2.1-3) Windows Server 2022 Kernel: 10.0.20348.2031 Compiler: clang 15.0.7, gcc 14.1.0 (MinGW), and MSVC VS 19.39.33521 To view detailed results, visit: https://lab.dpdk.org/results/dashboard/patchsets/32634/ UNH-IOL DPDK Community Lab To manage your email subscriptions, visit: https://lab.dpdk.org/results/dashboard/preferences/subscriptions/