From mboxrd@z Thu Jan 1 00:00:00 1970 Return-Path: Received: from mails.dpdk.org (mails.dpdk.org [217.70.189.124]) by inbox.dpdk.org (Postfix) with ESMTP id 82E6B4628D for ; Fri, 21 Feb 2025 14:53:53 +0100 (CET) Received: from mails.dpdk.org (localhost [127.0.0.1]) by mails.dpdk.org (Postfix) with ESMTP id 5A54D402CC; Fri, 21 Feb 2025 14:53:53 +0100 (CET) Received: from mail-pl1-f228.google.com (mail-pl1-f228.google.com [209.85.214.228]) by mails.dpdk.org (Postfix) with ESMTP id F060F402BB for ; Fri, 21 Feb 2025 14:53:51 +0100 (CET) Received: by mail-pl1-f228.google.com with SMTP id d9443c01a7336-220f4dd756eso41717025ad.3 for ; Fri, 21 Feb 2025 05:53:51 -0800 (PST) DKIM-Signature: v=1; a=rsa-sha256; c=relaxed/relaxed; d=iol.unh.edu; s=unh-iol; t=1740146031; x=1740750831; darn=dpdk.org; h=cc:to:from:subject:message-id:date:from:to:cc:subject:date :message-id:reply-to; bh=+mVcBEYQSbPHBMqFfxddQ9KgyUhzYYT/FyHu8wOF3Mo=; b=YGW22fXfqwV53JU0ZgaPRGcZWxAE3+ugJpbY4Ez6PG9SXTvvqNobBHZEzRm1HCbbzC dznkuCf09le1cyUG4ZXrhft1KPZjMsdhExxtTpVIQmHrOWCQ/BkAm8WbBElOzn7Kqslb B6BemEIzSF6UBesdaoRT8Hrvf9SRFBL0JqB9Y= X-Google-DKIM-Signature: v=1; a=rsa-sha256; c=relaxed/relaxed; d=1e100.net; s=20230601; t=1740146031; x=1740750831; h=cc:to:from:subject:message-id:date:x-gm-message-state:from:to:cc :subject:date:message-id:reply-to; bh=+mVcBEYQSbPHBMqFfxddQ9KgyUhzYYT/FyHu8wOF3Mo=; b=t3WvdLnBh04ejFSYxzrZa0XCS6JyKGLLXkaUcxr90P6SvbEtiFfDnCrKKmdMvozBxI kpqqMWkiK0uPJTLD9Ku4f6jRmDJ+vg4nZ+NfR4I8EQGxF/HgalIxOpdavr4iyHswfr/5 pxbOonYgENj6JftS/HK2wZnmn83n9KrJc89MpsgNUNuwIQjErCWpVYOpq66rdz0cY5Y8 oe6VQLgJTQ2BEpuyVQmg4VSChawBvTHJ+Kglb+BoIkoeARMBToVLDI+U3aSJnymJdCNH l36K+G1Sduy6Ka12Rsiqv/GhFoRmKTaMCMFUS27KQCOACIFWjQCW/Q9A+MWWhwaXdwYB OhTg== X-Gm-Message-State: AOJu0YxB9Zn+pMQlmCyFwDPXjlDNGnsrgNjuZ7A+DDJF0AbNpob3Ybvm 3W7o/U9v1lUGRIs6xmLV4M+0rBo4MByeBWZpHVsb2nkXqhCWxs9p7jTzzC2s3cVzg2+gYs20u2r Og1a1s72dQVbM1zT7r367bFijjHX25JofrXSo8TSV X-Gm-Gg: ASbGncvLvn5Ut6jUUKc5IQ/ZSuzMJ8KZPuN35JlGchgXN17CbDZQeB9oEiGW3kVRFwr gc/mc0uFyC+QGAWvBHD0oIvOaj09RIE4kJinrmhA3dorkt+exaVfaizkzR2Vhsut3xvZuXankAB Q04D+9aQHDv8RHyox4dHmPDYihJmMy2fnWNHzf3MuiRLgKYsyfss2o+9OQL8OqXDPP4Dc615IKU nHZP6VsSqjj23cayl4SD/Pd4ODW0IQNHb9zF7dWBpIhv7XxFWfpKLL/MhAegIk76EKj0GP6IP6d R6ktJdIieyqUPYId9DW15qdxJj+f9589ZaX/S2Jv X-Google-Smtp-Source: AGHT+IH9fYHdtCPK1dOXDWgz9Rpy2WJhVn35EVjUxmRdZa1f16XX7GswbDH6UadjI3sCboo7OExN2untl6bb X-Received: by 2002:a17:903:2346:b0:21f:6fb9:9299 with SMTP id d9443c01a7336-2219ff5e7c8mr53044555ad.27.1740146030989; Fri, 21 Feb 2025 05:53:50 -0800 (PST) Received: from postal.iol.unh.edu (postal.iol.unh.edu. [132.177.123.84]) by smtp-relay.gmail.com with ESMTPS id d9443c01a7336-220d530a697sm8475275ad.51.2025.02.21.05.53.50 (version=TLS1_2 cipher=ECDHE-ECDSA-AES128-GCM-SHA256 bits=128/128); Fri, 21 Feb 2025 05:53:50 -0800 (PST) X-Relaying-Domain: iol.unh.edu Date: Fri, 21 Feb 2025 05:53:50 -0800 (PST) Message-ID: <67b8856e.170a0220.dacd9.a198SMTPIN_ADDED_MISSING@mx.google.com> Received: from [172.17.0.3] (unknown [172.18.0.217]) by postal.iol.unh.edu (Postfix) with ESMTP id EA7146052471; Fri, 21 Feb 2025 08:53:47 -0500 (EST) Subject: |SUCCESS| [GIT MASTER] 3497d187f963e5fddca607637f6a42b8b944fa49 From: dpdklab@iol.unh.edu To: Test Report Cc: dpdk-test-reports@iol.unh.edu, Stephen Hemminger Content-Type: text/plain X-BeenThere: test-report@dpdk.org X-Mailman-Version: 2.1.29 Precedence: list List-Id: automatic DPDK test reports List-Unsubscribe: , List-Archive: List-Post: List-Help: List-Subscribe: , Errors-To: test-report-bounces@dpdk.org _Testing PASS_ Branch: dpdk-next-net 3497d187f963e5fddca607637f6a42b8b944fa49 --> testing pass Upstream job id: Generic-DPDK-Compile-Meson#363998 Test environment and result as below: +-------------------+--------------------+-------------------+------------------+ | Environment | dpdk_meson_compile | dpdk_compile_spdk | dpdk_compile_ovs | +===================+====================+===================+==================+ | CentOS Stream 9 | PASS | PASS | SKIPPED | +-------------------+--------------------+-------------------+------------------+ | CentOS Stream 10 | PASS | SKIPPED | SKIPPED | +-------------------+--------------------+-------------------+------------------+ | Debian 12 | PASS | PASS | SKIPPED | +-------------------+--------------------+-------------------+------------------+ | Debian Bullseye | PASS | PASS | SKIPPED | +-------------------+--------------------+-------------------+------------------+ | Fedora 40 (Clang) | PASS | PASS | SKIPPED | +-------------------+--------------------+-------------------+------------------+ | Fedora 41 | PASS | PASS | PASS | +-------------------+--------------------+-------------------+------------------+ | Fedora 40 | PASS | PASS | SKIPPED | +-------------------+--------------------+-------------------+------------------+ | openSUSE Leap 15 | PASS | SKIPPED | SKIPPED | +-------------------+--------------------+-------------------+------------------+ | Fedora 41 (Clang) | PASS | PASS | PASS | +-------------------+--------------------+-------------------+------------------+ | RHEL8 | PASS | SKIPPED | SKIPPED | +-------------------+--------------------+-------------------+------------------+ | RHEL9 | PASS | SKIPPED | SKIPPED | +-------------------+--------------------+-------------------+------------------+ | Ubuntu 20.04 | PASS | SKIPPED | SKIPPED | +-------------------+--------------------+-------------------+------------------+ | Ubuntu 22.04 | PASS | PASS | SKIPPED | +-------------------+--------------------+-------------------+------------------+ | Ubuntu 24.04 | PASS | PASS | PASS | +-------------------+--------------------+-------------------+------------------+ | Alpine | PASS | SKIPPED | SKIPPED | +-------------------+--------------------+-------------------+------------------+ | FreeBSD 13.4 | PASS | SKIPPED | SKIPPED | +-------------------+--------------------+-------------------+------------------+ | FreeBSD 14.2 | PASS | SKIPPED | SKIPPED | +-------------------+--------------------+-------------------+------------------+ CentOS Stream 9 Kernel: Depends on container host Compiler: gcc 11.5.0 20240719 (Red Hat 11.5.0-2) CentOS Stream 10 Kernel: Depends on container host Compiler: gcc 14.2.1 20241104 (Red Hat 14.2.1-6) Debian 12 Kernel: Depends on container host Compiler: gcc (Debian 12.2.0-14) 12.2.0 Debian Bullseye Kernel: Depends on container host Compiler: gcc (Debian 10.2.1-6) 10.2.1 20210110 Fedora 40 (Clang) Kernel: Depends on container host Compiler: clang 18.1.8 (Fedora 18.1.8-1.fc40) Fedora 41 Kernel: Depends on container host Compiler: gcc 14.2.1 20240912 (Red Hat 14.2.1-3) Fedora 40 Kernel: Depends on container host Compiler: gcc 14.2.1 20240912 (Red Hat 14.2.1-3) openSUSE Leap 15 Kernel: Depends on container host Compiler: gcc (SUSE Linux) 7.5.0 Fedora 41 (Clang) Kernel: Depends on container host Compiler: clang 19.1.5 (Fedora 19.1.5-1.fc41) RHEL8 Kernel: Depends on container host Compiler: gcc 8.5.0 20210514 (Red Hat 8.5.0-22) RHEL9 Kernel: Depends on container host Compiler: gcc 11.5.0 20240719 (Red Hat 11.5.0-2) Ubuntu 20.04 Kernel: Depends on container host Compiler: gcc (Ubuntu 9.4.0-1ubuntu1~20.04.2) 9.4.0 Ubuntu 22.04 Kernel: Depends on container host Compiler: gcc (Ubuntu 11.4.0-1ubuntu1~22.04) 11.4.0 Ubuntu 24.04 Kernel: Depends on container host Compiler: gcc (Ubuntu 13.3.0-6ubuntu2~24.04) 13.3.0 Alpine Kernel: Depends on container host Compiler: gcc (Alpine 14.2.0) 14.2.0 FreeBSD 13.4 Kernel: 13.4-RELEASE-p1 Compiler: clang 18.1.6 FreeBSD 14.2 Kernel: 14.2-RELEASE Compiler: clang 18.1.6 To view detailed results, visit: https://lab.dpdk.org/results/dashboard/tarballs/32655/ UNH-IOL DPDK Community Lab To manage your email subscriptions, visit: https://lab.dpdk.org/results/dashboard/preferences/subscriptions/