From mboxrd@z Thu Jan 1 00:00:00 1970 Return-Path: Received: from mails.dpdk.org (mails.dpdk.org [217.70.189.124]) by inbox.dpdk.org (Postfix) with ESMTP id 79C0D4628D for ; Fri, 21 Feb 2025 14:54:16 +0100 (CET) Received: from mails.dpdk.org (localhost [127.0.0.1]) by mails.dpdk.org (Postfix) with ESMTP id 75007402CC; Fri, 21 Feb 2025 14:54:16 +0100 (CET) Received: from mail-pj1-f100.google.com (mail-pj1-f100.google.com [209.85.216.100]) by mails.dpdk.org (Postfix) with ESMTP id 40F30402BB for ; Fri, 21 Feb 2025 14:54:15 +0100 (CET) Received: by mail-pj1-f100.google.com with SMTP id 98e67ed59e1d1-2fc1843495eso3225416a91.1 for ; Fri, 21 Feb 2025 05:54:15 -0800 (PST) DKIM-Signature: v=1; a=rsa-sha256; c=relaxed/relaxed; d=iol.unh.edu; s=unh-iol; t=1740146054; x=1740750854; darn=dpdk.org; h=references:in-reply-to:cc:to:from:subject:message-id:date:from:to :cc:subject:date:message-id:reply-to; bh=gBO10vV3NZR7KI1hM4buOO9XcMPoFdFDKhruhqzNLBc=; b=KAIp+Jl8jdLLzhTpb1Eb9bhAG+jg9tkmF3vIdGCsT/a+dVbdGd25LvVwASCPUsqhHi 4VWZobibs8FYg5q049RglMF3H853xwUvtpPsA2B19jmWO4G1dNsbGwEFIKXsVQc7yl0I +Hapsq+jbsTWeQD//7S28Ms6qumNMEh9dGLKQ= X-Google-DKIM-Signature: v=1; a=rsa-sha256; c=relaxed/relaxed; d=1e100.net; s=20230601; t=1740146054; x=1740750854; h=references:in-reply-to:cc:to:from:subject:message-id:date :x-gm-message-state:from:to:cc:subject:date:message-id:reply-to; bh=gBO10vV3NZR7KI1hM4buOO9XcMPoFdFDKhruhqzNLBc=; b=fWDsZlQ0ewxXd0eHg9OBDMgW6EC+c5FO6c5xX+FZbJV4jF6FOiAy7ngIi74CjOkISP Y67DIpUqUP1uYNM9p9cHa/O0xjuqamzhdLgw0kwKwNr3ernHQUNOlBtS6+y65KbUQFZ8 5qXhYGHQRo6rAjegQKZqmSjxOAwzeyWaibXf13ZvWUYyNyeAPaal39HiVesuboDDZ5ew c5hbJbUkkCabjODycorGsq9We0H1X337flmFAx57HEAaqd9xmQvLN/z/QZMQFUv1Lijm Gu4KOvWI0g29LWpg7aGtmRiR7mgOH4uw7VMT5EG1+hqJCmehCNQRPO2X91CwrbGsNY+e cl/g== X-Gm-Message-State: AOJu0YxtETJXE4bF0IiQG3NX1xvHtfuEg8T5OHeyIODUHk9Fdlh/gj+b WrwyYS6AIW7nrhlfFJxuU5FIGRVAf/FdpxWoDl1tromIYWEZ6D0dsXs5O/RbP2nIZk5bfG7sbKe VUT9yDnyt2wg4tAoqNxxD9PO2KlQIml86DKwqQlIw X-Gm-Gg: ASbGncsB37ukaUP4u7Hst7XIDErlNbgNL1DQubAOTVPXe8sJ0gvY+ya8pSSyqhsogK7 jPS5aEwIqZtCAMDUCJZZBVcx4cuDEDDNl0w4DSGqdbApLf/CbNWfr/88glx/CpLQDgST+EY7MR+ 75DrFarxO8x2NU/02xTlAz1lnQKKnqBH/4mLt/lEWNYmr+bVHYGCgFpGy0c0h23KD94YnM7lnTW gQIdcjT7ygiV1iDxUrkG4Sju/LqE8fdRE/p8XB88S0pams5qiva84RkMRKkSYxSBr2tg4c76GBo p3XdT/9GbdJR7XVDFjAUA65y3QhE19pvOTQyfu2e X-Google-Smtp-Source: AGHT+IEsWClxVKyPqHJ/cZ3R9DyN/9RT+47oBKedk+dbuvSyiZ+Qyu+UCbAggdL3WZ0aX/INEh6qMpEAOSJX X-Received: by 2002:a17:90a:d44f:b0:2fa:226e:8491 with SMTP id 98e67ed59e1d1-2fce78a0e55mr6008761a91.9.1740146054489; Fri, 21 Feb 2025 05:54:14 -0800 (PST) Received: from postal.iol.unh.edu (postal.iol.unh.edu. [132.177.123.84]) by smtp-relay.gmail.com with ESMTPS id 98e67ed59e1d1-2fceb05f64esm93892a91.8.2025.02.21.05.54.14 (version=TLS1_2 cipher=ECDHE-ECDSA-AES128-GCM-SHA256 bits=128/128); Fri, 21 Feb 2025 05:54:14 -0800 (PST) X-Relaying-Domain: iol.unh.edu Date: Fri, 21 Feb 2025 05:54:14 -0800 (PST) Message-ID: <67b88586.170a0220.135624.4c49SMTPIN_ADDED_MISSING@mx.google.com> Received: from [172.17.0.3] (unknown [172.18.0.217]) by postal.iol.unh.edu (Postfix) with ESMTP id D612A6052471; Fri, 21 Feb 2025 08:54:04 -0500 (EST) Subject: |SUCCESS| pw151739-151769 [PATCH] [v1,32/32] net/ntnic: revert untru From: dpdklab@iol.unh.edu To: Test Report Cc: dpdk-test-reports@iol.unh.edu In-Reply-To: <20250220220406.3925597-33-sil-plv@napatech.com> References: <20250220220406.3925597-33-sil-plv@napatech.com> Content-Type: text/plain X-BeenThere: test-report@dpdk.org X-Mailman-Version: 2.1.29 Precedence: list List-Id: automatic DPDK test reports List-Unsubscribe: , List-Archive: List-Post: List-Help: List-Subscribe: , Errors-To: test-report-bounces@dpdk.org Test-Label: iol-unit-amd64-testing Test-Status: SUCCESS http://dpdk.org/patch/151769 _Testing PASS_ Submitter: Serhii Iliushyk Date: Thursday, February 20 2025 22:03:56 DPDK git baseline: Repo:dpdk Branch: master CommitID:3497d187f963e5fddca607637f6a42b8b944fa49 151739-151769 --> testing pass Upstream job id: Generic-Unit-Test-DPDK#317117 Test environment and result as below: +-------------------+----------------+ | Environment | dpdk_unit_test | +===================+================+ | Debian Bullseye | PASS | +-------------------+----------------+ | CentOS Stream 10 | PASS | +-------------------+----------------+ | CentOS Stream 9 | PASS | +-------------------+----------------+ | Debian 12 | PASS | +-------------------+----------------+ | Fedora 41 | PASS | +-------------------+----------------+ | Fedora 40 | PASS | +-------------------+----------------+ | Fedora 40 (Clang) | PASS | +-------------------+----------------+ | RHEL9 | PASS | +-------------------+----------------+ | Fedora 41 (Clang) | PASS | +-------------------+----------------+ | Ubuntu 20.04 | PASS | +-------------------+----------------+ | RHEL8 | PASS | +-------------------+----------------+ | Ubuntu 22.04 | PASS | +-------------------+----------------+ | Ubuntu 24.04 | PASS | +-------------------+----------------+ Debian Bullseye Kernel: Depends on container host Compiler: gcc (Debian 10.2.1-6) 10.2.1 20210110 CentOS Stream 10 Kernel: Depends on container host Compiler: gcc 14.2.1 20241104 (Red Hat 14.2.1-6) CentOS Stream 9 Kernel: Depends on container host Compiler: gcc 11.5.0 20240719 (Red Hat 11.5.0-2) Debian 12 Kernel: Depends on container host Compiler: gcc (Debian 12.2.0-14) 12.2.0 Fedora 41 Kernel: Depends on container host Compiler: gcc 14.2.1 20240912 (Red Hat 14.2.1-3) Fedora 40 Kernel: Depends on container host Compiler: gcc 14.2.1 20240912 (Red Hat 14.2.1-3) Fedora 40 (Clang) Kernel: Depends on container host Compiler: clang 18.1.8 (Fedora 18.1.8-1.fc40) RHEL9 Kernel: Depends on container host Compiler: gcc 11.5.0 20240719 (Red Hat 11.5.0-2) Fedora 41 (Clang) Kernel: Depends on container host Compiler: clang 19.1.5 (Fedora 19.1.5-1.fc41) Ubuntu 20.04 Kernel: Depends on container host Compiler: gcc (Ubuntu 9.4.0-1ubuntu1~20.04.2) 9.4.0 RHEL8 Kernel: Depends on container host Compiler: gcc 8.5.0 20210514 (Red Hat 8.5.0-22) Ubuntu 22.04 Kernel: Depends on container host Compiler: gcc (Ubuntu 11.4.0-1ubuntu1~22.04) 11.4.0 Ubuntu 24.04 Kernel: Depends on container host Compiler: gcc (Ubuntu 13.3.0-6ubuntu2~24.04) 13.3.0 To view detailed results, visit: https://lab.dpdk.org/results/dashboard/patchsets/32630/ UNH-IOL DPDK Community Lab To manage your email subscriptions, visit: https://lab.dpdk.org/results/dashboard/preferences/subscriptions/