From mboxrd@z Thu Jan 1 00:00:00 1970 Return-Path: Received: from mails.dpdk.org (mails.dpdk.org [217.70.189.124]) by inbox.dpdk.org (Postfix) with ESMTP id D5F164628D for ; Fri, 21 Feb 2025 15:07:43 +0100 (CET) Received: from mails.dpdk.org (localhost [127.0.0.1]) by mails.dpdk.org (Postfix) with ESMTP id CD77E402CC; Fri, 21 Feb 2025 15:07:43 +0100 (CET) Received: from mail-oa1-f98.google.com (mail-oa1-f98.google.com [209.85.160.98]) by mails.dpdk.org (Postfix) with ESMTP id 1C098402BB for ; Fri, 21 Feb 2025 15:07:42 +0100 (CET) Received: by mail-oa1-f98.google.com with SMTP id 586e51a60fabf-2b199bb8af9so1951422fac.1 for ; Fri, 21 Feb 2025 06:07:42 -0800 (PST) DKIM-Signature: v=1; a=rsa-sha256; c=relaxed/relaxed; d=iol.unh.edu; s=unh-iol; t=1740146861; x=1740751661; darn=dpdk.org; h=references:in-reply-to:cc:to:from:subject:message-id:date:from:to :cc:subject:date:message-id:reply-to; bh=AVK7k+bCySG8lJc6e7OG1h0+fQirU2Dkn4VCovPfdcw=; b=Xk49sDf2o//qozFzK8t5jqF0jXu4yx9elpiZZyslqfIiSi023lEp/oGkwavey6YR+Y veCKovxg4zeSq+BCJrEgf9/lU1CQLWFphWuQsX3NaVtTmG1PwKmeSL/pRy3RMaYXjmm/ wP0sOklnEor+lAyZBwX/Aib3EWDFfM8TR7vMQ= X-Google-DKIM-Signature: v=1; a=rsa-sha256; c=relaxed/relaxed; d=1e100.net; s=20230601; t=1740146861; x=1740751661; h=references:in-reply-to:cc:to:from:subject:message-id:date :x-gm-message-state:from:to:cc:subject:date:message-id:reply-to; bh=AVK7k+bCySG8lJc6e7OG1h0+fQirU2Dkn4VCovPfdcw=; b=CVaBMQVRjAFhJDcANzVBBnOOTdrOVU4QVRCXqC0vJgJ6szNW3GEcJnWhVyRp0IZbpU SsE75KabuVo9Bx8P6qiEChMWaASvsX3BmV3k/SLnSj7s4hAE9UB+rwm26HSiHttgROEn EJgMjgc9X3hvKu6haGf/b00ofLfLPCf0sfZop/0a99z5fIqWA+RmWL8GyOBMOybhu19e 8YYNVck7+k/z+nufAtOdaZuhXKARxs99IzTzJS0mvqozQ18XeQQbnsY69Qy14/m0r4hg UDSJQc3EI7AMccp7MSrWTmo1KZSolB82f5lTBtgOpz040hNHPt9mEmOGFt5EkuqiUQTZ JhoA== X-Gm-Message-State: AOJu0Yxf4tcocLD8BBuWlIREACsLYqmEUn6uV6ktdReR151V0lET0brN +JsTfE02EK4PEJcPJg8bj48+AYjQkmrRqfuJl2uR1LsGK2SaheGQaalkkgkI3K2p/TCdTzvjSkU RqV/tv5+i96umb2Y+Vq0sW4dBE9AYfx7aQ4BkYyyAFDnHeW5uFvE7PK35 X-Gm-Gg: ASbGncvN0KWuQfoCJZ24Okc6g58YKzH+7tx842gy3Wzez9aj4dglspkOln6zk2RYPUp 8uUcm4IHvMiF9bNriT2rN2ND0ewJzqkBW6JhlPAoFFNFrItFPDLuITJL9b01Op4YNQwpTFIUsm/ oSReDXmUznyLc0fMOWD2MlunsMY0CF8wDISwrZthVuR/qKqmssmR848RivzZBJlU628sCguBVBk 2fdvHbuxg4KSiTJWRuasyItcynlsXMpqApT//3+aYE5mFj4NW7SWbA3/WVsDNfqbKan5CJOVcy6 0WH1EIzn/pXZHt9l1haRanvEJ40529nq3bbjlenG2sMl9QAG1DHu X-Google-Smtp-Source: AGHT+IHPpNNlQuNO91+s2DWaK+6eSUcpMLSzj1Qukv5o9bKz9oEVJc12L6TCBWfkWWKggVAp5dsZJtNjaqIn X-Received: by 2002:a05:6871:589:b0:2a7:5ce8:820f with SMTP id 586e51a60fabf-2bd50108dafmr2538437fac.9.1740146861284; Fri, 21 Feb 2025 06:07:41 -0800 (PST) Received: from postal.iol.unh.edu (postal.iol.unh.edu. [2606:4100:3880:1234::84]) by smtp-relay.gmail.com with ESMTPS id 586e51a60fabf-2b963a07db1sm1074731fac.34.2025.02.21.06.07.41 (version=TLS1_2 cipher=ECDHE-ECDSA-AES128-GCM-SHA256 bits=128/128); Fri, 21 Feb 2025 06:07:41 -0800 (PST) X-Relaying-Domain: iol.unh.edu Date: Fri, 21 Feb 2025 06:07:41 -0800 (PST) Message-ID: <67b888ad.050a0220.2c201b.743aSMTPIN_ADDED_MISSING@mx.google.com> Received: from [172.21.0.5] (unknown [172.18.0.240]) by postal.iol.unh.edu (Postfix) with ESMTP id AEF266052471; Fri, 21 Feb 2025 09:07:38 -0500 (EST) Subject: |SUCCESS| pw151776-151791 [PATCH] [v2,16/16] net/zxdh: provide meter From: dpdklab@iol.unh.edu To: Test Report Cc: dpdk-test-reports@iol.unh.edu In-Reply-To: <20250221020346.494392-17-wang.junlong1@zte.com.cn> References: <20250221020346.494392-17-wang.junlong1@zte.com.cn> Content-Type: text/plain X-BeenThere: test-report@dpdk.org X-Mailman-Version: 2.1.29 Precedence: list List-Id: automatic DPDK test reports List-Unsubscribe: , List-Archive: List-Post: List-Help: List-Subscribe: , Errors-To: test-report-bounces@dpdk.org Test-Label: iol-compile-amd64-testing Test-Status: SUCCESS http://dpdk.org/patch/151791 _Testing PASS_ Submitter: Junlong Wang Date: Friday, February 21 2025 02:03:44 DPDK git baseline: Repo:dpdk Branch: master CommitID:3497d187f963e5fddca607637f6a42b8b944fa49 151776-151791 --> testing pass Upstream job id: Generic-DPDK-Compile-Meson#363967 Test environment and result as below: +-------------------+--------------------+-------------------+------------------+ | Environment | dpdk_meson_compile | dpdk_compile_spdk | dpdk_compile_ovs | +===================+====================+===================+==================+ | CentOS Stream 9 | PASS | PASS | SKIPPED | +-------------------+--------------------+-------------------+------------------+ | CentOS Stream 10 | PASS | SKIPPED | SKIPPED | +-------------------+--------------------+-------------------+------------------+ | Debian Bullseye | PASS | PASS | SKIPPED | +-------------------+--------------------+-------------------+------------------+ | Fedora 40 | PASS | PASS | SKIPPED | +-------------------+--------------------+-------------------+------------------+ | Debian 12 | PASS | PASS | SKIPPED | +-------------------+--------------------+-------------------+------------------+ | Fedora 40 (Clang) | PASS | PASS | SKIPPED | +-------------------+--------------------+-------------------+------------------+ | Fedora 41 | PASS | PASS | PASS | +-------------------+--------------------+-------------------+------------------+ | openSUSE Leap 15 | PASS | SKIPPED | SKIPPED | +-------------------+--------------------+-------------------+------------------+ | Fedora 41 (Clang) | PASS | PASS | PASS | +-------------------+--------------------+-------------------+------------------+ | RHEL8 | PASS | SKIPPED | SKIPPED | +-------------------+--------------------+-------------------+------------------+ | RHEL9 | PASS | SKIPPED | SKIPPED | +-------------------+--------------------+-------------------+------------------+ | Ubuntu 20.04 | PASS | SKIPPED | SKIPPED | +-------------------+--------------------+-------------------+------------------+ | Ubuntu 22.04 | PASS | PASS | SKIPPED | +-------------------+--------------------+-------------------+------------------+ | Ubuntu 24.04 | PASS | PASS | PASS | +-------------------+--------------------+-------------------+------------------+ | Alpine | PASS | SKIPPED | SKIPPED | +-------------------+--------------------+-------------------+------------------+ | FreeBSD 13.4 | PASS | SKIPPED | SKIPPED | +-------------------+--------------------+-------------------+------------------+ | FreeBSD 14.2 | PASS | SKIPPED | SKIPPED | +-------------------+--------------------+-------------------+------------------+ CentOS Stream 9 Kernel: Depends on container host Compiler: gcc 11.5.0 20240719 (Red Hat 11.5.0-2) CentOS Stream 10 Kernel: Depends on container host Compiler: gcc 14.2.1 20241104 (Red Hat 14.2.1-6) Debian Bullseye Kernel: Depends on container host Compiler: gcc (Debian 10.2.1-6) 10.2.1 20210110 Fedora 40 Kernel: Depends on container host Compiler: gcc 14.2.1 20240912 (Red Hat 14.2.1-3) Debian 12 Kernel: Depends on container host Compiler: gcc (Debian 12.2.0-14) 12.2.0 Fedora 40 (Clang) Kernel: Depends on container host Compiler: clang 18.1.8 (Fedora 18.1.8-1.fc40) Fedora 41 Kernel: Depends on container host Compiler: gcc 14.2.1 20240912 (Red Hat 14.2.1-3) openSUSE Leap 15 Kernel: Depends on container host Compiler: gcc (SUSE Linux) 7.5.0 Fedora 41 (Clang) Kernel: Depends on container host Compiler: clang 19.1.5 (Fedora 19.1.5-1.fc41) RHEL8 Kernel: Depends on container host Compiler: gcc 8.5.0 20210514 (Red Hat 8.5.0-22) RHEL9 Kernel: Depends on container host Compiler: gcc 11.5.0 20240719 (Red Hat 11.5.0-2) Ubuntu 20.04 Kernel: Depends on container host Compiler: gcc (Ubuntu 9.4.0-1ubuntu1~20.04.2) 9.4.0 Ubuntu 22.04 Kernel: Depends on container host Compiler: gcc (Ubuntu 11.4.0-1ubuntu1~22.04) 11.4.0 Ubuntu 24.04 Kernel: Depends on container host Compiler: gcc (Ubuntu 13.3.0-6ubuntu2~24.04) 13.3.0 Alpine Kernel: Depends on container host Compiler: gcc (Alpine 14.2.0) 14.2.0 FreeBSD 13.4 Kernel: 13.4-RELEASE-p1 Compiler: clang 18.1.6 FreeBSD 14.2 Kernel: 14.2-RELEASE Compiler: clang 18.1.6 To view detailed results, visit: https://lab.dpdk.org/results/dashboard/patchsets/32634/ UNH-IOL DPDK Community Lab To manage your email subscriptions, visit: https://lab.dpdk.org/results/dashboard/preferences/subscriptions/