From mboxrd@z Thu Jan  1 00:00:00 1970
Return-Path: <test-report-bounces@dpdk.org>
Received: from mails.dpdk.org (mails.dpdk.org [217.70.189.124])
	by inbox.dpdk.org (Postfix) with ESMTP id 0F32F4628D
	for <public@inbox.dpdk.org>; Fri, 21 Feb 2025 15:08:56 +0100 (CET)
Received: from mails.dpdk.org (localhost [127.0.0.1])
	by mails.dpdk.org (Postfix) with ESMTP id 08A3A402CC;
	Fri, 21 Feb 2025 15:08:56 +0100 (CET)
Received: from mail-io1-f97.google.com (mail-io1-f97.google.com
 [209.85.166.97]) by mails.dpdk.org (Postfix) with ESMTP id A97C8402BB
 for <test-report@dpdk.org>; Fri, 21 Feb 2025 15:08:54 +0100 (CET)
Received: by mail-io1-f97.google.com with SMTP id
 ca18e2360f4ac-85595f813caso158752639f.3
 for <test-report@dpdk.org>; Fri, 21 Feb 2025 06:08:54 -0800 (PST)
DKIM-Signature: v=1; a=rsa-sha256; c=relaxed/relaxed;
 d=iol.unh.edu; s=unh-iol; t=1740146934; x=1740751734; darn=dpdk.org;
 h=references:in-reply-to:cc:to:from:subject:message-id:date:from:to
 :cc:subject:date:message-id:reply-to;
 bh=6044YOcVthw1KTgI/8VZU0fglZ+rz+hsCCW5SW3n4ig=;
 b=Df3er7z+8NMwj7Byhd5v5vwYiHnHSKN0LC5nWLDKnYuTPvaW+oDBHQR8vUkox6CCWk
 vLfM2cZVUM6McjNqsRgvxPzGzSLl4H8vk/UxPYDPqNxHQzfgOO485dSHTE9YWHgJt7kD
 hZ/CKrJVC3VzacID9MQv/Rtx3EsS59l0xkOfY=
X-Google-DKIM-Signature: v=1; a=rsa-sha256; c=relaxed/relaxed;
 d=1e100.net; s=20230601; t=1740146934; x=1740751734;
 h=references:in-reply-to:cc:to:from:subject:message-id:date
 :x-gm-message-state:from:to:cc:subject:date:message-id:reply-to;
 bh=6044YOcVthw1KTgI/8VZU0fglZ+rz+hsCCW5SW3n4ig=;
 b=G9PKBoIL1z1YOgQkWayTfMpfwisi7DSabB8iLkuzK7ps5v7ArwDl9SOKSQ8GQxmamS
 e7NUFQ+cYDWcjzVFlropUcQETHq+LnBqVgrE1IT8SbLGO0LHbLKCF/Z+pQL75Y2JSAP1
 NBBl2Z2RZQJyKGrwTx6tCdFS4co5LVqWvloanpnLbChOxawAwsqxzI1iFWNaajwqr+bn
 WJbLCDt2Vh/zd35uaXNKstpkhs2qiBAskecHPZnOE+GP0Zl2pchN8SOBDGk4xDRpo0kr
 dHUj2ybBe8lfIYk6wBSxzT2IxcOlYAG5cYEqcNbd/geRmutttJBrNhtaGmnLwhxIsncY
 bS+A==
X-Gm-Message-State: AOJu0Yz1VqHiVxTz4Q1U0G4bUgRvzV2JRbjRAX/WogXNVpuVrVdLQeGd
 t4uGcqp5cUfaV+8wRTxo+CbXB8DkQS+SZXsoXTeRdQF8kavA9cE7Zk+C1blRzAw+ZDZiev3YzYZ
 rZkCCh+2ImLdbW7tsafuFzEaX70Hddi47fib/gmdt5JDNSFT96Yixoej1
X-Gm-Gg: ASbGncthRJWbTlPwVgFBhtRVQIW9rbmkJr0Q1zLT/B+dNfaQi9EoVJUZ89/XDHhW/Qo
 Ie6eot54JiuvhPPI2xDBOw751xR7/oMLy1pZNF+o8rJ6MdhmpGczqVT9AlOYX8sukF/TwnjGmay
 9rIPHYEcXuQuSMJWXuZaNfJuXo+v3GvchTDqodhGV/rJgit+WPwESMq5ze7oknAXQuHd/X/jvlB
 GpOnmOUPVi8dZqna/QKbVZ5PLJCj7lh2Q9KN7F17S6yNTOuzlY8hLgtYTAXE41jNXXxxZjdVA6i
 W3yF8gtKLAI2cjAeQh9lD4adj6d2fRcDdTYmgANwvGOFhxKSgTmf
X-Google-Smtp-Source: AGHT+IFXvB1fJAGix5SLiMj1UcBOa2f/qxGY46hPn+bkr04Lc/XVxTdCcTQX3G1z/0OOfIxhjI97S/8KyIuV
X-Received: by 2002:a05:6e02:1caa:b0:3d2:a94e:c35b with SMTP id
 e9e14a558f8ab-3d2caf01949mr26169955ab.17.1740146933457; 
 Fri, 21 Feb 2025 06:08:53 -0800 (PST)
Received: from postal.iol.unh.edu (postal.iol.unh.edu.
 [2606:4100:3880:1234::84]) by smtp-relay.gmail.com with ESMTPS id
 8926c6da1cb9f-4eea7cfe649sm561817173.59.2025.02.21.06.08.53
 (version=TLS1_2 cipher=ECDHE-ECDSA-AES128-GCM-SHA256 bits=128/128);
 Fri, 21 Feb 2025 06:08:53 -0800 (PST)
X-Relaying-Domain: iol.unh.edu
Date: Fri, 21 Feb 2025 06:08:53 -0800 (PST)
Message-ID: <67b888f5.050a0220.1df793.c1f7SMTPIN_ADDED_MISSING@mx.google.com>
Received: from [172.17.0.6] (unknown [172.18.0.217])
 by postal.iol.unh.edu (Postfix) with ESMTP id A9F776052471;
 Fri, 21 Feb 2025 09:08:44 -0500 (EST)
Subject: |SUCCESS| pw151739-151769 [PATCH] [v1,32/32] net/ntnic: revert untru
From: dpdklab@iol.unh.edu
To: Test Report <test-report@dpdk.org>
Cc: dpdk-test-reports@iol.unh.edu
In-Reply-To: <20250220220406.3925597-33-sil-plv@napatech.com>
References: <20250220220406.3925597-33-sil-plv@napatech.com>
Content-Type: text/plain
X-BeenThere: test-report@dpdk.org
X-Mailman-Version: 2.1.29
Precedence: list
List-Id: automatic DPDK test reports <test-report.dpdk.org>
List-Unsubscribe: <https://mails.dpdk.org/options/test-report>,
 <mailto:test-report-request@dpdk.org?subject=unsubscribe>
List-Archive: <http://mails.dpdk.org/archives/test-report/>
List-Post: <mailto:test-report@dpdk.org>
List-Help: <mailto:test-report-request@dpdk.org?subject=help>
List-Subscribe: <https://mails.dpdk.org/listinfo/test-report>,
 <mailto:test-report-request@dpdk.org?subject=subscribe>
Errors-To: test-report-bounces@dpdk.org

Test-Label: iol-abi-testing
Test-Status: SUCCESS
http://dpdk.org/patch/151769

_Testing PASS_

Submitter: Serhii Iliushyk <sil-plv@napatech.com>
Date: Thursday, February 20 2025 22:03:56 
DPDK git baseline: Repo:dpdk
  Branch: master
  CommitID:3497d187f963e5fddca607637f6a42b8b944fa49

151739-151769 --> testing pass

Upstream job id: Generic-DPDK-Compile-ABI#117126

Test environment and result as below:

+-------------------+----------+
|    Environment    | abi_test |
+===================+==========+
| CentOS Stream 9   | PASS     |
+-------------------+----------+
| Debian Bullseye   | PASS     |
+-------------------+----------+
| Debian 12         | PASS     |
+-------------------+----------+
| Fedora 40 (Clang) | PASS     |
+-------------------+----------+
| Fedora 40         | PASS     |
+-------------------+----------+
| CentOS Stream 10  | PASS     |
+-------------------+----------+
| RHEL9             | PASS     |
+-------------------+----------+
| RHEL8             | PASS     |
+-------------------+----------+
| Fedora 41 (Clang) | PASS     |
+-------------------+----------+
| openSUSE Leap 15  | PASS     |
+-------------------+----------+
| Ubuntu 24.04      | PASS     |
+-------------------+----------+
| Ubuntu 22.04      | PASS     |
+-------------------+----------+
| Fedora 41         | PASS     |
+-------------------+----------+


CentOS Stream 9
	Kernel: Depends on container host
	Compiler: gcc 11.5.0 20240719 (Red Hat 11.5.0-2)

Debian Bullseye
	Kernel: Depends on container host
	Compiler: gcc (Debian 10.2.1-6) 10.2.1 20210110

Debian 12
	Kernel: Depends on container host
	Compiler: gcc (Debian 12.2.0-14) 12.2.0

Fedora 40 (Clang)
	Kernel: Depends on container host
	Compiler: clang 18.1.8 (Fedora 18.1.8-1.fc40)

Fedora 40
	Kernel: Depends on container host
	Compiler: gcc 14.2.1 20240912 (Red Hat 14.2.1-3)

CentOS Stream 10
	Kernel: Depends on container host
	Compiler: gcc 14.2.1 20241104 (Red Hat 14.2.1-6)

RHEL9
	Kernel: Depends on container host
	Compiler: gcc 11.5.0 20240719 (Red Hat 11.5.0-2)

RHEL8
	Kernel: Depends on container host
	Compiler: gcc 8.5.0 20210514 (Red Hat 8.5.0-22)

Fedora 41 (Clang)
	Kernel: Depends on container host
	Compiler: clang 19.1.5 (Fedora 19.1.5-1.fc41)

openSUSE Leap 15
	Kernel: Depends on container host
	Compiler: gcc (SUSE Linux) 7.5.0

Ubuntu 24.04
	Kernel: Depends on container host
	Compiler: gcc (Ubuntu 13.3.0-6ubuntu2~24.04) 13.3.0

Ubuntu 22.04
	Kernel: Depends on container host
	Compiler: gcc (Ubuntu 11.4.0-1ubuntu1~22.04) 11.4.0

Fedora 41
	Kernel: Depends on container host
	Compiler: gcc 14.2.1 20240912 (Red Hat 14.2.1-3)

To view detailed results, visit:
https://lab.dpdk.org/results/dashboard/patchsets/32630/

UNH-IOL DPDK Community Lab

To manage your email subscriptions, visit: 
https://lab.dpdk.org/results/dashboard/preferences/subscriptions/