From mboxrd@z Thu Jan 1 00:00:00 1970 Return-Path: Received: from mails.dpdk.org (mails.dpdk.org [217.70.189.124]) by inbox.dpdk.org (Postfix) with ESMTP id A25554628D for ; Fri, 21 Feb 2025 15:28:32 +0100 (CET) Received: from mails.dpdk.org (localhost [127.0.0.1]) by mails.dpdk.org (Postfix) with ESMTP id 9A367402CC; Fri, 21 Feb 2025 15:28:32 +0100 (CET) Received: from mail-vk1-f227.google.com (mail-vk1-f227.google.com [209.85.221.227]) by mails.dpdk.org (Postfix) with ESMTP id 92F9E402BB for ; Fri, 21 Feb 2025 15:28:31 +0100 (CET) Received: by mail-vk1-f227.google.com with SMTP id 71dfb90a1353d-521b188df16so577225e0c.2 for ; Fri, 21 Feb 2025 06:28:31 -0800 (PST) DKIM-Signature: v=1; a=rsa-sha256; c=relaxed/relaxed; d=iol.unh.edu; s=unh-iol; t=1740148111; x=1740752911; darn=dpdk.org; h=cc:to:from:subject:message-id:date:from:to:cc:subject:date :message-id:reply-to; bh=2IkPKflFiVobFQiDI67mP7OGnXEfx+OxxQUI7jIWXxM=; b=gWWhJMJP9O+owvmaumUrQsIK4wsh16RUVnfxUsGybTfUiGoKwn9hBLP9jJ1DUvbCGX TQRe040kgIbbBJB4FI4h5WmWUtMlThHJILo/LQUQoIF5Xv2Puk+fBcj/7yVMBvpOBPIA DoJQa9aQb9vCYyIM/KArOZa6W2B8Vfb8HLfmY= X-Google-DKIM-Signature: v=1; a=rsa-sha256; c=relaxed/relaxed; d=1e100.net; s=20230601; t=1740148111; x=1740752911; h=cc:to:from:subject:message-id:date:x-gm-message-state:from:to:cc :subject:date:message-id:reply-to; bh=2IkPKflFiVobFQiDI67mP7OGnXEfx+OxxQUI7jIWXxM=; b=dF2Rat2DGs4HVpteG3ae3y3t4dhSNENq6q+vmL/1RKi80K0IbQqkod53Rfzx02qVmO n7MJym9pZmTuaGP0c8uoH1SsYd95SI3YwbOHPe+A+tYzZUM46Me/pdAxTF+3MUrHquvo cYe9AsNz9d9qHkOLhRdvlktwRBpmorq2T7hResozL8wyZoeJlHEA7fzjzPg5ng+1/jHR EYBvFQ/LcXi5mGaQk6InNJ6myufjfkM/BkWq/gVHMljB0Yl+IOhlQSxYE8eG9bZChri4 N27b0B9LuMm4wAXNvTqhr/76UlMV9QW8b7vuCZnUJzLHNo6QaD619/TgfOzPoHWiT/EC ttAQ== X-Gm-Message-State: AOJu0YwJ621mYslAzKoXetRDbLuAGOlpEnE5xPpT8dvE5jkSe8X5wfxp 8pvXG5ORRrNZVoRUwfc/svwTcHpGYNs+nebL0v3Lil835dAtvXocpvnKxMtZPVWVXy91Ebv2BLj fDC3NyVmSq2lEHSMyfO/Q29e2bFmSusk5GrT4KkyjXQlXvzQQcKo867va X-Gm-Gg: ASbGncsy/IP8x6nDbrfMmna/+ewiwBogjlZfQ7eCqawXlJC80rmCUCssv7TlrMTSXVc B1q8yBz+RdkqBmZXEAQBsVWc0bKI8idYsl9sHuRzQFp0NUhWEmv5so2gGcvmpXOz59UYyQBceMA jNkRqlvi+RicsbnJPEq/mUuyduLS0VH7epO3eE39EszMJGIGQTb55LuOY0AJddhHtHpGQPWh2N6 dpGpCgbHR1A0xONQ3Ebp2LPxu0+30eEdCOqe9ToDwGTkFPxav2ynUicwv1FIE8isn179UTR/Bp8 ty+w3CRrVYqQRdXpD2Nj2rzQLAd4gbVB82H3lg9+He7vWziRYMx3 X-Google-Smtp-Source: AGHT+IECDGnpr/s1KQkyCrI3eMSKBGmGtOgWMjkXxspuXI+D/FcfDK9AqhpXmQLDpb3sBjAXEKESpEGr54pv X-Received: by 2002:a05:6122:2027:b0:516:240b:58ff with SMTP id 71dfb90a1353d-521ee290f48mr1743731e0c.5.1740148110964; Fri, 21 Feb 2025 06:28:30 -0800 (PST) Received: from postal.iol.unh.edu (postal.iol.unh.edu. [2606:4100:3880:1234::84]) by smtp-relay.gmail.com with ESMTPS id 71dfb90a1353d-520b53a4d1fsm629537e0c.2.2025.02.21.06.28.30 (version=TLS1_2 cipher=ECDHE-ECDSA-AES128-GCM-SHA256 bits=128/128); Fri, 21 Feb 2025 06:28:30 -0800 (PST) X-Relaying-Domain: iol.unh.edu Date: Fri, 21 Feb 2025 06:28:30 -0800 (PST) Message-ID: <67b88d8e.050a0220.32e612.e983SMTPIN_ADDED_MISSING@mx.google.com> Received: from [172.21.0.8] (unknown [172.18.0.240]) by postal.iol.unh.edu (Postfix) with ESMTP id 528256052471; Fri, 21 Feb 2025 09:28:22 -0500 (EST) Subject: |SUCCESS| [GIT MASTER] 3497d187f963e5fddca607637f6a42b8b944fa49 From: dpdklab@iol.unh.edu To: Test Report Cc: dpdk-test-reports@iol.unh.edu, Stephen Hemminger Content-Type: text/plain X-BeenThere: test-report@dpdk.org X-Mailman-Version: 2.1.29 Precedence: list List-Id: automatic DPDK test reports List-Unsubscribe: , List-Archive: List-Post: List-Help: List-Subscribe: , Errors-To: test-report-bounces@dpdk.org _Testing PASS_ Branch: dpdk-next-net 3497d187f963e5fddca607637f6a42b8b944fa49 --> testing pass Upstream job id: Generic-DPDK-Compile-Meson#363981 Test environment and result as below: +----------------------------------------+--------------------+ | Environment | dpdk_meson_compile | +========================================+====================+ | RHEL9 (ARM) | PASS | +----------------------------------------+--------------------+ | Ubuntu 20.04 ARM GCC Cross Compile | PASS | +----------------------------------------+--------------------+ | Ubuntu 20.04 ARM SVE | PASS | +----------------------------------------+--------------------+ | Debian 12 with MUSDK | PASS | +----------------------------------------+--------------------+ | Fedora 40 (ARM) | PASS | +----------------------------------------+--------------------+ | Fedora 40 (ARM Clang) | PASS | +----------------------------------------+--------------------+ | Fedora 41 (ARM) | PASS | +----------------------------------------+--------------------+ | Fedora 41 (ARM Clang) | PASS | +----------------------------------------+--------------------+ | Ubuntu 20.04 (ARM) | PASS | +----------------------------------------+--------------------+ | Ubuntu 24.04 (ARM) | PASS | +----------------------------------------+--------------------+ | CentOS Stream 9 (ARM) | PASS | +----------------------------------------+--------------------+ | CentOS Stream 10 (ARM) | PASS | +----------------------------------------+--------------------+ | Ubuntu 20.04 ARM Clang Cross Compile | PASS | +----------------------------------------+--------------------+ | Ubuntu 20.04 aarch32 GCC Cross Compile | PASS | +----------------------------------------+--------------------+ | Debian 12 (arm) | PASS | +----------------------------------------+--------------------+ | Debian 11 (Buster) (ARM) | PASS | +----------------------------------------+--------------------+ | Ubuntu 22.04 (ARM) | PASS | +----------------------------------------+--------------------+ RHEL9 (ARM) Kernel: Depends on container host Compiler: gcc 11.5.0 20240719 (Red Hat 11.5.0-2) Ubuntu 20.04 ARM GCC Cross Compile Kernel: Depends on container host Compiler: aarch64-linux-gnu-gcc (Ubuntu 9.4.0-1ubuntu1~20.04.2) 9.4.0 Ubuntu 20.04 ARM SVE Kernel: Depends on container host Compiler: gcc (Ubuntu 10.5.0-1ubuntu1~20.04) 10.5.0 Debian 12 with MUSDK Kernel: Depends on container host Compiler: gcc (Debian 12.2.0-14) 12.2.0 Fedora 40 (ARM) Kernel: Depends on container host Compiler: gcc 14.2.1 20240912 (Red Hat 14.2.1-3) Fedora 40 (ARM Clang) Kernel: Depends on container host Compiler: clang 18.1.8 (Fedora 18.1.8-1.fc40) Fedora 41 (ARM) Kernel: Depends on container host Compiler: gcc 14.2.1 20240912 (Red Hat 14.2.1-3) Fedora 41 (ARM Clang) Kernel: Depends on container host Compiler: clang 19.1.5 (Fedora 19.1.5-1.fc41) Ubuntu 20.04 (ARM) Kernel: Depends on container host Compiler: gcc (Ubuntu 9.4.0-1ubuntu1~20.04.2) 9.4.0 Ubuntu 24.04 (ARM) Kernel: Depends on container host Compiler: gcc (Ubuntu 13.3.0-6ubuntu2~24.04) 13.3.0 CentOS Stream 9 (ARM) Kernel: Depends on container host Compiler: gcc 11.5.0 20240719 (Red Hat 11.5.0-2) CentOS Stream 10 (ARM) Kernel: Depends on container host Compiler: gcc 14.2.1 20241104 (Red Hat 14.2.1-6) Ubuntu 20.04 ARM Clang Cross Compile Kernel: Depends on container host Compiler: clang 10.0.0-4ubuntu1 Ubuntu 20.04 aarch32 GCC Cross Compile Kernel: Depends on container host Compiler: gcc 9.4.0 Debian 12 (arm) Kernel: Depends on container host Compiler: gcc (Debian 12.2.0-14) 12.2.0 Debian 11 (Buster) (ARM) Kernel: Depends on container host Compiler: gcc (Debian 10.2.1-6) 10.2.1 20210110 Ubuntu 22.04 (ARM) Kernel: Depends on container host Compiler: gcc (Ubuntu 11.4.0-1ubuntu1~22.04) 11.4.0 To view detailed results, visit: https://lab.dpdk.org/results/dashboard/tarballs/32655/ UNH-IOL DPDK Community Lab To manage your email subscriptions, visit: https://lab.dpdk.org/results/dashboard/preferences/subscriptions/