From mboxrd@z Thu Jan 1 00:00:00 1970 Return-Path: Received: from mails.dpdk.org (mails.dpdk.org [217.70.189.124]) by inbox.dpdk.org (Postfix) with ESMTP id 4792F4628D for ; Fri, 21 Feb 2025 15:39:51 +0100 (CET) Received: from mails.dpdk.org (localhost [127.0.0.1]) by mails.dpdk.org (Postfix) with ESMTP id 28DB0402CC; Fri, 21 Feb 2025 15:39:51 +0100 (CET) Received: from mail-pl1-f226.google.com (mail-pl1-f226.google.com [209.85.214.226]) by mails.dpdk.org (Postfix) with ESMTP id C9B76402BB for ; Fri, 21 Feb 2025 15:39:49 +0100 (CET) Received: by mail-pl1-f226.google.com with SMTP id d9443c01a7336-220f048c038so39792035ad.2 for ; Fri, 21 Feb 2025 06:39:49 -0800 (PST) DKIM-Signature: v=1; a=rsa-sha256; c=relaxed/relaxed; d=iol.unh.edu; s=unh-iol; t=1740148789; x=1740753589; darn=dpdk.org; h=references:in-reply-to:cc:to:from:subject:message-id:date:from:to :cc:subject:date:message-id:reply-to; bh=VP7tRPQ6hcpSLueSkBWHyDuXwLsWScLMGBzOsGlgBrA=; b=IEDfQhCJka13R3RIjgyfd+Ze0RtbmY+PeP+vHh/NViYZVcrC4vldDczVOMy1kezDwZ L4rfEBHByo8/Vd+iGz5I5ZMw83Z6f92o9pagJPSJT22Y1xTB9GERP1WCwPEI2/lnKaXu YtD08RO+/oSaiTCUVUOdd+ButN7EvDjsU+EFg= X-Google-DKIM-Signature: v=1; a=rsa-sha256; c=relaxed/relaxed; d=1e100.net; s=20230601; t=1740148789; x=1740753589; h=references:in-reply-to:cc:to:from:subject:message-id:date :x-gm-message-state:from:to:cc:subject:date:message-id:reply-to; bh=VP7tRPQ6hcpSLueSkBWHyDuXwLsWScLMGBzOsGlgBrA=; b=MbsrzZovgUwc8cAQfVEwanvQdQGggs0W5g6XDsIm9bkWh+14BlbolcbMjUOXRZzFFJ UDKQ8kfG8T7M2u5vFsL0VSLQzUVzPqSpBct1FCXMQ1E4h1pi3ILNqN2T3Wk70FQyR/9E aml9gu+FoC9mBxkwlnLtFUMBLUKj0hh5R5SaD1I/MtwSdX5c0oscTDSHDITN922nFguY lxMVUpaxOcbej90EzZzNLZroK6C3s6atDrNffXwJmuULB4wPUb1INWUYuT1xSZN5DiQZ XfaMGnTa2c81u5qlOcMFFt9EEBv04L/ldU2LkRKRkXqBC982mQcp+GVN2YRXR0FMI/C7 u4Kw== X-Gm-Message-State: AOJu0YwGwLVPtt07uqOOgK5UuvVbH1CBNvffwgZ1zFZOafgB0GUg+awD sFO5qf5bJkf3s3nVDzMCpbg1K+2p1sOcMh9leLhfjRu5iJ49oG86ooQpF726btTtuht+e/EAcbR J0+aVbWbFeliuUDE1+hZtbydpiZiU8kxz3RQ3Pwno2iID1ytoE6Lwyu0H X-Gm-Gg: ASbGncs2xZg3L/LLaEx56lErhIsCGC7ql0SwZN22P3Pm6AUhEUrkxOJOwyE6JgER2pP x8vr2ebgaQWDkcLtKBwPUcEdb1FO/QSozKpl+I2ENfWpUSPHwsDxfCSYK7VPgOX3cKYrR/eK8c6 79e3Fd2YTd72DVTuOwD36H788vm/+YsBnIDkQhH4zJ52kpgmwXO6p7MHSmbsK1lUdmgmhwbVXPD SuxbUPdWrKhEuwujRrow36U/RsVgQVg8JoiTN23fVbnlVHxUp8v36S1sZRp2kS9+d86xsYs1pFR Szg0e4DKKd24UyP4q5LQ6pEKhttsco9DmXF4TcufBEPkV5BsUihq X-Google-Smtp-Source: AGHT+IE1xqBX26M2dVQLRnnoVMlVOHDTy25KGGdq9t4uxOOqvbqJ1sJ9clRb6MraxbLtSAWgSc2ho1BgkEOb X-Received: by 2002:a05:6a00:9297:b0:730:9752:d02a with SMTP id d2e1a72fcca58-73426c7c766mr4882433b3a.4.1740148788773; Fri, 21 Feb 2025 06:39:48 -0800 (PST) Received: from postal.iol.unh.edu (postal.iol.unh.edu. [2606:4100:3880:1234::84]) by smtp-relay.gmail.com with ESMTPS id d2e1a72fcca58-7325b336950sm1036432b3a.7.2025.02.21.06.39.48 (version=TLS1_2 cipher=ECDHE-ECDSA-AES128-GCM-SHA256 bits=128/128); Fri, 21 Feb 2025 06:39:48 -0800 (PST) X-Relaying-Domain: iol.unh.edu Date: Fri, 21 Feb 2025 06:39:48 -0800 (PST) Message-ID: <67b89034.050a0220.198140.27d5SMTPIN_ADDED_MISSING@mx.google.com> Received: from [172.17.0.3] (unknown [172.18.0.217]) by postal.iol.unh.edu (Postfix) with ESMTP id 5CD316052471; Fri, 21 Feb 2025 09:39:39 -0500 (EST) Subject: |SUCCESS| pw151739-151769 [PATCH] [v1,32/32] net/ntnic: revert untru From: dpdklab@iol.unh.edu To: Test Report Cc: dpdk-test-reports@iol.unh.edu In-Reply-To: <20250220220406.3925597-33-sil-plv@napatech.com> References: <20250220220406.3925597-33-sil-plv@napatech.com> Content-Type: text/plain X-BeenThere: test-report@dpdk.org X-Mailman-Version: 2.1.29 Precedence: list List-Id: automatic DPDK test reports List-Unsubscribe: , List-Archive: List-Post: List-Help: List-Subscribe: , Errors-To: test-report-bounces@dpdk.org Test-Label: iol-unit-arm64-testing Test-Status: SUCCESS http://dpdk.org/patch/151769 _Testing PASS_ Submitter: Serhii Iliushyk Date: Thursday, February 20 2025 22:03:56 DPDK git baseline: Repo:dpdk Branch: master CommitID:3497d187f963e5fddca607637f6a42b8b944fa49 151739-151769 --> testing pass Upstream job id: Generic-Unit-Test-DPDK#317132 Test environment and result as below: +-----------------------------+----------------+--------------+---------------------------+------------------------------+ | Environment | dpdk_unit_test | lpm_autotest | cryptodev_sw_zuc_autotest | cryptodev_sw_snow3g_autotest | +=============================+================+==============+===========================+==============================+ | CentOS Stream 9 (ARM) | PASS | SKIPPED | SKIPPED | SKIPPED | +-----------------------------+----------------+--------------+---------------------------+------------------------------+ | Fedora 40 (ARM) | PASS | SKIPPED | SKIPPED | SKIPPED | +-----------------------------+----------------+--------------+---------------------------+------------------------------+ | Debian 12 (arm) | PASS | SKIPPED | PASS | PASS | +-----------------------------+----------------+--------------+---------------------------+------------------------------+ | Debian 11 (Buster) (ARM) | PASS | SKIPPED | SKIPPED | SKIPPED | +-----------------------------+----------------+--------------+---------------------------+------------------------------+ | CentOS Stream 10 (ARM) | PASS | SKIPPED | SKIPPED | SKIPPED | +-----------------------------+----------------+--------------+---------------------------+------------------------------+ | Fedora 41 (ARM) | PASS | SKIPPED | SKIPPED | SKIPPED | +-----------------------------+----------------+--------------+---------------------------+------------------------------+ | Fedora 41 (ARM Clang) | PASS | SKIPPED | SKIPPED | SKIPPED | +-----------------------------+----------------+--------------+---------------------------+------------------------------+ | Ubuntu 22.04 (ARM) | PASS | SKIPPED | SKIPPED | SKIPPED | +-----------------------------+----------------+--------------+---------------------------+------------------------------+ | Fedora 40 (ARM Clang) | PASS | SKIPPED | SKIPPED | SKIPPED | +-----------------------------+----------------+--------------+---------------------------+------------------------------+ | Ubuntu 20.04 (ARM) | PASS | SKIPPED | SKIPPED | SKIPPED | +-----------------------------+----------------+--------------+---------------------------+------------------------------+ | RHEL9 (ARM) | PASS | SKIPPED | SKIPPED | SKIPPED | +-----------------------------+----------------+--------------+---------------------------+------------------------------+ | Ubuntu 24.04 (ARM) | PASS | SKIPPED | SKIPPED | SKIPPED | +-----------------------------+----------------+--------------+---------------------------+------------------------------+ | 32-bit Ubuntu 22.04.4 (ARM) | PASS | SKIPPED | SKIPPED | SKIPPED | +-----------------------------+----------------+--------------+---------------------------+------------------------------+ | Ubuntu 20.04 ARM SVE | SKIPPED | PASS | SKIPPED | SKIPPED | +-----------------------------+----------------+--------------+---------------------------+------------------------------+ CentOS Stream 9 (ARM) Kernel: Depends on container host Compiler: gcc 11.5.0 20240719 (Red Hat 11.5.0-2) Fedora 40 (ARM) Kernel: Depends on container host Compiler: gcc 14.2.1 20240912 (Red Hat 14.2.1-3) Debian 12 (arm) Kernel: Depends on container host Compiler: gcc (Debian 12.2.0-14) 12.2.0 Debian 11 (Buster) (ARM) Kernel: Depends on container host Compiler: gcc (Debian 10.2.1-6) 10.2.1 20210110 CentOS Stream 10 (ARM) Kernel: Depends on container host Compiler: gcc 14.2.1 20241104 (Red Hat 14.2.1-6) Fedora 41 (ARM) Kernel: Depends on container host Compiler: gcc 14.2.1 20240912 (Red Hat 14.2.1-3) Fedora 41 (ARM Clang) Kernel: Depends on container host Compiler: clang 19.1.5 (Fedora 19.1.5-1.fc41) Ubuntu 22.04 (ARM) Kernel: Depends on container host Compiler: gcc (Ubuntu 11.4.0-1ubuntu1~22.04) 11.4.0 Fedora 40 (ARM Clang) Kernel: Depends on container host Compiler: clang 18.1.8 (Fedora 18.1.8-1.fc40) Ubuntu 20.04 (ARM) Kernel: Depends on container host Compiler: gcc (Ubuntu 9.4.0-1ubuntu1~20.04.2) 9.4.0 RHEL9 (ARM) Kernel: Depends on container host Compiler: gcc 11.5.0 20240719 (Red Hat 11.5.0-2) Ubuntu 24.04 (ARM) Kernel: Depends on container host Compiler: gcc (Ubuntu 13.3.0-6ubuntu2~24.04) 13.3.0 32-bit Ubuntu 22.04.4 (ARM) Kernel: 5.15.83+ aarch64 Compiler: gcc (Ubuntu 11.4.0-1ubuntu1~22.04) 11.4.0 Ubuntu 20.04 ARM SVE Kernel: Depends on container host Compiler: gcc (Ubuntu 10.5.0-1ubuntu1~20.04) 10.5.0 To view detailed results, visit: https://lab.dpdk.org/results/dashboard/patchsets/32630/ UNH-IOL DPDK Community Lab To manage your email subscriptions, visit: https://lab.dpdk.org/results/dashboard/preferences/subscriptions/