From mboxrd@z Thu Jan 1 00:00:00 1970 Return-Path: Received: from mails.dpdk.org (mails.dpdk.org [217.70.189.124]) by inbox.dpdk.org (Postfix) with ESMTP id 989C44628E for ; Fri, 21 Feb 2025 16:54:52 +0100 (CET) Received: from mails.dpdk.org (localhost [127.0.0.1]) by mails.dpdk.org (Postfix) with ESMTP id 93A8D402CC; Fri, 21 Feb 2025 16:54:52 +0100 (CET) Received: from mail-yw1-f225.google.com (mail-yw1-f225.google.com [209.85.128.225]) by mails.dpdk.org (Postfix) with ESMTP id E19EF402BB for ; Fri, 21 Feb 2025 16:54:51 +0100 (CET) Received: by mail-yw1-f225.google.com with SMTP id 00721157ae682-6f7031ea11cso19617277b3.2 for ; Fri, 21 Feb 2025 07:54:51 -0800 (PST) DKIM-Signature: v=1; a=rsa-sha256; c=relaxed/relaxed; d=iol.unh.edu; s=unh-iol; t=1740153291; x=1740758091; darn=dpdk.org; h=references:in-reply-to:cc:to:from:subject:message-id:date:from:to :cc:subject:date:message-id:reply-to; bh=Jf9sWSAYNHP7luuf8ZxxwGv/cz03Wf3viqtIBG4dV2k=; b=X4dOczWJ7ItfOgkK7hPL9RbV3hl4Fl7M12Mm7tGr6QK25hDEtMWA0MXoZo3u31i3S2 4KOtSIxic49c1tANliQ5unMl6m28xud4RRjRKOfIoLYsaIYclt/bVnvkUDRmtSgt8E2d JGYaDNZkwOb48HXiiKgeeeZDNnwJd+4u3sN70= X-Google-DKIM-Signature: v=1; a=rsa-sha256; c=relaxed/relaxed; d=1e100.net; s=20230601; t=1740153291; x=1740758091; h=references:in-reply-to:cc:to:from:subject:message-id:date :x-gm-message-state:from:to:cc:subject:date:message-id:reply-to; bh=Jf9sWSAYNHP7luuf8ZxxwGv/cz03Wf3viqtIBG4dV2k=; b=mfzJ0Ec6p7BJfyw/5mre0W3Nz9P/HAXzsHa0admmHbteKwLPpl19qtnrWTyKhYeJGB MqK3/6+2GZQI2ncPIc4E3u5yJUo3LwPPjjSYuOO9sjjn32Dbc1V2EqYdQG+wSacbiUmS yQ8zgZeCIIOtJCVcU/jsG2ioKXEL3P2tcVCDPJ7T7ZPJyQR736y+xYKda5y/V8Hm2orH GQJryXB4YAMNrlqc5wY1xSVrUjG5kstIq6KKXWcOEGeTLUaxfnsEs5HQEQP664Lrhhi0 XPt/tApXKthsjFJ+FIXKtBstM+Gqk3UVKIL3QSCIYpcs5d/T/4HoieeWrVZ3VikNy3rh P5SA== X-Gm-Message-State: AOJu0YxSc2BkiplyzDbiR8YGwt6Lqsg94/TaiofRtrnJEVTANeSNej2x PtckWEwtyNu6ub6Fv26VPTcDI/l77sbkip72j7yClflA4XUKTILy1wc7ghvgE4vbks66WPVxyDy Bvv+tcXpyXxnJtx7u/WVvW9Qv0P/r7VcjCZrmvb39 X-Gm-Gg: ASbGncthw7nLqi/5E4qmlOHGumbrGifdVKNZ9NEVRigfzx83JL4lrxQHd7CxN6qyzbp SzRJ59yV9H6Zzt06ajKZl05XwEHN+FRAgeG9BFvl683qYY3+0IiW0giQN/S7miwjvovkGg9KWv8 poCkzzOdc+p0/7/t2P49lU2vECOE6SDevBfDoNCx2kQaZAS8N0em9ipojiNrkcdD8v6RpfZdwns Xq7KoHw1/rAvuTDKBCQcSojwha+B2j4Ne8+OVW3Ul2oVMuhYSoSnTH/JRfYN/OdIIkUKk+Vnls9 BD1A1rYaIYWynsdAERFtGSZaaxSRUV+RHRDKMPGQ X-Google-Smtp-Source: AGHT+IEnB0KTBi9zUBztN54oUtWbdNZin49GiiR4a3AaLIdK/97izv8qdCg8Jzl1OQM9KhyuqfmWSo8mSsFI X-Received: by 2002:a05:690c:6182:b0:6fb:b1dd:a00a with SMTP id 00721157ae682-6fbcc390512mr34421317b3.32.1740153291242; Fri, 21 Feb 2025 07:54:51 -0800 (PST) Received: from postal.iol.unh.edu (postal.iol.unh.edu. [132.177.123.84]) by smtp-relay.gmail.com with ESMTPS id 00721157ae682-6fb621a4fcfsm4212547b3.53.2025.02.21.07.54.51 (version=TLS1_2 cipher=ECDHE-ECDSA-AES128-GCM-SHA256 bits=128/128); Fri, 21 Feb 2025 07:54:51 -0800 (PST) X-Relaying-Domain: iol.unh.edu Date: Fri, 21 Feb 2025 07:54:51 -0800 (PST) Message-ID: <67b8a1cb.050a0220.ed22.3e2eSMTPIN_ADDED_MISSING@mx.google.com> Received: from [172.21.0.5] (unknown [172.18.0.240]) by postal.iol.unh.edu (Postfix) with ESMTP id B29096052471; Fri, 21 Feb 2025 10:54:48 -0500 (EST) Subject: |SUCCESS| pw151739-151769 [PATCH] [v1,32/32] net/ntnic: revert untru From: dpdklab@iol.unh.edu To: Test Report Cc: dpdk-test-reports@iol.unh.edu In-Reply-To: <20250220220406.3925597-33-sil-plv@napatech.com> References: <20250220220406.3925597-33-sil-plv@napatech.com> Content-Type: text/plain X-BeenThere: test-report@dpdk.org X-Mailman-Version: 2.1.29 Precedence: list List-Id: automatic DPDK test reports List-Unsubscribe: , List-Archive: List-Post: List-Help: List-Subscribe: , Errors-To: test-report-bounces@dpdk.org Test-Label: iol-compile-arm64-testing Test-Status: SUCCESS http://dpdk.org/patch/151769 _Testing PASS_ Submitter: Serhii Iliushyk Date: Thursday, February 20 2025 22:03:56 DPDK git baseline: Repo:dpdk Branch: master CommitID:3497d187f963e5fddca607637f6a42b8b944fa49 151739-151769 --> testing pass Upstream job id: Generic-DPDK-Compile-Meson#364028 Test environment and result as below: +----------------------------------------+--------------------+ | Environment | dpdk_meson_compile | +========================================+====================+ | RHEL9 (ARM) | PASS | +----------------------------------------+--------------------+ | Ubuntu 20.04 ARM GCC Cross Compile | PASS | +----------------------------------------+--------------------+ | Ubuntu 20.04 ARM SVE | PASS | +----------------------------------------+--------------------+ | Debian 12 with MUSDK | PASS | +----------------------------------------+--------------------+ | Fedora 40 (ARM) | PASS | +----------------------------------------+--------------------+ | Fedora 40 (ARM Clang) | PASS | +----------------------------------------+--------------------+ | Fedora 41 (ARM) | PASS | +----------------------------------------+--------------------+ | Fedora 41 (ARM Clang) | PASS | +----------------------------------------+--------------------+ | Ubuntu 24.04 (ARM) | PASS | +----------------------------------------+--------------------+ | Ubuntu 22.04 (ARM) | PASS | +----------------------------------------+--------------------+ | CentOS Stream 10 (ARM) | PASS | +----------------------------------------+--------------------+ | Debian 11 (Buster) (ARM) | PASS | +----------------------------------------+--------------------+ | CentOS Stream 9 (ARM) | PASS | +----------------------------------------+--------------------+ | Debian 12 (arm) | PASS | +----------------------------------------+--------------------+ | Ubuntu 20.04 ARM Clang Cross Compile | PASS | +----------------------------------------+--------------------+ | Ubuntu 20.04 aarch32 GCC Cross Compile | PASS | +----------------------------------------+--------------------+ | Ubuntu 20.04 (ARM) | PASS | +----------------------------------------+--------------------+ RHEL9 (ARM) Kernel: Depends on container host Compiler: gcc 11.5.0 20240719 (Red Hat 11.5.0-2) Ubuntu 20.04 ARM GCC Cross Compile Kernel: Depends on container host Compiler: aarch64-linux-gnu-gcc (Ubuntu 9.4.0-1ubuntu1~20.04.2) 9.4.0 Ubuntu 20.04 ARM SVE Kernel: Depends on container host Compiler: gcc (Ubuntu 10.5.0-1ubuntu1~20.04) 10.5.0 Debian 12 with MUSDK Kernel: Depends on container host Compiler: gcc (Debian 12.2.0-14) 12.2.0 Fedora 40 (ARM) Kernel: Depends on container host Compiler: gcc 14.2.1 20240912 (Red Hat 14.2.1-3) Fedora 40 (ARM Clang) Kernel: Depends on container host Compiler: clang 18.1.8 (Fedora 18.1.8-1.fc40) Fedora 41 (ARM) Kernel: Depends on container host Compiler: gcc 14.2.1 20240912 (Red Hat 14.2.1-3) Fedora 41 (ARM Clang) Kernel: Depends on container host Compiler: clang 19.1.5 (Fedora 19.1.5-1.fc41) Ubuntu 24.04 (ARM) Kernel: Depends on container host Compiler: gcc (Ubuntu 13.3.0-6ubuntu2~24.04) 13.3.0 Ubuntu 22.04 (ARM) Kernel: Depends on container host Compiler: gcc (Ubuntu 11.4.0-1ubuntu1~22.04) 11.4.0 CentOS Stream 10 (ARM) Kernel: Depends on container host Compiler: gcc 14.2.1 20241104 (Red Hat 14.2.1-6) Debian 11 (Buster) (ARM) Kernel: Depends on container host Compiler: gcc (Debian 10.2.1-6) 10.2.1 20210110 CentOS Stream 9 (ARM) Kernel: Depends on container host Compiler: gcc 11.5.0 20240719 (Red Hat 11.5.0-2) Debian 12 (arm) Kernel: Depends on container host Compiler: gcc (Debian 12.2.0-14) 12.2.0 Ubuntu 20.04 ARM Clang Cross Compile Kernel: Depends on container host Compiler: clang 10.0.0-4ubuntu1 Ubuntu 20.04 aarch32 GCC Cross Compile Kernel: Depends on container host Compiler: gcc 9.4.0 Ubuntu 20.04 (ARM) Kernel: Depends on container host Compiler: gcc (Ubuntu 9.4.0-1ubuntu1~20.04.2) 9.4.0 To view detailed results, visit: https://lab.dpdk.org/results/dashboard/patchsets/32630/ UNH-IOL DPDK Community Lab To manage your email subscriptions, visit: https://lab.dpdk.org/results/dashboard/preferences/subscriptions/