From mboxrd@z Thu Jan 1 00:00:00 1970 Return-Path: Received: from mails.dpdk.org (mails.dpdk.org [217.70.189.124]) by inbox.dpdk.org (Postfix) with ESMTP id 1B58E4628E for ; Fri, 21 Feb 2025 17:11:34 +0100 (CET) Received: from mails.dpdk.org (localhost [127.0.0.1]) by mails.dpdk.org (Postfix) with ESMTP id E8080402CC; Fri, 21 Feb 2025 17:11:33 +0100 (CET) Received: from mail-pj1-f99.google.com (mail-pj1-f99.google.com [209.85.216.99]) by mails.dpdk.org (Postfix) with ESMTP id A2568402BB for ; Fri, 21 Feb 2025 17:11:32 +0100 (CET) Received: by mail-pj1-f99.google.com with SMTP id 98e67ed59e1d1-2fa7465baceso4779464a91.0 for ; Fri, 21 Feb 2025 08:11:32 -0800 (PST) DKIM-Signature: v=1; a=rsa-sha256; c=relaxed/relaxed; d=iol.unh.edu; s=unh-iol; t=1740154292; x=1740759092; darn=dpdk.org; h=cc:to:from:subject:message-id:date:from:to:cc:subject:date :message-id:reply-to; bh=BIbY3XQIYMzeQsDTujUThZ3BljJqlka3kaIuanIlF+s=; b=O+oy5ShuNX0eq7W6MZFGGiJcHV4Kho+0i/cIpUVSIUluHLeObxrksAcTRbyFFb/IOo HdTv8EsWrK9/kKwQaT3bH4hiVw938Z5Dv5N+xu5ZWcJrpMTkds2eRUz+gZe0Tgtqt5p0 iVI939Ltpu0JVOrnrN0DaA+MpqlLiEziiXMww= X-Google-DKIM-Signature: v=1; a=rsa-sha256; c=relaxed/relaxed; d=1e100.net; s=20230601; t=1740154292; x=1740759092; h=cc:to:from:subject:message-id:date:x-gm-message-state:from:to:cc :subject:date:message-id:reply-to; bh=BIbY3XQIYMzeQsDTujUThZ3BljJqlka3kaIuanIlF+s=; b=suf4w3TipvTxGWpbeiQc7lKNwJsSJSxguqISOz601Piid+4/xf0q2pc+00Wi0HvBvI X+B1+nqY5+n4lZTbjVxSiwDQx3AIrdAQnAG5nysvTw6vrcVabP5Ff6uTLrTVk0GaUyMn rkCWkTxZkhl05y8uVJDBbpRyoqAXenLvOneiH/zjR6wcGVMpwWjxmP560B+TFHaTyyac aC39B2+kcediwmoZhmexK2fgarvmrqLJTYLW6OwbLxUr/r8ZNTxDGIogoOfHyX1XEl+t 5mOsA7t5eoXRGynJimBGXBPz3vcfBQGXALqBtfvhrVt3n8I4OEeLmaWjYqOTY0Z8MWpU LJdQ== X-Gm-Message-State: AOJu0Yw+9KyjlwksTO9KkH2tw0Llsg2jUjXStjHEPMWSqYUDy/DmHaes KPbcAiaTVfmM4P7+eMX8eJbmL3HEA2fiW5y/1wFPDwHDQf6hY919Rustf/kp3c5mNHurNRZLjEY IPnXrWtHIYH/TJQDBoTA9JNJ5L1CEtjPinnwIhoJ73ArEetWf6Y8yQ9dK X-Gm-Gg: ASbGncsiFxj4knjMkb90nweejYnG3J8nddzQPrHowMlg3iBLdzohhfHWw4loZmZUwmW vGxFHfXChIPhWZcOT1ui5QMERa/Tg+3sMPJRqLvdc1YAKffSiN2ZPJqvpTDAsq+MhaG67INQ3l1 CwpiI7BV1fk/qNGYvS1RkYaZ8LSq0h0H20ygVnIvEvQWPslzKmmrZ6A4YqjxYeaUEZMwnmFlmMH LR7E8UbaN4H29IpQYjaCUKpxMgGwyLeC05m3o/zR36a16CyKqPqO62ZEkwir/O8LBDrXGk6im5N hEJNYJWVqYXgVEs1xROOTacUrERmeP9ULYQ7RjzekbZFNwjeCSTA X-Google-Smtp-Source: AGHT+IFtkiWRxTgApQblOQLdAtQNTBBXk3v4+pXRy+jbgf2h4IiPyWCQ9+ipp2axbWrW3cTuydzAv1POxbed X-Received: by 2002:a17:90b:2688:b0:2f9:9e64:37b1 with SMTP id 98e67ed59e1d1-2fce7b0ad50mr6197255a91.28.1740154291743; Fri, 21 Feb 2025 08:11:31 -0800 (PST) Received: from postal.iol.unh.edu (postal.iol.unh.edu. [2606:4100:3880:1234::84]) by smtp-relay.gmail.com with ESMTPS id 98e67ed59e1d1-2fceb02e37csm121636a91.3.2025.02.21.08.11.31 (version=TLS1_2 cipher=ECDHE-ECDSA-AES128-GCM-SHA256 bits=128/128); Fri, 21 Feb 2025 08:11:31 -0800 (PST) X-Relaying-Domain: iol.unh.edu Date: Fri, 21 Feb 2025 08:11:31 -0800 (PST) Message-ID: <67b8a5b3.170a0220.3aefa0.67d2SMTPIN_ADDED_MISSING@mx.google.com> Received: from [172.21.0.8] (unknown [172.18.0.240]) by postal.iol.unh.edu (Postfix) with ESMTP id BB2F96052471; Fri, 21 Feb 2025 11:11:27 -0500 (EST) Subject: |SUCCESS| [GIT MASTER] 3497d187f963e5fddca607637f6a42b8b944fa49 From: dpdklab@iol.unh.edu To: Test Report Cc: dpdk-test-reports@iol.unh.edu, Stephen Hemminger Content-Type: text/plain X-BeenThere: test-report@dpdk.org X-Mailman-Version: 2.1.29 Precedence: list List-Id: automatic DPDK test reports List-Unsubscribe: , List-Archive: List-Post: List-Help: List-Subscribe: , Errors-To: test-report-bounces@dpdk.org _Testing PASS_ Branch: dpdk-next-net 3497d187f963e5fddca607637f6a42b8b944fa49 --> testing pass Upstream job id: Windows-Compile-DPDK-VS#5002 Test environment and result as below: +---------------------+--------------------+-------------------+------------------+-------------------+ | Environment | dpdk_meson_compile | dpdk_compile_spdk | dpdk_compile_ovs | dpdk_msvc_compile | +=====================+====================+===================+==================+===================+ | CentOS Stream 9 | PASS | PASS | SKIPPED | SKIPPED | +---------------------+--------------------+-------------------+------------------+-------------------+ | CentOS Stream 10 | PASS | SKIPPED | SKIPPED | SKIPPED | +---------------------+--------------------+-------------------+------------------+-------------------+ | Debian 12 | PASS | PASS | SKIPPED | SKIPPED | +---------------------+--------------------+-------------------+------------------+-------------------+ | Debian Bullseye | PASS | PASS | SKIPPED | SKIPPED | +---------------------+--------------------+-------------------+------------------+-------------------+ | Fedora 40 (Clang) | PASS | PASS | SKIPPED | SKIPPED | +---------------------+--------------------+-------------------+------------------+-------------------+ | Fedora 41 | PASS | PASS | PASS | SKIPPED | +---------------------+--------------------+-------------------+------------------+-------------------+ | Fedora 40 | PASS | PASS | SKIPPED | SKIPPED | +---------------------+--------------------+-------------------+------------------+-------------------+ | openSUSE Leap 15 | PASS | SKIPPED | SKIPPED | SKIPPED | +---------------------+--------------------+-------------------+------------------+-------------------+ | Fedora 41 (Clang) | PASS | PASS | PASS | SKIPPED | +---------------------+--------------------+-------------------+------------------+-------------------+ | RHEL8 | PASS | SKIPPED | SKIPPED | SKIPPED | +---------------------+--------------------+-------------------+------------------+-------------------+ | RHEL9 | PASS | SKIPPED | SKIPPED | SKIPPED | +---------------------+--------------------+-------------------+------------------+-------------------+ | Ubuntu 20.04 | PASS | SKIPPED | SKIPPED | SKIPPED | +---------------------+--------------------+-------------------+------------------+-------------------+ | Ubuntu 22.04 | PASS | PASS | SKIPPED | SKIPPED | +---------------------+--------------------+-------------------+------------------+-------------------+ | Ubuntu 24.04 | PASS | PASS | PASS | SKIPPED | +---------------------+--------------------+-------------------+------------------+-------------------+ | Alpine | PASS | SKIPPED | SKIPPED | SKIPPED | +---------------------+--------------------+-------------------+------------------+-------------------+ | FreeBSD 13.4 | PASS | SKIPPED | SKIPPED | SKIPPED | +---------------------+--------------------+-------------------+------------------+-------------------+ | FreeBSD 14.2 | PASS | SKIPPED | SKIPPED | SKIPPED | +---------------------+--------------------+-------------------+------------------+-------------------+ | Windows Server 2022 | SKIPPED | SKIPPED | SKIPPED | PASS | +---------------------+--------------------+-------------------+------------------+-------------------+ CentOS Stream 9 Kernel: Depends on container host Compiler: gcc 11.5.0 20240719 (Red Hat 11.5.0-2) CentOS Stream 10 Kernel: Depends on container host Compiler: gcc 14.2.1 20241104 (Red Hat 14.2.1-6) Debian 12 Kernel: Depends on container host Compiler: gcc (Debian 12.2.0-14) 12.2.0 Debian Bullseye Kernel: Depends on container host Compiler: gcc (Debian 10.2.1-6) 10.2.1 20210110 Fedora 40 (Clang) Kernel: Depends on container host Compiler: clang 18.1.8 (Fedora 18.1.8-1.fc40) Fedora 41 Kernel: Depends on container host Compiler: gcc 14.2.1 20240912 (Red Hat 14.2.1-3) Fedora 40 Kernel: Depends on container host Compiler: gcc 14.2.1 20240912 (Red Hat 14.2.1-3) openSUSE Leap 15 Kernel: Depends on container host Compiler: gcc (SUSE Linux) 7.5.0 Fedora 41 (Clang) Kernel: Depends on container host Compiler: clang 19.1.5 (Fedora 19.1.5-1.fc41) RHEL8 Kernel: Depends on container host Compiler: gcc 8.5.0 20210514 (Red Hat 8.5.0-22) RHEL9 Kernel: Depends on container host Compiler: gcc 11.5.0 20240719 (Red Hat 11.5.0-2) Ubuntu 20.04 Kernel: Depends on container host Compiler: gcc (Ubuntu 9.4.0-1ubuntu1~20.04.2) 9.4.0 Ubuntu 22.04 Kernel: Depends on container host Compiler: gcc (Ubuntu 11.4.0-1ubuntu1~22.04) 11.4.0 Ubuntu 24.04 Kernel: Depends on container host Compiler: gcc (Ubuntu 13.3.0-6ubuntu2~24.04) 13.3.0 Alpine Kernel: Depends on container host Compiler: gcc (Alpine 14.2.0) 14.2.0 FreeBSD 13.4 Kernel: 13.4-RELEASE-p1 Compiler: clang 18.1.6 FreeBSD 14.2 Kernel: 14.2-RELEASE Compiler: clang 18.1.6 Windows Server 2022 Kernel: 10.0.20348.2031 Compiler: clang 15.0.7, gcc 14.1.0 (MinGW), and MSVC VS 19.39.33521 To view detailed results, visit: https://lab.dpdk.org/results/dashboard/tarballs/32655/ UNH-IOL DPDK Community Lab To manage your email subscriptions, visit: https://lab.dpdk.org/results/dashboard/preferences/subscriptions/