From mboxrd@z Thu Jan 1 00:00:00 1970 Return-Path: Received: from mails.dpdk.org (mails.dpdk.org [217.70.189.124]) by inbox.dpdk.org (Postfix) with ESMTP id 765A74628E for ; Fri, 21 Feb 2025 17:14:46 +0100 (CET) Received: from mails.dpdk.org (localhost [127.0.0.1]) by mails.dpdk.org (Postfix) with ESMTP id 5B2A5402CC; Fri, 21 Feb 2025 17:14:46 +0100 (CET) Received: from mail-yw1-f228.google.com (mail-yw1-f228.google.com [209.85.128.228]) by mails.dpdk.org (Postfix) with ESMTP id 53428402BB for ; Fri, 21 Feb 2025 17:14:45 +0100 (CET) Received: by mail-yw1-f228.google.com with SMTP id 00721157ae682-6f8c58229f1so20382937b3.0 for ; Fri, 21 Feb 2025 08:14:45 -0800 (PST) DKIM-Signature: v=1; a=rsa-sha256; c=relaxed/relaxed; d=iol.unh.edu; s=unh-iol; t=1740154484; x=1740759284; darn=dpdk.org; h=references:in-reply-to:cc:to:from:subject:message-id:date:from:to :cc:subject:date:message-id:reply-to; bh=JxKpVGQ1l4awVUPEyFoj0gQAupc1iBCTq7hkWKmqftg=; b=J4Yu19kBX4biG8S6NrxPkSRy5W1bnT6lLClZkKf1NmGCGYPJY16DeDiqrUkTFmwjjS aPZ0pJqgpTwJ9vGynrjqRkZqByRwxaUpiE1JuaT8D6vZTx15hEXEmv/3P/jEN/83Giav m5cOflZSHcuRXCet6F9B2rGAWseLjcUYwbeAw= X-Google-DKIM-Signature: v=1; a=rsa-sha256; c=relaxed/relaxed; d=1e100.net; s=20230601; t=1740154484; x=1740759284; h=references:in-reply-to:cc:to:from:subject:message-id:date :x-gm-message-state:from:to:cc:subject:date:message-id:reply-to; bh=JxKpVGQ1l4awVUPEyFoj0gQAupc1iBCTq7hkWKmqftg=; b=MrccVwuSNLeK1f5iF3/Ky7c3z41X1pl2/MgXnvf0YVJ/PDTwWkv/Z26ksQg2sDbwKX 5uwVfXi3aOz288LjEtzsm+JVNPmXcgUXKV5XN0/Kl20gi66L5fCWBHnMIqA1BKp5D7gy FhPo/ZCWYzaKXQnufwXjcWFL/Ray9g3QcohZLbtcP/m41XmRYN1nhnCqlizZZVMw0aEX 47kCxh0t42RufhPphWmxPZatB9bohI2lAtlsgh1roBooS/L5CmbpDtQshPdT3VIJgDBv ZcuoBCHizrZCpRrKeVWVNUqrHNfpGEBah4weUJsbGg2eFJ2pArR0PSxDlHxeF5NNg3iS 6Fvg== X-Gm-Message-State: AOJu0YyX+Ip0tmYI5L5RDHuh4wo8SlI1h63NvixgpZCq9pzPX1Auk6dl O4qNZFAoBXVyOc1otuq1GiALH3P3bH/fSGPHhiOIE3EZG/9tv4h2GZtXfFRc0lNRY2BTQBAAOL7 Cr44SvibTUne0KfTpXmjfqEGTkGuHVztBtM01Z7zF X-Gm-Gg: ASbGncvQ1Dc0xI3zp3zs4BLbjeJgaNasKhi1nsC842euAk8bs21r1Y6WmxCCpOQeOFO WYxnEjvbPAgpTOAHb2OilHiqoVSGuwynByDutCzeH49VzZucWCK5LMI74wMKYi974wFeNXOOFWy Q7P20KhUH9M49ur5zf9f86s8sYfJgR3fdJDZ7q44B5SfCXe4BIN1pfumxjPhnd2qVKAQL4zAjYP H+H0kTC0r47eubwtm8ust5AykAf6IcK0P9dLjkq4omSM5JAUL/9vQjlaXcvUTfrhqmN9U5NNT1+ qj70GEOPb8LwCbmDKsMhmTf0gshnoEg2EKvqOiLO X-Google-Smtp-Source: AGHT+IGOfE1yySYtjsOQafat23CgCD86hBzYPNm5++VihQH9FErCzaj/OSbs/IIuNuriPWqYqI13o3WawcJR X-Received: by 2002:a05:690c:300e:b0:6fb:5498:7130 with SMTP id 00721157ae682-6fbb78e4b58mr54570837b3.4.1740154484711; Fri, 21 Feb 2025 08:14:44 -0800 (PST) Received: from postal.iol.unh.edu (postal.iol.unh.edu. [132.177.123.84]) by smtp-relay.gmail.com with ESMTPS id 00721157ae682-6fb8decf835sm3746197b3.17.2025.02.21.08.14.44 (version=TLS1_2 cipher=ECDHE-ECDSA-AES128-GCM-SHA256 bits=128/128); Fri, 21 Feb 2025 08:14:44 -0800 (PST) X-Relaying-Domain: iol.unh.edu Date: Fri, 21 Feb 2025 08:14:44 -0800 (PST) Message-ID: <67b8a674.050a0220.1dd260.433fSMTPIN_ADDED_MISSING@mx.google.com> Received: from [172.17.0.3] (unknown [172.18.0.217]) by postal.iol.unh.edu (Postfix) with ESMTP id 33C046052471; Fri, 21 Feb 2025 11:14:41 -0500 (EST) Subject: |SUCCESS| pw151690 [PATCH] test/crypto: remove unused variable From: dpdklab@iol.unh.edu To: Test Report Cc: dpdk-test-reports@iol.unh.edu In-Reply-To: <20250220132807.2000-1-felix.zhang@jaguarmicro.com> References: <20250220132807.2000-1-felix.zhang@jaguarmicro.com> Content-Type: text/plain X-BeenThere: test-report@dpdk.org X-Mailman-Version: 2.1.29 Precedence: list List-Id: automatic DPDK test reports List-Unsubscribe: , List-Archive: List-Post: List-Help: List-Subscribe: , Errors-To: test-report-bounces@dpdk.org Test-Label: iol-compile-amd64-testing Test-Status: SUCCESS http://dpdk.org/patch/151690 _Testing PASS_ Submitter: Shaokai Zhang Date: Thursday, February 20 2025 13:28:07 DPDK git baseline: Repo:dpdk Branch: master CommitID:fab31a03ba98e7457284df95dd9eef2223a4ccaa 151690 --> testing pass Upstream job id: Windows-Compile-DPDK-Native#26814 Test environment and result as below: +---------------------+--------------------+-------------------+------------------+-------------------+-------------------------+----------------------+ | Environment | dpdk_meson_compile | dpdk_compile_spdk | dpdk_compile_ovs | dpdk_msvc_compile | dpdk_llvm_clang_compile | dpdk_mingw64_compile | +=====================+====================+===================+==================+===================+=========================+======================+ | CentOS Stream 9 | PASS | PASS | SKIPPED | SKIPPED | SKIPPED | SKIPPED | +---------------------+--------------------+-------------------+------------------+-------------------+-------------------------+----------------------+ | CentOS Stream 10 | PASS | SKIPPED | SKIPPED | SKIPPED | SKIPPED | SKIPPED | +---------------------+--------------------+-------------------+------------------+-------------------+-------------------------+----------------------+ | Debian Bullseye | PASS | PASS | SKIPPED | SKIPPED | SKIPPED | SKIPPED | +---------------------+--------------------+-------------------+------------------+-------------------+-------------------------+----------------------+ | Debian 12 | PASS | PASS | SKIPPED | SKIPPED | SKIPPED | SKIPPED | +---------------------+--------------------+-------------------+------------------+-------------------+-------------------------+----------------------+ | Fedora 40 | PASS | PASS | SKIPPED | SKIPPED | SKIPPED | SKIPPED | +---------------------+--------------------+-------------------+------------------+-------------------+-------------------------+----------------------+ | Fedora 40 (Clang) | PASS | PASS | SKIPPED | SKIPPED | SKIPPED | SKIPPED | +---------------------+--------------------+-------------------+------------------+-------------------+-------------------------+----------------------+ | Fedora 41 (Clang) | PASS | PASS | PASS | SKIPPED | SKIPPED | SKIPPED | +---------------------+--------------------+-------------------+------------------+-------------------+-------------------------+----------------------+ | Ubuntu 22.04 | PASS | PASS | SKIPPED | SKIPPED | SKIPPED | SKIPPED | +---------------------+--------------------+-------------------+------------------+-------------------+-------------------------+----------------------+ | Fedora 41 | PASS | PASS | PASS | SKIPPED | SKIPPED | SKIPPED | +---------------------+--------------------+-------------------+------------------+-------------------+-------------------------+----------------------+ | openSUSE Leap 15 | PASS | SKIPPED | SKIPPED | SKIPPED | SKIPPED | SKIPPED | +---------------------+--------------------+-------------------+------------------+-------------------+-------------------------+----------------------+ | RHEL9 | PASS | SKIPPED | SKIPPED | SKIPPED | SKIPPED | SKIPPED | +---------------------+--------------------+-------------------+------------------+-------------------+-------------------------+----------------------+ | RHEL8 | PASS | SKIPPED | SKIPPED | SKIPPED | SKIPPED | SKIPPED | +---------------------+--------------------+-------------------+------------------+-------------------+-------------------------+----------------------+ | Ubuntu 20.04 | PASS | SKIPPED | SKIPPED | SKIPPED | SKIPPED | SKIPPED | +---------------------+--------------------+-------------------+------------------+-------------------+-------------------------+----------------------+ | Ubuntu 24.04 | PASS | PASS | PASS | SKIPPED | SKIPPED | SKIPPED | +---------------------+--------------------+-------------------+------------------+-------------------+-------------------------+----------------------+ | Alpine | PASS | SKIPPED | SKIPPED | SKIPPED | SKIPPED | SKIPPED | +---------------------+--------------------+-------------------+------------------+-------------------+-------------------------+----------------------+ | FreeBSD 13.4 | PASS | SKIPPED | SKIPPED | SKIPPED | SKIPPED | SKIPPED | +---------------------+--------------------+-------------------+------------------+-------------------+-------------------------+----------------------+ | FreeBSD 14.2 | PASS | SKIPPED | SKIPPED | SKIPPED | SKIPPED | SKIPPED | +---------------------+--------------------+-------------------+------------------+-------------------+-------------------------+----------------------+ | Windows Server 2022 | SKIPPED | SKIPPED | SKIPPED | PASS | PASS | PASS | +---------------------+--------------------+-------------------+------------------+-------------------+-------------------------+----------------------+ CentOS Stream 9 Kernel: Depends on container host Compiler: gcc 11.5.0 20240719 (Red Hat 11.5.0-2) CentOS Stream 10 Kernel: Depends on container host Compiler: gcc 14.2.1 20241104 (Red Hat 14.2.1-6) Debian Bullseye Kernel: Depends on container host Compiler: gcc (Debian 10.2.1-6) 10.2.1 20210110 Debian 12 Kernel: Depends on container host Compiler: gcc (Debian 12.2.0-14) 12.2.0 Fedora 40 Kernel: Depends on container host Compiler: gcc 14.2.1 20240912 (Red Hat 14.2.1-3) Fedora 40 (Clang) Kernel: Depends on container host Compiler: clang 18.1.8 (Fedora 18.1.8-1.fc40) Fedora 41 (Clang) Kernel: Depends on container host Compiler: clang 19.1.5 (Fedora 19.1.5-1.fc41) Ubuntu 22.04 Kernel: Depends on container host Compiler: gcc (Ubuntu 11.4.0-1ubuntu1~22.04) 11.4.0 Fedora 41 Kernel: Depends on container host Compiler: gcc 14.2.1 20240912 (Red Hat 14.2.1-3) openSUSE Leap 15 Kernel: Depends on container host Compiler: gcc (SUSE Linux) 7.5.0 RHEL9 Kernel: Depends on container host Compiler: gcc 11.5.0 20240719 (Red Hat 11.5.0-2) RHEL8 Kernel: Depends on container host Compiler: gcc 8.5.0 20210514 (Red Hat 8.5.0-22) Ubuntu 20.04 Kernel: Depends on container host Compiler: gcc (Ubuntu 9.4.0-1ubuntu1~20.04.2) 9.4.0 Ubuntu 24.04 Kernel: Depends on container host Compiler: gcc (Ubuntu 13.3.0-6ubuntu2~24.04) 13.3.0 Alpine Kernel: Depends on container host Compiler: gcc (Alpine 14.2.0) 14.2.0 FreeBSD 13.4 Kernel: 13.4-RELEASE-p1 Compiler: clang 18.1.6 FreeBSD 14.2 Kernel: 14.2-RELEASE Compiler: clang 18.1.6 Windows Server 2022 Kernel: 10.0.20348.2031 Compiler: clang 15.0.7, gcc 14.1.0 (MinGW), and MSVC VS 19.39.33521 To view detailed results, visit: https://lab.dpdk.org/results/dashboard/patchsets/32623/ UNH-IOL DPDK Community Lab To manage your email subscriptions, visit: https://lab.dpdk.org/results/dashboard/preferences/subscriptions/