From mboxrd@z Thu Jan 1 00:00:00 1970 Return-Path: Received: from mails.dpdk.org (mails.dpdk.org [217.70.189.124]) by inbox.dpdk.org (Postfix) with ESMTP id EC4EE4628E for ; Fri, 21 Feb 2025 17:18:59 +0100 (CET) Received: from mails.dpdk.org (localhost [127.0.0.1]) by mails.dpdk.org (Postfix) with ESMTP id CB2D8402CC; Fri, 21 Feb 2025 17:18:59 +0100 (CET) Received: from mail-yb1-f227.google.com (mail-yb1-f227.google.com [209.85.219.227]) by mails.dpdk.org (Postfix) with ESMTP id 0BD56402BB for ; Fri, 21 Feb 2025 17:18:58 +0100 (CET) Received: by mail-yb1-f227.google.com with SMTP id 3f1490d57ef6-e5dc299dee9so2144914276.3 for ; Fri, 21 Feb 2025 08:18:57 -0800 (PST) DKIM-Signature: v=1; a=rsa-sha256; c=relaxed/relaxed; d=iol.unh.edu; s=unh-iol; t=1740154737; x=1740759537; darn=dpdk.org; h=references:in-reply-to:cc:to:from:subject:message-id:date:from:to :cc:subject:date:message-id:reply-to; bh=Dw9XhXu2aDM7ZCXWR2/A8vH1jLuTi+3B5V/8FRfie6E=; b=awntYxD8dPxjo9eVuj87GjEcAguMLBcBFiwGrLe+QLDmzEO2ThfKsRUAdu0JaoSpPr iHXuy6Y0YhE/eQWyXPjqTKIN/b6Nd2yJ4uD9nSp+MakEKFQaDpvr4BY8/J5EqTJPMUEr it/v9+x3fGD0WCT/NfHG3fuGTgWMXp/OQUi/o= X-Google-DKIM-Signature: v=1; a=rsa-sha256; c=relaxed/relaxed; d=1e100.net; s=20230601; t=1740154737; x=1740759537; h=references:in-reply-to:cc:to:from:subject:message-id:date :x-gm-message-state:from:to:cc:subject:date:message-id:reply-to; bh=Dw9XhXu2aDM7ZCXWR2/A8vH1jLuTi+3B5V/8FRfie6E=; b=qpIEANG9L3vqVPm6ACd9AIdGJLmhxrRa9d65gsozMRHpuiNUdUzKtXCtXHRnCFBNsd Ll07+76aAdbNtYYfgfvxBUShK+SlYfAsYpnZk6Tw/Dfc/m0Byq+ZOxwsvcaV4gTItjuy vYq2HP6IU0ZJremT8XTjB/UI02BIY/fMbX0RdM9XnfvoWBSbJmo250zYl0VaqPCw7FqJ uU5uXaJmM73cPauA22QQH7IyiAqxnV1Ie9ttp6SuRaTU9C28htMhNnVdb6ArteeRmEyQ H7kkbE5tL52Aj8BFHLoQn1NWJ7mNcxlQaRzbhiN8eSaWOtLS1lVKyTRLmK6UnElQluKz eUrg== X-Gm-Message-State: AOJu0YyWUy+Hb1WRfzSeZbwShiDMHDnZjdEigKO1psGXcwjW8AwRrl0/ kJBsmc/FNw87Nk3VOqqvpqbqJTKhYr1L9tRLGLI6btXOx013XjbTF7kIO9D0WpNH6UD+UEIr0S3 5nptfnfKDWPZjt75LPiWAHmVI/VU+r2I2eoQbW94+BMUZjSJ33PLmLy/q X-Gm-Gg: ASbGncvWJyK3ATq/xLgMxWVZF4N0SS5xgxrMrJrUFNTZEeXH16k8vmSG4PwYQyCgdoj EI9oFrV2Oqs1b7Em1CZ5/t9hQBz0uuW2xuNRlsVJ+s/Yp1jGM9JqgIR/+/W7gfUoWozBVQZt720 08AEgYWgUKkWRw+N9OcytYCxzQ4zrk+Uw/Gqq74Ux0uiGECObPxS8sRhTt9WRhz5nxmc7uMjcLw 4/11tqY6OJt9gHreXOk18QV4l0UlPbJyFDUTOkGh+O6wRELftjkBhp609h3okD0ayx5Ipvnz51N lSdej6FF74TP22QsiOE9P7xaTFMGiuUlMPCRvLr3jC2d28qg5JBd X-Google-Smtp-Source: AGHT+IEXU7H1pGULxCi2YhRfzuWxEW5KDfoNRPCetlfy2umk5TKCB26WbmJlxlG8ozzW8S9wMD1pTah/Yutc X-Received: by 2002:a05:6902:218b:b0:e5b:3419:39a7 with SMTP id 3f1490d57ef6-e5e8afcb117mr2632953276.11.1740154737301; Fri, 21 Feb 2025 08:18:57 -0800 (PST) Received: from postal.iol.unh.edu (postal.iol.unh.edu. [2606:4100:3880:1234::84]) by smtp-relay.gmail.com with ESMTPS id 3f1490d57ef6-e5dadea40dbsm953138276.11.2025.02.21.08.18.57 (version=TLS1_2 cipher=ECDHE-ECDSA-AES128-GCM-SHA256 bits=128/128); Fri, 21 Feb 2025 08:18:57 -0800 (PST) X-Relaying-Domain: iol.unh.edu Date: Fri, 21 Feb 2025 08:18:57 -0800 (PST) Message-ID: <67b8a771.250a0220.200181.0aafSMTPIN_ADDED_MISSING@mx.google.com> Received: from [172.17.0.5] (unknown [172.18.0.217]) by postal.iol.unh.edu (Postfix) with ESMTP id 987AD6052471; Fri, 21 Feb 2025 11:18:54 -0500 (EST) Subject: |SUCCESS| pw151732-151734 [PATCH] [v4,10/10] app: enable app directo From: dpdklab@iol.unh.edu To: Test Report Cc: dpdk-test-reports@iol.unh.edu In-Reply-To: <1740087064-18680-11-git-send-email-andremue@linux.microsoft.com> References: <1740087064-18680-11-git-send-email-andremue@linux.microsoft.com> Content-Type: text/plain X-BeenThere: test-report@dpdk.org X-Mailman-Version: 2.1.29 Precedence: list List-Id: automatic DPDK test reports List-Unsubscribe: , List-Archive: List-Post: List-Help: List-Subscribe: , Errors-To: test-report-bounces@dpdk.org Test-Label: iol-sample-apps-testing Test-Status: SUCCESS http://dpdk.org/patch/151734 _Testing PASS_ Submitter: Andre Muezerie Date: Thursday, February 20 2025 21:31:04 DPDK git baseline: Repo:dpdk Branch: master CommitID:fab31a03ba98e7457284df95dd9eef2223a4ccaa 151732-151734 --> testing pass Upstream job id: ACVP-FIPS-testing#8984 Test environment and result as below: +--------------------+----------------------+----------------------+ | Environment | compressdev_zlib_pmd | dpdk_fips_validation | +====================+======================+======================+ | Ubuntu 22.04 (ARM) | PASS | SKIPPED | +--------------------+----------------------+----------------------+ | Ubuntu 22.04 | PASS | SKIPPED | +--------------------+----------------------+----------------------+ | Ubuntu 20.04 | SKIPPED | PASS | +--------------------+----------------------+----------------------+ Ubuntu 22.04 (ARM) Kernel: 5.15.0-97-generic Compiler: gcc gcc (Ubuntu 11.4.0-1ubuntu1~22.04) 11.4.0 Ubuntu 22.04 Kernel: 5.15.0-100-generic Compiler: gcc gcc (Ubuntu 11.4.0-1ubuntu1~22.04) 11.4.0 Ubuntu 20.04 Kernel: Depends on container host Compiler: gcc (Ubuntu 9.4.0-1ubuntu1~20.04.2) 9.4.0 To view detailed results, visit: https://lab.dpdk.org/results/dashboard/patchsets/32629/ UNH-IOL DPDK Community Lab To manage your email subscriptions, visit: https://lab.dpdk.org/results/dashboard/preferences/subscriptions/