From mboxrd@z Thu Jan 1 00:00:00 1970 Return-Path: Received: from mails.dpdk.org (mails.dpdk.org [217.70.189.124]) by inbox.dpdk.org (Postfix) with ESMTP id 3C7AF4628E for ; Fri, 21 Feb 2025 17:44:12 +0100 (CET) Received: from mails.dpdk.org (localhost [127.0.0.1]) by mails.dpdk.org (Postfix) with ESMTP id 37299402CC; Fri, 21 Feb 2025 17:44:12 +0100 (CET) Received: from mail-yb1-f228.google.com (mail-yb1-f228.google.com [209.85.219.228]) by mails.dpdk.org (Postfix) with ESMTP id BE0FA402CC for ; Fri, 21 Feb 2025 17:44:10 +0100 (CET) Received: by mail-yb1-f228.google.com with SMTP id 3f1490d57ef6-e587cca1e47so2198968276.0 for ; Fri, 21 Feb 2025 08:44:10 -0800 (PST) DKIM-Signature: v=1; a=rsa-sha256; c=relaxed/relaxed; d=iol.unh.edu; s=unh-iol; t=1740156250; x=1740761050; darn=dpdk.org; h=references:in-reply-to:cc:to:from:subject:message-id:date:from:to :cc:subject:date:message-id:reply-to; bh=+yiVrQeLQvsWYc5R78oJpkVdXSg9aXAbo+eG85r8M/M=; b=VIf3b6ZZ0Zl1Bz2YozEyS0D0IFp+ap+eylFdFzqfwRsBLJ39NBOGSONeXhlw/sYVzn xzZ3lC36cwEFsFlleEmGqac6SZHSowIsmX/ipQn6lP736rlo1o/IY8rRFf+uwWAOX/lV l6Ahim7zhx/WAmhw0rQ0oZYXvFimGbUQBYz7g= X-Google-DKIM-Signature: v=1; a=rsa-sha256; c=relaxed/relaxed; d=1e100.net; s=20230601; t=1740156250; x=1740761050; h=references:in-reply-to:cc:to:from:subject:message-id:date :x-gm-message-state:from:to:cc:subject:date:message-id:reply-to; bh=+yiVrQeLQvsWYc5R78oJpkVdXSg9aXAbo+eG85r8M/M=; b=xKWgFpOp20sgHxJJylPwEVvWAmB5GqKIwertmdWvwneoK7crG4wMN3w/UtVUjKy8HJ tLByMYDtUFhqHObPE72WDTc3h77DybIW8PaX2Ek5O+6wu7bwUyBwRq7BAZQjS+4xn2Z6 Qtie0lRo6xgYaM8/BbW9r29DA6Q3ZhWfuiwT7siONJU2QlAC6sXnpXHkuTVdMvMMs3jL zQezBKy0jho4bj7iJb5Bdpj4bVEj/qnKBZUr6ti+HHOezXAZLJFmb/ipqwkYmZhkACJw PcG5+7uPsPZiIzuDyov+4iTs58ZiLBQCWR48U4WvoSYhkQdq5t0bYJ/voaKnldft+wEx ixvg== X-Gm-Message-State: AOJu0Ywt+wM7iHuaMO9eFBfldIj6ZBHmuZMRxQNIBdTxyJeBMy5gSRGG XaSg55jF5BTBHxFNahXUWRQzMHJnb5uMWsgjdMEYE/PnMWTmbq314FRv0DQlhu1cKGIK3aNSEJV OjZXO9fG9WGuGVtdzbwP2OoIhDbEJfaZew6ow0JmcobtADGQCf3K/IOSS X-Gm-Gg: ASbGncuBTxZSFbG9e0BFd5M6lACvCFVhH6NAh07vkF7L9g/DlWNljD692YVI1J6oif5 AevAWvw9n/3mcRfLp33IWg44Gi8OZHsyR9dYQjniIx0PRmCH5MOAMdKkF0J2W0b8EKHoxilhluA 4qg4rDZQFVX5G1wjNQ466c3ItNc8w8V6hkrKoaaEcn9e7+2xRqJUyXqNmH8wNrXftcbb0pI0iDJ 7Fy8c5cgAEbf0U745rBwOKx5pJiIjgHoQ0+HHCVdAI+TbrUSrdf9Vi2T9jNloM8oyH7pmlSMqOc fKivTCVVl0/15M+FBTawEbCPyNQeyOp12hH9jxEDwMYs0MDH9ned X-Google-Smtp-Source: AGHT+IHyunt7FvmSfhJC4B+4xFk/S7ah37DBOjwbLLIViRq7/EJbZy3v7d2JlXenqu/SlcqvpNKlHB8f+n0q X-Received: by 2002:a05:6902:c09:b0:e5d:e04f:f2bd with SMTP id 3f1490d57ef6-e5e24696695mr3457531276.44.1740156249969; Fri, 21 Feb 2025 08:44:09 -0800 (PST) Received: from postal.iol.unh.edu (postal.iol.unh.edu. [2606:4100:3880:1234::84]) by smtp-relay.gmail.com with ESMTPS id 3f1490d57ef6-e5dadea476asm957480276.9.2025.02.21.08.44.09 (version=TLS1_2 cipher=ECDHE-ECDSA-AES128-GCM-SHA256 bits=128/128); Fri, 21 Feb 2025 08:44:09 -0800 (PST) X-Relaying-Domain: iol.unh.edu Date: Fri, 21 Feb 2025 08:44:09 -0800 (PST) Message-ID: <67b8ad59.250a0220.29c3b.0dc7SMTPIN_ADDED_MISSING@mx.google.com> Received: from [172.21.0.6] (unknown [172.18.0.240]) by postal.iol.unh.edu (Postfix) with ESMTP id A31EA6052471; Fri, 21 Feb 2025 11:44:06 -0500 (EST) Subject: |SUCCESS| pw151727-151728 [PATCH] [v4,2/2] dts: add port stats check From: dpdklab@iol.unh.edu To: Test Report Cc: dpdk-test-reports@iol.unh.edu In-Reply-To: <20250220212443.66483-3-dmarx@iol.unh.edu> References: <20250220212443.66483-3-dmarx@iol.unh.edu> Content-Type: text/plain X-BeenThere: test-report@dpdk.org X-Mailman-Version: 2.1.29 Precedence: list List-Id: automatic DPDK test reports List-Unsubscribe: , List-Archive: List-Post: List-Help: List-Subscribe: , Errors-To: test-report-bounces@dpdk.org Test-Label: iol-unit-arm64-testing Test-Status: SUCCESS http://dpdk.org/patch/151728 _Testing PASS_ Submitter: Dean Marx Date: Thursday, February 20 2025 21:24:43 DPDK git baseline: Repo:dpdk Branch: master CommitID:e8c317d6041c25dd8ec572017fed2362a1bf5c8a 151727-151728 --> testing pass Upstream job id: Generic-Unit-Test-DPDK#317175 Test environment and result as below: +-----------------------------+----------------+---------------------------+--------------+------------------------------+ | Environment | dpdk_unit_test | cryptodev_sw_zuc_autotest | lpm_autotest | cryptodev_sw_snow3g_autotest | +=============================+================+===========================+==============+==============================+ | 32-bit Ubuntu 22.04.4 (ARM) | PASS | SKIPPED | SKIPPED | SKIPPED | +-----------------------------+----------------+---------------------------+--------------+------------------------------+ | Debian 12 (arm) | PASS | PASS | SKIPPED | PASS | +-----------------------------+----------------+---------------------------+--------------+------------------------------+ | Debian 11 (Buster) (ARM) | PASS | SKIPPED | SKIPPED | SKIPPED | +-----------------------------+----------------+---------------------------+--------------+------------------------------+ | CentOS Stream 10 (ARM) | PASS | SKIPPED | SKIPPED | SKIPPED | +-----------------------------+----------------+---------------------------+--------------+------------------------------+ | Fedora 40 (ARM Clang) | PASS | SKIPPED | SKIPPED | SKIPPED | +-----------------------------+----------------+---------------------------+--------------+------------------------------+ | Fedora 40 (ARM) | PASS | SKIPPED | SKIPPED | SKIPPED | +-----------------------------+----------------+---------------------------+--------------+------------------------------+ | Fedora 41 (ARM Clang) | PASS | SKIPPED | SKIPPED | SKIPPED | +-----------------------------+----------------+---------------------------+--------------+------------------------------+ | CentOS Stream 9 (ARM) | PASS | SKIPPED | SKIPPED | SKIPPED | +-----------------------------+----------------+---------------------------+--------------+------------------------------+ | Fedora 41 (ARM) | PASS | SKIPPED | SKIPPED | SKIPPED | +-----------------------------+----------------+---------------------------+--------------+------------------------------+ | RHEL9 (ARM) | PASS | SKIPPED | SKIPPED | SKIPPED | +-----------------------------+----------------+---------------------------+--------------+------------------------------+ | Ubuntu 20.04 (ARM) | PASS | SKIPPED | SKIPPED | SKIPPED | +-----------------------------+----------------+---------------------------+--------------+------------------------------+ | Ubuntu 24.04 (ARM) | PASS | SKIPPED | SKIPPED | SKIPPED | +-----------------------------+----------------+---------------------------+--------------+------------------------------+ | Ubuntu 22.04 (ARM) | PASS | SKIPPED | SKIPPED | SKIPPED | +-----------------------------+----------------+---------------------------+--------------+------------------------------+ | Ubuntu 20.04 ARM SVE | SKIPPED | SKIPPED | PASS | SKIPPED | +-----------------------------+----------------+---------------------------+--------------+------------------------------+ 32-bit Ubuntu 22.04.4 (ARM) Kernel: 5.15.83+ aarch64 Compiler: gcc (Ubuntu 11.4.0-1ubuntu1~22.04) 11.4.0 Debian 12 (arm) Kernel: Depends on container host Compiler: gcc (Debian 12.2.0-14) 12.2.0 Debian 11 (Buster) (ARM) Kernel: Depends on container host Compiler: gcc (Debian 10.2.1-6) 10.2.1 20210110 CentOS Stream 10 (ARM) Kernel: Depends on container host Compiler: gcc 14.2.1 20241104 (Red Hat 14.2.1-6) Fedora 40 (ARM Clang) Kernel: Depends on container host Compiler: clang 18.1.8 (Fedora 18.1.8-1.fc40) Fedora 40 (ARM) Kernel: Depends on container host Compiler: gcc 14.2.1 20240912 (Red Hat 14.2.1-3) Fedora 41 (ARM Clang) Kernel: Depends on container host Compiler: clang 19.1.5 (Fedora 19.1.5-1.fc41) CentOS Stream 9 (ARM) Kernel: Depends on container host Compiler: gcc 11.5.0 20240719 (Red Hat 11.5.0-2) Fedora 41 (ARM) Kernel: Depends on container host Compiler: gcc 14.2.1 20240912 (Red Hat 14.2.1-3) RHEL9 (ARM) Kernel: Depends on container host Compiler: gcc 11.5.0 20240719 (Red Hat 11.5.0-2) Ubuntu 20.04 (ARM) Kernel: Depends on container host Compiler: gcc (Ubuntu 9.4.0-1ubuntu1~20.04.2) 9.4.0 Ubuntu 24.04 (ARM) Kernel: Depends on container host Compiler: gcc (Ubuntu 13.3.0-6ubuntu2~24.04) 13.3.0 Ubuntu 22.04 (ARM) Kernel: Depends on container host Compiler: gcc (Ubuntu 11.4.0-1ubuntu1~22.04) 11.4.0 Ubuntu 20.04 ARM SVE Kernel: Depends on container host Compiler: gcc (Ubuntu 10.5.0-1ubuntu1~20.04) 10.5.0 To view detailed results, visit: https://lab.dpdk.org/results/dashboard/patchsets/32628/ UNH-IOL DPDK Community Lab To manage your email subscriptions, visit: https://lab.dpdk.org/results/dashboard/preferences/subscriptions/