From mboxrd@z Thu Jan 1 00:00:00 1970 Return-Path: Received: from mails.dpdk.org (mails.dpdk.org [217.70.189.124]) by inbox.dpdk.org (Postfix) with ESMTP id E3E934628E for ; Fri, 21 Feb 2025 17:48:46 +0100 (CET) Received: from mails.dpdk.org (localhost [127.0.0.1]) by mails.dpdk.org (Postfix) with ESMTP id DEBE9402CC; Fri, 21 Feb 2025 17:48:46 +0100 (CET) Received: from mail-oo1-f97.google.com (mail-oo1-f97.google.com [209.85.161.97]) by mails.dpdk.org (Postfix) with ESMTP id 74A92402BB for ; Fri, 21 Feb 2025 17:48:46 +0100 (CET) Received: by mail-oo1-f97.google.com with SMTP id 006d021491bc7-5fd28093334so129026eaf.3 for ; Fri, 21 Feb 2025 08:48:46 -0800 (PST) DKIM-Signature: v=1; a=rsa-sha256; c=relaxed/relaxed; d=iol.unh.edu; s=unh-iol; t=1740156525; x=1740761325; darn=dpdk.org; h=references:in-reply-to:cc:to:from:subject:message-id:date:from:to :cc:subject:date:message-id:reply-to; bh=HhPhpp8edZ3KMtmXfCIV13wjlhbQTT6/ADQjinWWJGw=; b=AK0LM1iDfjJAVTfOcR62SkNJZPlgicdC76l5pAfdf6BSratEuTBX1lUgJVJfAguTfh wNtaG2g9jgyUrYqaOaEgnvn1mJEnTaiiJSvgiWA2MLZagmpd2bBycdtUKhs6JlL3g9ZC +vCPiIVZHtZ3Z9axAAD879NGFKX5UnVc6S40k= X-Google-DKIM-Signature: v=1; a=rsa-sha256; c=relaxed/relaxed; d=1e100.net; s=20230601; t=1740156525; x=1740761325; h=references:in-reply-to:cc:to:from:subject:message-id:date :x-gm-message-state:from:to:cc:subject:date:message-id:reply-to; bh=HhPhpp8edZ3KMtmXfCIV13wjlhbQTT6/ADQjinWWJGw=; b=Tyh53aRyarVCRaY6YzmOSDUUbvnH5SHW46o+LpvUwi9F6UocJEBVVic5otlvbKxISn a8ig2DO7EUpgBm9VaUtHlCAKnDzu/bybWohrbpQ2VIagG6MKUOKjAxD/y+4fiCCKsSca AMGY6toBOyQftQEUfWBzn+ReAsBozDjvtvZm6xFlVXDlxUA/NJexKv9XUHmEK4SA4QkL MTLNL8+4wL1UDl49BgLgMIsljd+axlXmpzrkuL7pPQiFF7rrytKlfICI6u+df1fv1fT1 DPZyhQUil4BBTq5889lt8CD5USQABGeXFu6XOrGP+JMdP2BJzhVUU+QZK5AFZUy5jbdP l22w== X-Gm-Message-State: AOJu0YxxlI4vdNd6oSPkBOpfRq+k1f/kI3ecPn4F++zYNf6WiMoM6j+1 +D5IOWelLlEYv9B+XjuTEWwG8WPiyd/TFbSOBuAdlF+9poCGEt41i308I03oH8hjfwgjQHSXFVr 3tMskUDfWBzhcnJDH1pRC9KCL6tNGhWHuGcEdAi6dK2eQFzqC4JibbXOA X-Gm-Gg: ASbGncuGngvVGE50qiZCfMn6sN2AUMXFKLNvuhW7J7X38zGI9x85fbE7/3t1FTwQZVg 4JoIeu6Azz8ze1SQF275+H3Hy919xp4pN/472PCLe8mir5DOdPHFtIv+wZox/sY9k56T5R0vGqz h787h5x9GJzsE0ddB2GpZv6EhDLIiWQELwjf+Ishyc8C33RN1xEVSc8vBIe+Mhgid/LQ2tTVeSk Cx3FmF/bMd34IAAFX6njXwrcLbsnUUpBfF11LlDUx7NMNCKhfbX4lFC5jFPecziOvTwpoeoyhsy ugxYkcUovdgiN7i8eVARyUZqBn8eXNWs+Wl4Os1JiGLscqXLGBed X-Google-Smtp-Source: AGHT+IFgjjRg9RHmyrEmWst9tby7p9Ap8kwqhe2D5KmD/8V7ddS4phWJgFdGk2dCT/E3QEt2OH0afdNZVa8v X-Received: by 2002:a05:6820:999:b0:5fd:1148:6eee with SMTP id 006d021491bc7-5fd1a775473mr2578702eaf.3.1740156525644; Fri, 21 Feb 2025 08:48:45 -0800 (PST) Received: from postal.iol.unh.edu (postal.iol.unh.edu. [2606:4100:3880:1234::84]) by smtp-relay.gmail.com with ESMTPS id 006d021491bc7-5fcda72ebe1sm418884eaf.22.2025.02.21.08.48.45 (version=TLS1_2 cipher=ECDHE-ECDSA-AES128-GCM-SHA256 bits=128/128); Fri, 21 Feb 2025 08:48:45 -0800 (PST) X-Relaying-Domain: iol.unh.edu Date: Fri, 21 Feb 2025 08:48:45 -0800 (PST) Message-ID: <67b8ae6d.4a0a0220.6d036.5ab1SMTPIN_ADDED_MISSING@mx.google.com> Received: from [172.21.0.6] (unknown [172.18.0.240]) by postal.iol.unh.edu (Postfix) with ESMTP id 1145C6052472; Fri, 21 Feb 2025 11:48:37 -0500 (EST) Subject: |SUCCESS| pw151727-151728 [PATCH] [v4,2/2] dts: add port stats check From: dpdklab@iol.unh.edu To: Test Report Cc: dpdk-test-reports@iol.unh.edu In-Reply-To: <20250220212443.66483-3-dmarx@iol.unh.edu> References: <20250220212443.66483-3-dmarx@iol.unh.edu> Content-Type: text/plain X-BeenThere: test-report@dpdk.org X-Mailman-Version: 2.1.29 Precedence: list List-Id: automatic DPDK test reports List-Unsubscribe: , List-Archive: List-Post: List-Help: List-Subscribe: , Errors-To: test-report-bounces@dpdk.org Test-Label: iol-abi-testing Test-Status: SUCCESS http://dpdk.org/patch/151728 _Testing PASS_ Submitter: Dean Marx Date: Thursday, February 20 2025 21:24:43 DPDK git baseline: Repo:dpdk Branch: master CommitID:e8c317d6041c25dd8ec572017fed2362a1bf5c8a 151727-151728 --> testing pass Upstream job id: Generic-DPDK-Compile-ABI#117154 Test environment and result as below: +-------------------+----------+ | Environment | abi_test | +===================+==========+ | CentOS Stream 9 | PASS | +-------------------+----------+ | Debian 12 | PASS | +-------------------+----------+ | Debian Bullseye | PASS | +-------------------+----------+ | CentOS Stream 10 | PASS | +-------------------+----------+ | Fedora 40 | PASS | +-------------------+----------+ | openSUSE Leap 15 | PASS | +-------------------+----------+ | Fedora 40 (Clang) | PASS | +-------------------+----------+ | Fedora 41 | PASS | +-------------------+----------+ | Fedora 41 (Clang) | PASS | +-------------------+----------+ | RHEL9 | PASS | +-------------------+----------+ | Ubuntu 22.04 | PASS | +-------------------+----------+ | Ubuntu 24.04 | PASS | +-------------------+----------+ | RHEL8 | PASS | +-------------------+----------+ CentOS Stream 9 Kernel: Depends on container host Compiler: gcc 11.5.0 20240719 (Red Hat 11.5.0-2) Debian 12 Kernel: Depends on container host Compiler: gcc (Debian 12.2.0-14) 12.2.0 Debian Bullseye Kernel: Depends on container host Compiler: gcc (Debian 10.2.1-6) 10.2.1 20210110 CentOS Stream 10 Kernel: Depends on container host Compiler: gcc 14.2.1 20241104 (Red Hat 14.2.1-6) Fedora 40 Kernel: Depends on container host Compiler: gcc 14.2.1 20240912 (Red Hat 14.2.1-3) openSUSE Leap 15 Kernel: Depends on container host Compiler: gcc (SUSE Linux) 7.5.0 Fedora 40 (Clang) Kernel: Depends on container host Compiler: clang 18.1.8 (Fedora 18.1.8-1.fc40) Fedora 41 Kernel: Depends on container host Compiler: gcc 14.2.1 20240912 (Red Hat 14.2.1-3) Fedora 41 (Clang) Kernel: Depends on container host Compiler: clang 19.1.5 (Fedora 19.1.5-1.fc41) RHEL9 Kernel: Depends on container host Compiler: gcc 11.5.0 20240719 (Red Hat 11.5.0-2) Ubuntu 22.04 Kernel: Depends on container host Compiler: gcc (Ubuntu 11.4.0-1ubuntu1~22.04) 11.4.0 Ubuntu 24.04 Kernel: Depends on container host Compiler: gcc (Ubuntu 13.3.0-6ubuntu2~24.04) 13.3.0 RHEL8 Kernel: Depends on container host Compiler: gcc 8.5.0 20210514 (Red Hat 8.5.0-22) To view detailed results, visit: https://lab.dpdk.org/results/dashboard/patchsets/32628/ UNH-IOL DPDK Community Lab To manage your email subscriptions, visit: https://lab.dpdk.org/results/dashboard/preferences/subscriptions/