From mboxrd@z Thu Jan 1 00:00:00 1970 Return-Path: Received: from mails.dpdk.org (mails.dpdk.org [217.70.189.124]) by inbox.dpdk.org (Postfix) with ESMTP id BCF344628F for ; Fri, 21 Feb 2025 18:04:16 +0100 (CET) Received: from mails.dpdk.org (localhost [127.0.0.1]) by mails.dpdk.org (Postfix) with ESMTP id 9C12C40E8A; Fri, 21 Feb 2025 18:04:16 +0100 (CET) Received: from mail-qv1-f98.google.com (mail-qv1-f98.google.com [209.85.219.98]) by mails.dpdk.org (Postfix) with ESMTP id 19378402BB for ; Fri, 21 Feb 2025 18:04:15 +0100 (CET) Received: by mail-qv1-f98.google.com with SMTP id 6a1803df08f44-6e45dbf15c7so17937336d6.2 for ; Fri, 21 Feb 2025 09:04:15 -0800 (PST) DKIM-Signature: v=1; a=rsa-sha256; c=relaxed/relaxed; d=iol.unh.edu; s=unh-iol; t=1740157454; x=1740762254; darn=dpdk.org; h=references:in-reply-to:cc:to:from:subject:message-id:date:from:to :cc:subject:date:message-id:reply-to; bh=w3Br01Hdg/X4ZING+VCUzflzsizIKItC74LbSIGJKyI=; b=UtcdmZLC5eoNvXVsEGAqQjPx+BcZyDWHt3CHAVaDMYXDHMW78tloPUkuLBBs61aw08 by1FpQCOAg/WB5U/VBp07cP5u+tUZGmAzY8wgxWW4Ebkp8siiZSEWdtUM1HvQg4x3kg4 JuC4N8p/YZjcqo/uNVhLWtfyP3u1LrJ4yQp/s= X-Google-DKIM-Signature: v=1; a=rsa-sha256; c=relaxed/relaxed; d=1e100.net; s=20230601; t=1740157454; x=1740762254; h=references:in-reply-to:cc:to:from:subject:message-id:date :x-gm-message-state:from:to:cc:subject:date:message-id:reply-to; bh=w3Br01Hdg/X4ZING+VCUzflzsizIKItC74LbSIGJKyI=; b=OFu4VlmJlSr7x3DS3zUJPA+dapWryM3twlI1hi0G7GDWIdBRwHcmlkrNLSF01NUuye 2Rx0tpj9bRkTjt5y+e5K3NnMxqoBRcdsaDNzX44TKznZLYlPcm16/qa53B8NyRTqdNhd HF5X6rrFXHHLtGsy3qvjDk+2tp6kOCaiUh6iDdq2mB/M0KdAH2AUZRq3H5Qc77j8exM/ P8qjXG5FQCAs9bjzBdexmZK8X4zgVueTOtdi2u9hRzfwj6InjFG/3KyVMxRSzlOWQRWy szw4fkJCfSiYhLTTP7q0YFrvjRuBwEIevqfyUhx8VbbP15ht0ghlpa34rCdmH1Xb2Lwd aT/A== X-Gm-Message-State: AOJu0Yz4MkX8+6qcaF3Hj2a+vMfA/Ghs1Y9bGEGzA8G3n+jIrlnpNxPq 3DAg88YTk+mzE8zK2HRxg0L/SO+zA+iBU+QpvTK+PDwe9CvgI4aCecuN6f6gb/D82H+TtWMQiIp q8snoJZq4L7VGxG9iW4sHpDv7Pmk5mT8nUYVSzh74 X-Gm-Gg: ASbGncursFu1hTkmwYq546FnYriate1iXDt9DeLnuF+L2Acxzqo7bbp3DXxrdUcSARV mbyXs12GE8vYcuXd+uV+d5H4SDHL+Jx/Zh9YiVUfKmuzxitcXm/0D0l12mEcZn3n1sCzBgCk4vd kKl5d6qAHG/6/DwONg/TVRtKolzvm7XrMYk9Na/QbiH7FGzBWDBCs505yIoqHej5D8r2n+P2AK2 fNPSittR5CkSbm+pUtVNr2RTTJIQ1exaSoA0kleS1QEkLH/BnA18KgSvG6GZs8iKkXSCp8mxJT7 nJZkRuJJJfZYnR73IpBMAY3273pgUVc0d63X+alU X-Google-Smtp-Source: AGHT+IEW+KWUcUUiywRonyN9DL6ZN/UmFpqV6NzHj4RveDgD1iZUys3rP62SjZxFBXqqWKOkCMfhU6uxYneB X-Received: by 2002:a05:6214:4005:b0:6e4:3eb1:2bde with SMTP id 6a1803df08f44-6e6ae872032mr49694196d6.19.1740157454351; Fri, 21 Feb 2025 09:04:14 -0800 (PST) Received: from postal.iol.unh.edu (postal.iol.unh.edu. [132.177.123.84]) by smtp-relay.gmail.com with ESMTPS id 6a1803df08f44-6e65d783cb0sm7082086d6.46.2025.02.21.09.04.14 (version=TLS1_2 cipher=ECDHE-ECDSA-AES128-GCM-SHA256 bits=128/128); Fri, 21 Feb 2025 09:04:14 -0800 (PST) X-Relaying-Domain: iol.unh.edu Date: Fri, 21 Feb 2025 09:04:14 -0800 (PST) Message-ID: <67b8b20e.050a0220.1afa2a.3b06SMTPIN_ADDED_MISSING@mx.google.com> Received: from [172.21.0.7] (unknown [172.18.0.240]) by postal.iol.unh.edu (Postfix) with ESMTP id 50A516052471; Fri, 21 Feb 2025 12:04:11 -0500 (EST) Subject: |SUCCESS| pw151727-151728 [PATCH] [v4,2/2] dts: add port stats check From: dpdklab@iol.unh.edu To: Test Report Cc: dpdk-test-reports@iol.unh.edu In-Reply-To: <20250220212443.66483-3-dmarx@iol.unh.edu> References: <20250220212443.66483-3-dmarx@iol.unh.edu> Content-Type: text/plain X-BeenThere: test-report@dpdk.org X-Mailman-Version: 2.1.29 Precedence: list List-Id: automatic DPDK test reports List-Unsubscribe: , List-Archive: List-Post: List-Help: List-Subscribe: , Errors-To: test-report-bounces@dpdk.org Test-Label: iol-unit-amd64-testing Test-Status: SUCCESS http://dpdk.org/patch/151728 _Testing PASS_ Submitter: Dean Marx Date: Thursday, February 20 2025 21:24:43 DPDK git baseline: Repo:dpdk Branch: master CommitID:e8c317d6041c25dd8ec572017fed2362a1bf5c8a 151727-151728 --> testing pass Upstream job id: Generic-Unit-Test-DPDK#317189 Test environment and result as below: +-------------------+----------------+ | Environment | dpdk_unit_test | +===================+================+ | CentOS Stream 9 | PASS | +-------------------+----------------+ | Debian Bullseye | PASS | +-------------------+----------------+ | Debian 12 | PASS | +-------------------+----------------+ | CentOS Stream 10 | PASS | +-------------------+----------------+ | Fedora 40 | PASS | +-------------------+----------------+ | Fedora 40 (Clang) | PASS | +-------------------+----------------+ | Fedora 41 | PASS | +-------------------+----------------+ | Fedora 41 (Clang) | PASS | +-------------------+----------------+ | RHEL8 | PASS | +-------------------+----------------+ | RHEL9 | PASS | +-------------------+----------------+ | Ubuntu 22.04 | PASS | +-------------------+----------------+ | Ubuntu 20.04 | PASS | +-------------------+----------------+ | Ubuntu 24.04 | PASS | +-------------------+----------------+ CentOS Stream 9 Kernel: Depends on container host Compiler: gcc 11.5.0 20240719 (Red Hat 11.5.0-2) Debian Bullseye Kernel: Depends on container host Compiler: gcc (Debian 10.2.1-6) 10.2.1 20210110 Debian 12 Kernel: Depends on container host Compiler: gcc (Debian 12.2.0-14) 12.2.0 CentOS Stream 10 Kernel: Depends on container host Compiler: gcc 14.2.1 20241104 (Red Hat 14.2.1-6) Fedora 40 Kernel: Depends on container host Compiler: gcc 14.2.1 20240912 (Red Hat 14.2.1-3) Fedora 40 (Clang) Kernel: Depends on container host Compiler: clang 18.1.8 (Fedora 18.1.8-1.fc40) Fedora 41 Kernel: Depends on container host Compiler: gcc 14.2.1 20240912 (Red Hat 14.2.1-3) Fedora 41 (Clang) Kernel: Depends on container host Compiler: clang 19.1.5 (Fedora 19.1.5-1.fc41) RHEL8 Kernel: Depends on container host Compiler: gcc 8.5.0 20210514 (Red Hat 8.5.0-22) RHEL9 Kernel: Depends on container host Compiler: gcc 11.5.0 20240719 (Red Hat 11.5.0-2) Ubuntu 22.04 Kernel: Depends on container host Compiler: gcc (Ubuntu 11.4.0-1ubuntu1~22.04) 11.4.0 Ubuntu 20.04 Kernel: Depends on container host Compiler: gcc (Ubuntu 9.4.0-1ubuntu1~20.04.2) 9.4.0 Ubuntu 24.04 Kernel: Depends on container host Compiler: gcc (Ubuntu 13.3.0-6ubuntu2~24.04) 13.3.0 To view detailed results, visit: https://lab.dpdk.org/results/dashboard/patchsets/32628/ UNH-IOL DPDK Community Lab To manage your email subscriptions, visit: https://lab.dpdk.org/results/dashboard/preferences/subscriptions/