From mboxrd@z Thu Jan  1 00:00:00 1970
Return-Path: <test-report-bounces@dpdk.org>
Received: from mails.dpdk.org (mails.dpdk.org [217.70.189.124])
	by inbox.dpdk.org (Postfix) with ESMTP id 204734628F
	for <public@inbox.dpdk.org>; Fri, 21 Feb 2025 18:06:40 +0100 (CET)
Received: from mails.dpdk.org (localhost [127.0.0.1])
	by mails.dpdk.org (Postfix) with ESMTP id 1A905410D5;
	Fri, 21 Feb 2025 18:06:40 +0100 (CET)
Received: from mail-qt1-f226.google.com (mail-qt1-f226.google.com
 [209.85.160.226])
 by mails.dpdk.org (Postfix) with ESMTP id 690C4402BB
 for <test-report@dpdk.org>; Fri, 21 Feb 2025 18:06:38 +0100 (CET)
Received: by mail-qt1-f226.google.com with SMTP id
 d75a77b69052e-46c8474d8daso20578521cf.3
 for <test-report@dpdk.org>; Fri, 21 Feb 2025 09:06:38 -0800 (PST)
DKIM-Signature: v=1; a=rsa-sha256; c=relaxed/relaxed;
 d=iol.unh.edu; s=unh-iol; t=1740157598; x=1740762398; darn=dpdk.org;
 h=references:in-reply-to:cc:to:from:subject:message-id:date:from:to
 :cc:subject:date:message-id:reply-to;
 bh=d2KKxs0ONG7Mtbhqe073QWpRei6dd2pAkT3YtH8aPHE=;
 b=Hd6NElVr7/gPrUT+l3k1HRYY2OaxG8Y40J9fNMyBP1qzU/ga14KM6iSeyujU9uHP/z
 6D5wmXGXGd6ZqMhPrJpa6nYTXRatX+VB+AOgJhDp3hHoAXyQKZVqo94ebjo2JgQLUI0M
 hxVQvJpxoCw7fuYisUn4WpoLtLKanpQVJTA4A=
X-Google-DKIM-Signature: v=1; a=rsa-sha256; c=relaxed/relaxed;
 d=1e100.net; s=20230601; t=1740157598; x=1740762398;
 h=references:in-reply-to:cc:to:from:subject:message-id:date
 :x-gm-message-state:from:to:cc:subject:date:message-id:reply-to;
 bh=d2KKxs0ONG7Mtbhqe073QWpRei6dd2pAkT3YtH8aPHE=;
 b=qG8CK9EsmfhMT/T485uKhjqDbogedSGNouhYxRDhuRwDPTEdItjBZbyTznEy20XIji
 nbrV0v5r/m8lIDaM7uonhMrCtXRMTKY1PkmW49lcwrrZ1qC+ph9ZcOs0HWDH7s65kIma
 JIWSi+w0a+rzRFMqcg9E3hvXIMbQas6hlnQN1AjZNNda6SXAAsS7+JO2Yzqn+N8wgLHD
 BqD9aqbDMHiLZGPly+YKmwmmx7ftKRUhzv+GnCtruzD0dBd84bMUD4wZ35FvjeQja5K6
 bX+e2CqYnNLP97O9rEewaz2u01s+Dh+vdvIAKYJwXFJiHzpaG+hF1N27mB9pPXom/r36
 IqYw==
X-Gm-Message-State: AOJu0Yw7dDKTBbH2rbEAihSqptZ2vzPwZRQ95kTecK6ltkC0cFK1oKXc
 6glQp1QCukt0PDAZT/KwgeQ5LIQU+NoVTdzeol5q3p115Et+8i/7va8+JePKarQYQhBbxyR3WNC
 iyrWXYktMSVJoPKngzzrnv8lRLLY5Y46HD7UGq3Pm
X-Gm-Gg: ASbGnctBhB+oJXu/tVhIYUtyoc5+ydSlRfbARJAQpGopXrOqXUYyTBuL/K1nec5SgIQ
 3QnnzwSx3MEsIxkc+Fk7+afiKMokRxquTveodM0OD4JkToPl5fpby7g/d7QNdBFRSXMvlvEsT1/
 kC2ADBE0UTBP/VozGFTM6qaxxYHMk0Gl22TxCqqs1BSoEirnUtw/cioCeP89mrjIGEnzVlZK20p
 0GrV+6+cnUpJ7yZ2mfgYM2pVs/vCNavQhPLGK7UizYnTlgdR/9fTe0bcjRglqmqBHLXx+o4Lj28
 2/L2qxE669190EwGDpwxRqHDhgtmt5jHqIHf3fyH
X-Google-Smtp-Source: AGHT+IF+ORiIP/SNdhlnQMK/a2XBUmqGVsQIwT85N+GqRSYXyM5l1M4YaWpWWx0EgRV6M9j+m6sisZggAPlS
X-Received: by 2002:a05:622a:199c:b0:471:eca0:113c with SMTP id
 d75a77b69052e-472248f4be9mr40495881cf.42.1740157597635; 
 Fri, 21 Feb 2025 09:06:37 -0800 (PST)
Received: from postal.iol.unh.edu (postal.iol.unh.edu. [132.177.123.84])
 by smtp-relay.gmail.com with ESMTPS id
 d75a77b69052e-472170ff0e9sm1960111cf.6.2025.02.21.09.06.37
 (version=TLS1_2 cipher=ECDHE-ECDSA-AES128-GCM-SHA256 bits=128/128);
 Fri, 21 Feb 2025 09:06:37 -0800 (PST)
X-Relaying-Domain: iol.unh.edu
Date: Fri, 21 Feb 2025 09:06:37 -0800 (PST)
Message-ID: <67b8b29d.c80a0220.27ea31.a733SMTPIN_ADDED_MISSING@mx.google.com>
Received: from [172.21.0.6] (unknown [172.18.0.240])
 by postal.iol.unh.edu (Postfix) with ESMTP id 18DB96052471;
 Fri, 21 Feb 2025 12:06:29 -0500 (EST)
Subject: |SUCCESS| pw151739-151769 [PATCH] [v1,32/32] net/ntnic: revert untru
From: dpdklab@iol.unh.edu
To: Test Report <test-report@dpdk.org>
Cc: dpdk-test-reports@iol.unh.edu
In-Reply-To: <20250220220406.3925597-33-sil-plv@napatech.com>
References: <20250220220406.3925597-33-sil-plv@napatech.com>
Content-Type: text/plain
X-BeenThere: test-report@dpdk.org
X-Mailman-Version: 2.1.29
Precedence: list
List-Id: automatic DPDK test reports <test-report.dpdk.org>
List-Unsubscribe: <https://mails.dpdk.org/options/test-report>,
 <mailto:test-report-request@dpdk.org?subject=unsubscribe>
List-Archive: <http://mails.dpdk.org/archives/test-report/>
List-Post: <mailto:test-report@dpdk.org>
List-Help: <mailto:test-report-request@dpdk.org?subject=help>
List-Subscribe: <https://mails.dpdk.org/listinfo/test-report>,
 <mailto:test-report-request@dpdk.org?subject=subscribe>
Errors-To: test-report-bounces@dpdk.org

Test-Label: iol-compile-arm64-testing
Test-Status: SUCCESS
http://dpdk.org/patch/151769

_Testing PASS_

Submitter: Serhii Iliushyk <sil-plv@napatech.com>
Date: Thursday, February 20 2025 22:03:56 
DPDK git baseline: Repo:dpdk
  Branch: master
  CommitID:3497d187f963e5fddca607637f6a42b8b944fa49

151739-151769 --> testing pass

Upstream job id: Generic-DPDK-Compile-Meson#364062

Test environment and result as below:

+----------------------------------------+--------------------+
|              Environment               | dpdk_meson_compile |
+========================================+====================+
| Ubuntu 20.04 ARM GCC Cross Compile     | PASS               |
+----------------------------------------+--------------------+
| RHEL9 (ARM)                            | PASS               |
+----------------------------------------+--------------------+
| Ubuntu 20.04 ARM SVE                   | PASS               |
+----------------------------------------+--------------------+
| Debian 12 with MUSDK                   | PASS               |
+----------------------------------------+--------------------+
| Fedora 40 (ARM Clang)                  | PASS               |
+----------------------------------------+--------------------+
| Fedora 40 (ARM)                        | PASS               |
+----------------------------------------+--------------------+
| Fedora 41 (ARM Clang)                  | PASS               |
+----------------------------------------+--------------------+
| Fedora 41 (ARM)                        | PASS               |
+----------------------------------------+--------------------+
| Ubuntu 20.04 (ARM)                     | PASS               |
+----------------------------------------+--------------------+
| Ubuntu 22.04 (ARM)                     | PASS               |
+----------------------------------------+--------------------+
| Ubuntu 24.04 (ARM)                     | PASS               |
+----------------------------------------+--------------------+
| CentOS Stream 9 (ARM)                  | PASS               |
+----------------------------------------+--------------------+
| Debian 12 (arm)                        | PASS               |
+----------------------------------------+--------------------+
| CentOS Stream 10 (ARM)                 | PASS               |
+----------------------------------------+--------------------+
| Debian 11 (Buster) (ARM)               | PASS               |
+----------------------------------------+--------------------+
| Ubuntu 20.04 aarch32 GCC Cross Compile | PASS               |
+----------------------------------------+--------------------+
| Ubuntu 20.04 ARM Clang Cross Compile   | PASS               |
+----------------------------------------+--------------------+


Ubuntu 20.04 ARM GCC Cross Compile
	Kernel: Depends on container host
	Compiler: aarch64-linux-gnu-gcc (Ubuntu 9.4.0-1ubuntu1~20.04.2) 9.4.0

RHEL9 (ARM)
	Kernel: Depends on container host
	Compiler: gcc 11.5.0 20240719 (Red Hat 11.5.0-2)

Ubuntu 20.04 ARM SVE
	Kernel: Depends on container host
	Compiler: gcc (Ubuntu 10.5.0-1ubuntu1~20.04) 10.5.0

Debian 12 with MUSDK
	Kernel: Depends on container host
	Compiler: gcc (Debian 12.2.0-14) 12.2.0

Fedora 40 (ARM Clang)
	Kernel: Depends on container host
	Compiler: clang 18.1.8 (Fedora 18.1.8-1.fc40)

Fedora 40 (ARM)
	Kernel: Depends on container host
	Compiler: gcc 14.2.1 20240912 (Red Hat 14.2.1-3)

Fedora 41 (ARM Clang)
	Kernel: Depends on container host
	Compiler: clang 19.1.5 (Fedora 19.1.5-1.fc41)

Fedora 41 (ARM)
	Kernel: Depends on container host
	Compiler: gcc 14.2.1 20240912 (Red Hat 14.2.1-3)

Ubuntu 20.04 (ARM)
	Kernel: Depends on container host
	Compiler: gcc (Ubuntu 9.4.0-1ubuntu1~20.04.2) 9.4.0

Ubuntu 22.04 (ARM)
	Kernel: Depends on container host
	Compiler: gcc (Ubuntu 11.4.0-1ubuntu1~22.04) 11.4.0

Ubuntu 24.04 (ARM)
	Kernel: Depends on container host
	Compiler: gcc (Ubuntu 13.3.0-6ubuntu2~24.04) 13.3.0

CentOS Stream 9 (ARM)
	Kernel: Depends on container host
	Compiler: gcc 11.5.0 20240719 (Red Hat 11.5.0-2)

Debian 12 (arm)
	Kernel: Depends on container host
	Compiler: gcc (Debian 12.2.0-14) 12.2.0

CentOS Stream 10 (ARM)
	Kernel: Depends on container host
	Compiler: gcc 14.2.1 20241104 (Red Hat 14.2.1-6)

Debian 11 (Buster) (ARM)
	Kernel: Depends on container host
	Compiler: gcc (Debian 10.2.1-6) 10.2.1 20210110

Ubuntu 20.04 aarch32 GCC Cross Compile
	Kernel: Depends on container host
	Compiler: gcc 9.4.0

Ubuntu 20.04 ARM Clang Cross Compile
	Kernel: Depends on container host
	Compiler: clang 10.0.0-4ubuntu1

To view detailed results, visit:
https://lab.dpdk.org/results/dashboard/patchsets/32630/

UNH-IOL DPDK Community Lab

To manage your email subscriptions, visit: 
https://lab.dpdk.org/results/dashboard/preferences/subscriptions/