From mboxrd@z Thu Jan 1 00:00:00 1970 Return-Path: Received: from mails.dpdk.org (mails.dpdk.org [217.70.189.124]) by inbox.dpdk.org (Postfix) with ESMTP id 7FCCE4628F for ; Fri, 21 Feb 2025 18:36:25 +0100 (CET) Received: from mails.dpdk.org (localhost [127.0.0.1]) by mails.dpdk.org (Postfix) with ESMTP id 7835D402ED; Fri, 21 Feb 2025 18:36:25 +0100 (CET) Received: from mail-qv1-f99.google.com (mail-qv1-f99.google.com [209.85.219.99]) by mails.dpdk.org (Postfix) with ESMTP id F3F0540270 for ; Fri, 21 Feb 2025 18:36:23 +0100 (CET) Received: by mail-qv1-f99.google.com with SMTP id 6a1803df08f44-6e69db792daso19666526d6.0 for ; Fri, 21 Feb 2025 09:36:23 -0800 (PST) DKIM-Signature: v=1; a=rsa-sha256; c=relaxed/relaxed; d=iol.unh.edu; s=unh-iol; t=1740159383; x=1740764183; darn=dpdk.org; h=cc:to:from:subject:message-id:date:from:to:cc:subject:date :message-id:reply-to; bh=xsbvDWH9+AMLke+nchWskIxUjmcOC6qP3Epw8fItSvY=; b=B2LydAs3n6i2i/IIw6GllVJkldAFP2I7+lo1nTgmOTSvUo2GtLnCA8EK28XDQujO4I Ug37JhjXlGIeNKOm8zFlB6FMMopJEQIaSkeZXVBwFZEWEs3xrJC4JPNVc4CV7nUDTj21 cqrOOD6GnUGKx3M5kSInp3RUh/aJXokGNXjbQ= X-Google-DKIM-Signature: v=1; a=rsa-sha256; c=relaxed/relaxed; d=1e100.net; s=20230601; t=1740159383; x=1740764183; h=cc:to:from:subject:message-id:date:x-gm-message-state:from:to:cc :subject:date:message-id:reply-to; bh=xsbvDWH9+AMLke+nchWskIxUjmcOC6qP3Epw8fItSvY=; b=TdwAds79sOJU/edvklSa+izZb/IgcvFYNKGEkNlm7X8PcVfELVHvizJDv2RUZKINyM 7uN62Tdt2IGepXw/YrYI3gFlBJEAYi6AmWuHGdEwhu+Bzj7TrHoz8e+BamHVegKYoFRB WkgstSvXSPAyhaotn/MZB/kpNS+db6XGFqJuHFiHMFvgdEeE10UjcFh7i3enMaHRUCJi bEVCdjyodbKO+6V7LIEN1s32JNLgBXk0WJunnXigTUQugc0boUdQRgQxiRBUqcrF6yvd AK4HqNQhEl19m9BFUi5xMHsyTrLowZCsVhN4ZE1umN26kHVzZwOKG+Nk2iAfpSZQBcQY i4pA== X-Gm-Message-State: AOJu0YwzkA9klGrR4hFJgsquAIt6rAkYXIn55H34FSsYzdaGAGzaeidv apYblvpdNncD4/IHKT7UAgmy4F7G4U2vaQSAbHxlGCP/g7DU+gCP3hS/HQpOzkTyS7YJ/D3XWRI c1ZnU+DEARUdlPpzY3PDktAsX+9X2OwwAsnNWYNQF X-Gm-Gg: ASbGncuYzkyOya/S8LTYzB6f49dSaP2Eny4+YzHVTgW621sWhbh1wNA2oknlw6qLtYm NsSasn2ZKyrKUoW3F/hV5cVr9nLCA1NmJhacOc79hHHYaHUwd2Vj9+VXroCx1V8ObPIH5YeCUD/ l2qwu7sd5hAQn7Cw/Di5xU1kgYbIpU4W849VUV22qXroHa8ybwPr9vX2Yau1bbMbRfdw+AdWpUl vnCzvz+NGt1yvt21O3YMEv+Hji7kJ18i/lewyLG9gqH2lXg0JMhjeLzS/JpL5JK7VOPrqjTXsvS at2P8Szn6qxNp0bYGPchG4su3dFpdooFnPjBlhNm X-Google-Smtp-Source: AGHT+IFvEQTI/U1Ov9WSGvBJuK9smDNhjY3UbNrQ0kQi0TX+2lKc1pEBd2QHVtyO8kS/UwGUn6KvDctbIHmS X-Received: by 2002:a05:6214:d88:b0:6d8:9ead:c665 with SMTP id 6a1803df08f44-6e6b0106a22mr55060296d6.27.1740159383350; Fri, 21 Feb 2025 09:36:23 -0800 (PST) Received: from postal.iol.unh.edu (postal.iol.unh.edu. [132.177.123.84]) by smtp-relay.gmail.com with ESMTPS id 6a1803df08f44-6e65d7a38fcsm7453506d6.62.2025.02.21.09.36.23 (version=TLS1_2 cipher=ECDHE-ECDSA-AES128-GCM-SHA256 bits=128/128); Fri, 21 Feb 2025 09:36:23 -0800 (PST) X-Relaying-Domain: iol.unh.edu Date: Fri, 21 Feb 2025 09:36:23 -0800 (PST) Message-ID: <67b8b997.050a0220.371ec1.5d24SMTPIN_ADDED_MISSING@mx.google.com> Received: from [172.21.0.9] (unknown [172.18.0.240]) by postal.iol.unh.edu (Postfix) with ESMTP id 718016052471; Fri, 21 Feb 2025 12:36:20 -0500 (EST) Subject: |SUCCESS| [GIT MASTER] 3497d187f963e5fddca607637f6a42b8b944fa49 From: dpdklab@iol.unh.edu To: Test Report Cc: dpdk-test-reports@iol.unh.edu, Stephen Hemminger Content-Type: text/plain X-BeenThere: test-report@dpdk.org X-Mailman-Version: 2.1.29 Precedence: list List-Id: automatic DPDK test reports List-Unsubscribe: , List-Archive: List-Post: List-Help: List-Subscribe: , Errors-To: test-report-bounces@dpdk.org _Testing PASS_ Branch: dpdk-next-net 3497d187f963e5fddca607637f6a42b8b944fa49 --> testing pass Upstream job id: Generic-VM-Unit-Test-DPDK#27310 Test environment and result as below: +---------------------+----------------+ | Environment | dpdk_unit_test | +=====================+================+ | CentOS Stream 9 | PASS | +---------------------+----------------+ | Debian Bullseye | PASS | +---------------------+----------------+ | CentOS Stream 10 | PASS | +---------------------+----------------+ | Debian 12 | PASS | +---------------------+----------------+ | Fedora 40 (Clang) | PASS | +---------------------+----------------+ | Fedora 40 | PASS | +---------------------+----------------+ | Fedora 41 | PASS | +---------------------+----------------+ | Fedora 41 (Clang) | PASS | +---------------------+----------------+ | Ubuntu 20.04 | PASS | +---------------------+----------------+ | RHEL8 | PASS | +---------------------+----------------+ | Ubuntu 22.04 | PASS | +---------------------+----------------+ | RHEL9 | PASS | +---------------------+----------------+ | Ubuntu 24.04 | PASS | +---------------------+----------------+ | Windows Server 2022 | PASS | +---------------------+----------------+ CentOS Stream 9 Kernel: Depends on container host Compiler: gcc 11.5.0 20240719 (Red Hat 11.5.0-2) Debian Bullseye Kernel: Depends on container host Compiler: gcc (Debian 10.2.1-6) 10.2.1 20210110 CentOS Stream 10 Kernel: Depends on container host Compiler: gcc 14.2.1 20241104 (Red Hat 14.2.1-6) Debian 12 Kernel: Depends on container host Compiler: gcc (Debian 12.2.0-14) 12.2.0 Fedora 40 (Clang) Kernel: Depends on container host Compiler: clang 18.1.8 (Fedora 18.1.8-1.fc40) Fedora 40 Kernel: Depends on container host Compiler: gcc 14.2.1 20240912 (Red Hat 14.2.1-3) Fedora 41 Kernel: Depends on container host Compiler: gcc 14.2.1 20240912 (Red Hat 14.2.1-3) Fedora 41 (Clang) Kernel: Depends on container host Compiler: clang 19.1.5 (Fedora 19.1.5-1.fc41) Ubuntu 20.04 Kernel: Depends on container host Compiler: gcc (Ubuntu 9.4.0-1ubuntu1~20.04.2) 9.4.0 RHEL8 Kernel: Depends on container host Compiler: gcc 8.5.0 20210514 (Red Hat 8.5.0-22) Ubuntu 22.04 Kernel: Depends on container host Compiler: gcc (Ubuntu 11.4.0-1ubuntu1~22.04) 11.4.0 RHEL9 Kernel: Depends on container host Compiler: gcc 11.5.0 20240719 (Red Hat 11.5.0-2) Ubuntu 24.04 Kernel: Depends on container host Compiler: gcc (Ubuntu 13.3.0-6ubuntu2~24.04) 13.3.0 Windows Server 2022 Kernel: 10.0.20348.2031 Compiler: clang 15.0.7, gcc 14.1.0 (MinGW), and MSVC VS 19.39.33521 To view detailed results, visit: https://lab.dpdk.org/results/dashboard/tarballs/32655/ UNH-IOL DPDK Community Lab To manage your email subscriptions, visit: https://lab.dpdk.org/results/dashboard/preferences/subscriptions/