From mboxrd@z Thu Jan 1 00:00:00 1970 Return-Path: Received: from mails.dpdk.org (mails.dpdk.org [217.70.189.124]) by inbox.dpdk.org (Postfix) with ESMTP id 074344628F for ; Fri, 21 Feb 2025 18:40:47 +0100 (CET) Received: from mails.dpdk.org (localhost [127.0.0.1]) by mails.dpdk.org (Postfix) with ESMTP id 02901402ED; Fri, 21 Feb 2025 18:40:47 +0100 (CET) Received: from mail-pl1-f228.google.com (mail-pl1-f228.google.com [209.85.214.228]) by mails.dpdk.org (Postfix) with ESMTP id 4E20140270 for ; Fri, 21 Feb 2025 18:40:45 +0100 (CET) Received: by mail-pl1-f228.google.com with SMTP id d9443c01a7336-220d132f16dso39072305ad.0 for ; Fri, 21 Feb 2025 09:40:45 -0800 (PST) DKIM-Signature: v=1; a=rsa-sha256; c=relaxed/relaxed; d=iol.unh.edu; s=unh-iol; t=1740159644; x=1740764444; darn=dpdk.org; h=references:in-reply-to:cc:to:from:subject:message-id:date:from:to :cc:subject:date:message-id:reply-to; bh=0baNkAlAw6vbpD2da4uCSxWIJjeSGEfY9YM5oZvWfsI=; b=YAkoKU5TfAij49sh5zUaliHykhKWq8JgYj5WX/c6xZttkmaXk6pfZwZ7k782r8kxWf 6IPlX7Pquwkl6jDwJdu4wr6dfVrkWdQWqyH7lbvG7b/0gzSxbh3Jc/IPRAIAWzuSqlVZ 9PCYaUvKfQTSRe+6ALoo5G2kEmqsbWv9DzgfM= X-Google-DKIM-Signature: v=1; a=rsa-sha256; c=relaxed/relaxed; d=1e100.net; s=20230601; t=1740159644; x=1740764444; h=references:in-reply-to:cc:to:from:subject:message-id:date :x-gm-message-state:from:to:cc:subject:date:message-id:reply-to; bh=0baNkAlAw6vbpD2da4uCSxWIJjeSGEfY9YM5oZvWfsI=; b=fiVyW4bNCDK+DejiSL2RkyuyDISaw8s7yUhD+6q3myBWLYCaobp1q0zztpP2tvqf1n 7i6mA+PGrRM5ZeOnK6Bneu56QF7pfdAPgi5U+XO3fyWDF/PXrOjDm4IYGXZ6wKLKUwV9 oETAVceJ6K8+jxFVaHiuQrDfwjgqRavJrzFLOLap/GL9+L0RVuvR5DgPegFQk6nc0hZn kCrOsvT6Jyl9leI3h3vVY8f3WU6xUjotELwrRiFNRt0emFxasD1BcyNjiBa4qzvKXAiT SkN7uqZTHN/nngsE88k+g3A2udO0Rj/tnlS6GvqlVpGCXECDHlKXV7bdydAVieJz/YO5 UqxQ== X-Gm-Message-State: AOJu0Yy/CLKKyjPEsFxsfdW1ubjQVEYVRlackaC+DQB2A+OCAl4Aqc92 Oxp+QQrfuyyJIVP/K+xT9Fi1NcHmojBq4z1PmSq0Sc7O6yzfHCVbQvtO0KfZmOaEzsVjPSrESYh kCybGMAcgl4UwwMw2K2n/urivGjzsqdD/2ocF0EE0 X-Gm-Gg: ASbGnctAGF8wYIhbP65AbYLGXpQSHEXjLB8QfV08sy6T3cGi1W57BaDFViU3ynNCzoo SYrdbd5asJQomvPXVOkJczR+VNuHB/Y41DeBcYzA7mlSI8SH6pb1cqJUykC4ocryKkeTQU3Y83B TTDvqDxB4byEkneSOKBXIeedn3OmsbJvibd1y9olBmfwj5owMCHXKscO48fWlm7Y45Pl42Uvty8 kWMBny+Lsl5+baBu8tspSwlPzIfHpGRy9uDEyNkC9ru3utD/+L0tzsekuB4OY+RTLR0YYNjJYoI S4MSPgCktRcQL329c5cQxj4wYZFQaoVwwLrgTIvi X-Google-Smtp-Source: AGHT+IHUlmGx0mbfEzKfAA4oUgbLqyQ2tk5hdG9WvLzloOcwC7f21XEkWkNd2MH/SNyVVktrwuITLPwto1wY X-Received: by 2002:a05:6a21:9014:b0:1e1:ab8b:dda1 with SMTP id adf61e73a8af0-1eef3dca4a5mr8062371637.35.1740159644349; Fri, 21 Feb 2025 09:40:44 -0800 (PST) Received: from postal.iol.unh.edu (postal.iol.unh.edu. [132.177.123.84]) by smtp-relay.gmail.com with ESMTPS id 41be03b00d2f7-adc9dffc6a5sm959399a12.12.2025.02.21.09.40.44 (version=TLS1_2 cipher=ECDHE-ECDSA-AES128-GCM-SHA256 bits=128/128); Fri, 21 Feb 2025 09:40:44 -0800 (PST) X-Relaying-Domain: iol.unh.edu Date: Fri, 21 Feb 2025 09:40:44 -0800 (PST) Message-ID: <67b8ba9c.630a0220.273731.1614SMTPIN_ADDED_MISSING@mx.google.com> Received: from [172.21.0.7] (unknown [172.18.0.240]) by postal.iol.unh.edu (Postfix) with ESMTP id C56516052471; Fri, 21 Feb 2025 12:40:34 -0500 (EST) Subject: |SUCCESS| pw151772 [PATCH] [v3] net/mana: use mana_local_data for tr From: dpdklab@iol.unh.edu To: Test Report Cc: dpdk-test-reports@iol.unh.edu In-Reply-To: <1740094322-10919-1-git-send-email-longli@linuxonhyperv.com> References: <1740094322-10919-1-git-send-email-longli@linuxonhyperv.com> Content-Type: text/plain X-BeenThere: test-report@dpdk.org X-Mailman-Version: 2.1.29 Precedence: list List-Id: automatic DPDK test reports List-Unsubscribe: , List-Archive: List-Post: List-Help: List-Subscribe: , Errors-To: test-report-bounces@dpdk.org Test-Label: iol-sample-apps-testing Test-Status: SUCCESS http://dpdk.org/patch/151772 _Testing PASS_ Submitter: Long Li Date: Thursday, February 20 2025 23:32:02 DPDK git baseline: Repo:dpdk Branch: master CommitID:3497d187f963e5fddca607637f6a42b8b944fa49 151772 --> testing pass Upstream job id: ACVP-FIPS-testing#8985 Test environment and result as below: +--------------------+----------------------+----------------------+ | Environment | compressdev_zlib_pmd | dpdk_fips_validation | +====================+======================+======================+ | Ubuntu 22.04 (ARM) | PASS | SKIPPED | +--------------------+----------------------+----------------------+ | Ubuntu 22.04 | PASS | SKIPPED | +--------------------+----------------------+----------------------+ | Ubuntu 20.04 | SKIPPED | PASS | +--------------------+----------------------+----------------------+ Ubuntu 22.04 (ARM) Kernel: 5.15.0-97-generic Compiler: gcc gcc (Ubuntu 11.4.0-1ubuntu1~22.04) 11.4.0 Ubuntu 22.04 Kernel: 5.15.0-100-generic Compiler: gcc gcc (Ubuntu 11.4.0-1ubuntu1~22.04) 11.4.0 Ubuntu 20.04 Kernel: Depends on container host Compiler: gcc (Ubuntu 9.4.0-1ubuntu1~20.04.2) 9.4.0 To view detailed results, visit: https://lab.dpdk.org/results/dashboard/patchsets/32632/ UNH-IOL DPDK Community Lab To manage your email subscriptions, visit: https://lab.dpdk.org/results/dashboard/preferences/subscriptions/