From mboxrd@z Thu Jan 1 00:00:00 1970 Return-Path: Received: from mails.dpdk.org (mails.dpdk.org [217.70.189.124]) by inbox.dpdk.org (Postfix) with ESMTP id 501FB4627A for ; Fri, 21 Feb 2025 18:51:53 +0100 (CET) Received: from mails.dpdk.org (localhost [127.0.0.1]) by mails.dpdk.org (Postfix) with ESMTP id 4364A410E8; Fri, 21 Feb 2025 18:51:53 +0100 (CET) Received: from mail-il1-f226.google.com (mail-il1-f226.google.com [209.85.166.226]) by mails.dpdk.org (Postfix) with ESMTP id 272E3410E6 for ; Fri, 21 Feb 2025 18:51:51 +0100 (CET) Received: by mail-il1-f226.google.com with SMTP id e9e14a558f8ab-3d19f5ce8a0so7063005ab.1 for ; Fri, 21 Feb 2025 09:51:51 -0800 (PST) DKIM-Signature: v=1; a=rsa-sha256; c=relaxed/relaxed; d=iol.unh.edu; s=unh-iol; t=1740160310; x=1740765110; darn=dpdk.org; h=references:in-reply-to:cc:to:from:subject:message-id:date:from:to :cc:subject:date:message-id:reply-to; bh=EKxRmac58wjL/Pm81v+CnerOfZXTOW+9wqQguBoddQc=; b=P1zT+MXaGbQsX+IHGQmk6tqqA/jRlebthqK3gX+U/eT5JoRUpZiidPOnnxRi4p2euH DvPLnt0mUBHYZ2F+WcBeo63ZorDzc19cRBTXuCIVgq20MycgS9EjLI/loAk+qnrsEu/K 1PO8r5K0nmTcmG0DVyWOvZjtudEvSGHe4538s= X-Google-DKIM-Signature: v=1; a=rsa-sha256; c=relaxed/relaxed; d=1e100.net; s=20230601; t=1740160310; x=1740765110; h=references:in-reply-to:cc:to:from:subject:message-id:date :x-gm-message-state:from:to:cc:subject:date:message-id:reply-to; bh=EKxRmac58wjL/Pm81v+CnerOfZXTOW+9wqQguBoddQc=; b=X4ULowOMvDIL465l7dk3kzYWyK9TyBowqEgkvTDdg2S+lYl8NkaACzwOdxw4k1thKm hfJqnmpBBHLS/LX2ZWayWnaYqcA0FE3gysLr1OisoEQ5O3YJqd7pm8dUYG16Vt8gtcnq +qi/+7CLif57HOQHvckQU1AxvgEvXXAdyOwGNffC18e7rnYs9P9rUGPWwawaJQwRwRE/ 2FKj1IzKbtsCfiQrsQdecaOYyXw+xy+7Xfx3B5Pl9/zwS4xK11A5BqYij9np8Bqcdm98 ybJeMGeJsdPMWsvk053NArTJfFb491PHxWKXAjFRw1CVWRMna76Aiqu6t0g53HAjc/J+ tlFA== X-Gm-Message-State: AOJu0Yyp/IMnSYHeXWtvbSnkTIan0irXgVNkk46ULcTe39EjkIPy6UGb RWYUXwgEFcP9VaBojjdYNm4Iuq0LbDYDw32bNSCeIivt0FaZMGOe4E2f3LHeThsujMyPXI1NBaF EJpONc4BtaRJHyctl5jIHqJCDKL2lu15AQZ3q2z8I X-Gm-Gg: ASbGncs85hMh119qZSzcjOjMO9YSxCGJt3H/KgLPwO8ZaTapPcFSiDJ9C4U3N8kGnMd D5jfnT0TDYYXDwjz0KduhOoN8g9IAO1YnqVjnoag7Rp0AsEwezyt8sGgz5f7+wdXxelKo8/8P2K ZqDB8DoYcf9QCaKInUZ58Oy083KaF2jT/zBMn5owqVvogkR9xHDlkQEReMY6KDRCv+c4mO0PcIP ifXU+9G+i4zJ2MHhh9/6YNBuyNwKxjiNnIBkLxfuv+N2olPwZ6g077vCDRYtJnuMEMDYraeS9F0 /HlFEiuxJ+FFhtONACld2FfyeCTpV2z0eCZdggOs X-Google-Smtp-Source: AGHT+IHXmyMn7xbdayPgPN9utV1x7lUF9+h9RCBx1KBpCofqMee23eYOJuulkrlgi9GLaEKexCnXgXgJxRNd X-Received: by 2002:a05:6e02:1d9e:b0:3a9:cde3:2ecc with SMTP id e9e14a558f8ab-3d2c020d145mr98085745ab.6.1740160310460; Fri, 21 Feb 2025 09:51:50 -0800 (PST) Received: from postal.iol.unh.edu (postal.iol.unh.edu. [132.177.123.84]) by smtp-relay.gmail.com with ESMTPS id 8926c6da1cb9f-4eec11c8c31sm360220173.49.2025.02.21.09.51.50 (version=TLS1_2 cipher=ECDHE-ECDSA-AES128-GCM-SHA256 bits=128/128); Fri, 21 Feb 2025 09:51:50 -0800 (PST) X-Relaying-Domain: iol.unh.edu Date: Fri, 21 Feb 2025 09:51:50 -0800 (PST) Message-ID: <67b8bd36.050a0220.3c8017.2a78SMTPIN_ADDED_MISSING@mx.google.com> Received: from [172.21.0.6] (unknown [172.18.0.240]) by postal.iol.unh.edu (Postfix) with ESMTP id 9C3646052471; Fri, 21 Feb 2025 12:51:47 -0500 (EST) Subject: |SUCCESS| pw151793 [PATCH] net/ice: fix ACL filter uninit From: dpdklab@iol.unh.edu To: Test Report Cc: dpdk-test-reports@iol.unh.edu In-Reply-To: <20250221082510.332677-1-mingjinx.ye@intel.com> References: <20250221082510.332677-1-mingjinx.ye@intel.com> Content-Type: text/plain X-BeenThere: test-report@dpdk.org X-Mailman-Version: 2.1.29 Precedence: list List-Id: automatic DPDK test reports List-Unsubscribe: , List-Archive: List-Post: List-Help: List-Subscribe: , Errors-To: test-report-bounces@dpdk.org Test-Label: iol-abi-testing Test-Status: SUCCESS http://dpdk.org/patch/151793 _Testing PASS_ Submitter: Mingjin Ye Date: Friday, February 21 2025 08:25:09 DPDK git baseline: Repo:dpdk Branch: master CommitID:138c5eab9a55b3007d2b9748769c6c2e48f2a92a 151793 --> testing pass Upstream job id: Generic-DPDK-Compile-ABI#117170 Test environment and result as below: +-------------------+----------+ | Environment | abi_test | +===================+==========+ | CentOS Stream 9 | PASS | +-------------------+----------+ | Debian Bullseye | PASS | +-------------------+----------+ | CentOS Stream 10 | PASS | +-------------------+----------+ | Fedora 41 (Clang) | PASS | +-------------------+----------+ | Fedora 41 | PASS | +-------------------+----------+ | Fedora 40 (Clang) | PASS | +-------------------+----------+ | Fedora 40 | PASS | +-------------------+----------+ | Debian 12 | PASS | +-------------------+----------+ | RHEL8 | PASS | +-------------------+----------+ | openSUSE Leap 15 | PASS | +-------------------+----------+ | RHEL9 | PASS | +-------------------+----------+ | Ubuntu 22.04 | PASS | +-------------------+----------+ | Ubuntu 24.04 | PASS | +-------------------+----------+ CentOS Stream 9 Kernel: Depends on container host Compiler: gcc 11.5.0 20240719 (Red Hat 11.5.0-2) Debian Bullseye Kernel: Depends on container host Compiler: gcc (Debian 10.2.1-6) 10.2.1 20210110 CentOS Stream 10 Kernel: Depends on container host Compiler: gcc 14.2.1 20241104 (Red Hat 14.2.1-6) Fedora 41 (Clang) Kernel: Depends on container host Compiler: clang 19.1.5 (Fedora 19.1.5-1.fc41) Fedora 41 Kernel: Depends on container host Compiler: gcc 14.2.1 20240912 (Red Hat 14.2.1-3) Fedora 40 (Clang) Kernel: Depends on container host Compiler: clang 18.1.8 (Fedora 18.1.8-1.fc40) Fedora 40 Kernel: Depends on container host Compiler: gcc 14.2.1 20240912 (Red Hat 14.2.1-3) Debian 12 Kernel: Depends on container host Compiler: gcc (Debian 12.2.0-14) 12.2.0 RHEL8 Kernel: Depends on container host Compiler: gcc 8.5.0 20210514 (Red Hat 8.5.0-22) openSUSE Leap 15 Kernel: Depends on container host Compiler: gcc (SUSE Linux) 7.5.0 RHEL9 Kernel: Depends on container host Compiler: gcc 11.5.0 20240719 (Red Hat 11.5.0-2) Ubuntu 22.04 Kernel: Depends on container host Compiler: gcc (Ubuntu 11.4.0-1ubuntu1~22.04) 11.4.0 Ubuntu 24.04 Kernel: Depends on container host Compiler: gcc (Ubuntu 13.3.0-6ubuntu2~24.04) 13.3.0 To view detailed results, visit: https://lab.dpdk.org/results/dashboard/patchsets/32636/ UNH-IOL DPDK Community Lab To manage your email subscriptions, visit: https://lab.dpdk.org/results/dashboard/preferences/subscriptions/