From: dpdklab@iol.unh.edu
To: Test Report <test-report@dpdk.org>
Cc: dpdk-test-reports@iol.unh.edu
Subject: |SUCCESS| pw151794 [PATCH] sched: fix wrr parameter data type
Date: Fri, 21 Feb 2025 10:02:18 -0800 (PST) [thread overview]
Message-ID: <67b8bfaa.050a0220.2b57be.73c1SMTPIN_ADDED_MISSING@mx.google.com> (raw)
In-Reply-To: <20250221124755.427459-1-megha.ajmera@intel.com>
Test-Label: iol-sample-apps-testing
Test-Status: SUCCESS
http://dpdk.org/patch/151794
_Testing PASS_
Submitter: Megha Ajmera <megha.ajmera@intel.com>
Date: Friday, February 21 2025 12:47:55
DPDK git baseline: Repo:dpdk
Branch: master
CommitID:fab31a03ba98e7457284df95dd9eef2223a4ccaa
151794 --> testing pass
Upstream job id: Template-DTS-Pipeline#213776
Test environment and result as below:
+--------------------+----------------------+
| Environment | compressdev_zlib_pmd |
+====================+======================+
| Ubuntu 22.04 (ARM) | PASS |
+--------------------+----------------------+
| Ubuntu 22.04 | PASS |
+--------------------+----------------------+
Ubuntu 22.04 (ARM)
Kernel: 5.15.0-97-generic
Compiler: gcc gcc (Ubuntu 11.4.0-1ubuntu1~22.04) 11.4.0
Ubuntu 22.04
Kernel: 5.15.0-100-generic
Compiler: gcc gcc (Ubuntu 11.4.0-1ubuntu1~22.04) 11.4.0
To view detailed results, visit:
https://lab.dpdk.org/results/dashboard/patchsets/32637/
UNH-IOL DPDK Community Lab
To manage your email subscriptions, visit:
https://lab.dpdk.org/results/dashboard/preferences/subscriptions/
prev parent reply other threads:[~2025-02-21 18:02 UTC|newest]
Thread overview: 9+ messages / expand[flat|nested] mbox.gz Atom feed top
[not found] <20250221124755.427459-1-megha.ajmera@intel.com>
2025-02-21 12:13 ` qemudev
2025-02-21 12:17 ` qemudev
2025-02-21 12:47 ` |WARNING| " checkpatch
2025-02-21 14:05 ` |SUCCESS| " 0-day Robot
2025-02-21 17:26 ` dpdklab
2025-02-21 17:29 ` dpdklab
2025-02-21 17:30 ` dpdklab
2025-02-21 17:31 ` dpdklab
2025-02-21 18:02 ` dpdklab [this message]
Reply instructions:
You may reply publicly to this message via plain-text email
using any one of the following methods:
* Save the following mbox file, import it into your mail client,
and reply-to-all from there: mbox
Avoid top-posting and favor interleaved quoting:
https://en.wikipedia.org/wiki/Posting_style#Interleaved_style
* Reply using the --to, --cc, and --in-reply-to
switches of git-send-email(1):
git send-email \
--in-reply-to=67b8bfaa.050a0220.2b57be.73c1SMTPIN_ADDED_MISSING@mx.google.com \
--to=dpdklab@iol.unh.edu \
--cc=dpdk-test-reports@iol.unh.edu \
--cc=test-report@dpdk.org \
/path/to/YOUR_REPLY
https://kernel.org/pub/software/scm/git/docs/git-send-email.html
* If your mail client supports setting the In-Reply-To header
via mailto: links, try the mailto: link
Be sure your reply has a Subject: header at the top and a blank line
before the message body.
This is a public inbox, see mirroring instructions
for how to clone and mirror all data and code used for this inbox;
as well as URLs for NNTP newsgroup(s).