From mboxrd@z Thu Jan 1 00:00:00 1970 Return-Path: Received: from mails.dpdk.org (mails.dpdk.org [217.70.189.124]) by inbox.dpdk.org (Postfix) with ESMTP id B35124627E for ; Fri, 21 Feb 2025 19:20:20 +0100 (CET) Received: from mails.dpdk.org (localhost [127.0.0.1]) by mails.dpdk.org (Postfix) with ESMTP id A069E410F6; Fri, 21 Feb 2025 19:20:20 +0100 (CET) Received: from mail-il1-f225.google.com (mail-il1-f225.google.com [209.85.166.225]) by mails.dpdk.org (Postfix) with ESMTP id 9907A410E8 for ; Fri, 21 Feb 2025 19:20:19 +0100 (CET) Received: by mail-il1-f225.google.com with SMTP id e9e14a558f8ab-3cfe17f75dfso20745015ab.2 for ; Fri, 21 Feb 2025 10:20:19 -0800 (PST) DKIM-Signature: v=1; a=rsa-sha256; c=relaxed/relaxed; d=iol.unh.edu; s=unh-iol; t=1740162019; x=1740766819; darn=dpdk.org; h=references:in-reply-to:cc:to:from:subject:message-id:date:from:to :cc:subject:date:message-id:reply-to; bh=P5eg1gPgrJx1vScrHQCA0vx2WyPcYcNI/9gAUFNozu0=; b=Pq8toT/qpjdtFISLkLDGEkTlh6jFDn3uPV3Yo2gzp1YWtBGwxAb6EZ3mla+O9H7Gyr HLvc0Dm6CnOczOCvobHgir2+BhoEUFnn0ud9vICsEV731+FeZfEr2G6hrrsccE+9fb+R mUSHxGO6bIv5bep1OZvNjEza+8qBo4Lsud69o= X-Google-DKIM-Signature: v=1; a=rsa-sha256; c=relaxed/relaxed; d=1e100.net; s=20230601; t=1740162019; x=1740766819; h=references:in-reply-to:cc:to:from:subject:message-id:date :x-gm-message-state:from:to:cc:subject:date:message-id:reply-to; bh=P5eg1gPgrJx1vScrHQCA0vx2WyPcYcNI/9gAUFNozu0=; b=bLmeE0NdKDE6dMmUVQKxkwCdi+BMyBaVXhNJvVRr/XuOSOLjjqK+MWeUWGP7E8HC5m UiPUcANzUmHi8WObYsGEORmZyMVC4LzMy8t9OJ2Zj31KeIdiFQBXGt68BsMt6wO6qUVG sMjewVUBD2Dyxd16aqVq7HObC6ta9sVrVek1/D2pzsTy/QKYON4BcF9q2Uq6zsjQUIhF uK+DsIMPdhQMnXtboli3sPfitgxGnOl+jfbulQNdowVL5AOUPKQSsSdFzmxN4oXNtblA QZFel/sdgB7QhFXAzI8+gbi8gNIcr4IfclUR6pQsenqY6A4lQ4bQPKT8LERZisEIX/VJ 8SgQ== X-Gm-Message-State: AOJu0YxZF/o3SPkpXXo+sNMMtc/MvrPZtvhHOAoo76Bpt/Lx7djv1JEV +TJtzNMTK3l5h+NY3w0/nJVN5Xo1xd1wXz5d6bBqDz34AuYPiUCjvsMkD3KDYQ7Q9SNP1r8SA+y c9Uk7z9b+eTJ/r1P2zTfvJUGAAPueh71KoXTGCYmWF1vXQC4gqpsFdvbA X-Gm-Gg: ASbGncv/IpCtGfoDBuvNBhzMFm2gi9pDyw5PhB2CDZloo6xe+LtsJpSEvk5dBqtj1+5 O48d/2nugL1BARjy7UBnTQuqaWfKerPBOq1T+XKyuCmsz0nIhnYxfPdJcdlIyKxIcjTsEKaH12J 6V+XUtG29/pNHWw4Jc4SSGQf/bnn+zaWd40DtF+WQA+9xSS3fw7n0MJYOoRqNY+726vHSMFJEBH zApx/47Ir8Gn+rOOwiL7UDf1gi0fDmnP5l4Ub7IcPANUDIpp3oTmqMtQAT6Vlgs00nsBG8CLQxf o6j0+IWMq06hL6oFOCHtBzk0LDLBTE35iqZGCepd+/ACBzHaQMaQ X-Google-Smtp-Source: AGHT+IE7zG6O4BXYyEuYntFu5tF4KpvyqTUgSCMfa+eW9RmGSq/fOc8E6pHb5yqg+0vekMRIine07SMXxJkd X-Received: by 2002:a05:6e02:138a:b0:3d2:b72d:a502 with SMTP id e9e14a558f8ab-3d2cb5450f2mr51161545ab.22.1740162018922; Fri, 21 Feb 2025 10:20:18 -0800 (PST) Received: from postal.iol.unh.edu (postal.iol.unh.edu. [2606:4100:3880:1234::84]) by smtp-relay.gmail.com with ESMTPS id e9e14a558f8ab-3d287db8798sm8539125ab.68.2025.02.21.10.20.18 (version=TLS1_2 cipher=ECDHE-ECDSA-AES128-GCM-SHA256 bits=128/128); Fri, 21 Feb 2025 10:20:18 -0800 (PST) X-Relaying-Domain: iol.unh.edu Date: Fri, 21 Feb 2025 10:20:18 -0800 (PST) Message-ID: <67b8c3e2.050a0220.20d826.9ca4SMTPIN_ADDED_MISSING@mx.google.com> Received: from [172.21.0.5] (unknown [172.18.0.240]) by postal.iol.unh.edu (Postfix) with ESMTP id 5629B6052471; Fri, 21 Feb 2025 13:20:15 -0500 (EST) Subject: |SUCCESS| pw151792 [PATCH] net/ixgbe: fix min Rx/Tx descriptors From: dpdklab@iol.unh.edu To: Test Report Cc: dpdk-test-reports@iol.unh.edu In-Reply-To: <20250221082318.331815-1-mingjinx.ye@intel.com> References: <20250221082318.331815-1-mingjinx.ye@intel.com> Content-Type: text/plain X-BeenThere: test-report@dpdk.org X-Mailman-Version: 2.1.29 Precedence: list List-Id: automatic DPDK test reports List-Unsubscribe: , List-Archive: List-Post: List-Help: List-Subscribe: , Errors-To: test-report-bounces@dpdk.org Test-Label: iol-unit-arm64-testing Test-Status: SUCCESS http://dpdk.org/patch/151792 _Testing PASS_ Submitter: Mingjin Ye Date: Friday, February 21 2025 08:23:18 DPDK git baseline: Repo:dpdk Branch: master CommitID:138c5eab9a55b3007d2b9748769c6c2e48f2a92a 151792 --> testing pass Upstream job id: Generic-Unit-Test-DPDK#317212 Test environment and result as below: +-----------------------------+----------------+--------------+---------------------------+------------------------------+ | Environment | dpdk_unit_test | lpm_autotest | cryptodev_sw_zuc_autotest | cryptodev_sw_snow3g_autotest | +=============================+================+==============+===========================+==============================+ | 32-bit Ubuntu 22.04.4 (ARM) | PASS | SKIPPED | SKIPPED | SKIPPED | +-----------------------------+----------------+--------------+---------------------------+------------------------------+ | Debian 12 (arm) | PASS | SKIPPED | PASS | PASS | +-----------------------------+----------------+--------------+---------------------------+------------------------------+ | CentOS Stream 10 (ARM) | PASS | SKIPPED | SKIPPED | SKIPPED | +-----------------------------+----------------+--------------+---------------------------+------------------------------+ | Debian 11 (Buster) (ARM) | PASS | SKIPPED | SKIPPED | SKIPPED | +-----------------------------+----------------+--------------+---------------------------+------------------------------+ | CentOS Stream 9 (ARM) | PASS | SKIPPED | SKIPPED | SKIPPED | +-----------------------------+----------------+--------------+---------------------------+------------------------------+ | Fedora 40 (ARM) | PASS | SKIPPED | SKIPPED | SKIPPED | +-----------------------------+----------------+--------------+---------------------------+------------------------------+ | Fedora 41 (ARM Clang) | PASS | SKIPPED | SKIPPED | SKIPPED | +-----------------------------+----------------+--------------+---------------------------+------------------------------+ | Fedora 40 (ARM Clang) | PASS | SKIPPED | SKIPPED | SKIPPED | +-----------------------------+----------------+--------------+---------------------------+------------------------------+ | Fedora 41 (ARM) | PASS | SKIPPED | SKIPPED | SKIPPED | +-----------------------------+----------------+--------------+---------------------------+------------------------------+ | Ubuntu 20.04 (ARM) | PASS | SKIPPED | SKIPPED | SKIPPED | +-----------------------------+----------------+--------------+---------------------------+------------------------------+ | RHEL9 (ARM) | PASS | SKIPPED | SKIPPED | SKIPPED | +-----------------------------+----------------+--------------+---------------------------+------------------------------+ | Ubuntu 22.04 (ARM) | PASS | SKIPPED | SKIPPED | SKIPPED | +-----------------------------+----------------+--------------+---------------------------+------------------------------+ | Ubuntu 24.04 (ARM) | PASS | SKIPPED | SKIPPED | SKIPPED | +-----------------------------+----------------+--------------+---------------------------+------------------------------+ | Ubuntu 20.04 ARM SVE | SKIPPED | PASS | SKIPPED | SKIPPED | +-----------------------------+----------------+--------------+---------------------------+------------------------------+ 32-bit Ubuntu 22.04.4 (ARM) Kernel: 5.15.83+ aarch64 Compiler: gcc (Ubuntu 11.4.0-1ubuntu1~22.04) 11.4.0 Debian 12 (arm) Kernel: Depends on container host Compiler: gcc (Debian 12.2.0-14) 12.2.0 CentOS Stream 10 (ARM) Kernel: Depends on container host Compiler: gcc 14.2.1 20241104 (Red Hat 14.2.1-6) Debian 11 (Buster) (ARM) Kernel: Depends on container host Compiler: gcc (Debian 10.2.1-6) 10.2.1 20210110 CentOS Stream 9 (ARM) Kernel: Depends on container host Compiler: gcc 11.5.0 20240719 (Red Hat 11.5.0-2) Fedora 40 (ARM) Kernel: Depends on container host Compiler: gcc 14.2.1 20240912 (Red Hat 14.2.1-3) Fedora 41 (ARM Clang) Kernel: Depends on container host Compiler: clang 19.1.5 (Fedora 19.1.5-1.fc41) Fedora 40 (ARM Clang) Kernel: Depends on container host Compiler: clang 18.1.8 (Fedora 18.1.8-1.fc40) Fedora 41 (ARM) Kernel: Depends on container host Compiler: gcc 14.2.1 20240912 (Red Hat 14.2.1-3) Ubuntu 20.04 (ARM) Kernel: Depends on container host Compiler: gcc (Ubuntu 9.4.0-1ubuntu1~20.04.2) 9.4.0 RHEL9 (ARM) Kernel: Depends on container host Compiler: gcc 11.5.0 20240719 (Red Hat 11.5.0-2) Ubuntu 22.04 (ARM) Kernel: Depends on container host Compiler: gcc (Ubuntu 11.4.0-1ubuntu1~22.04) 11.4.0 Ubuntu 24.04 (ARM) Kernel: Depends on container host Compiler: gcc (Ubuntu 13.3.0-6ubuntu2~24.04) 13.3.0 Ubuntu 20.04 ARM SVE Kernel: Depends on container host Compiler: gcc (Ubuntu 10.5.0-1ubuntu1~20.04) 10.5.0 To view detailed results, visit: https://lab.dpdk.org/results/dashboard/patchsets/32635/ UNH-IOL DPDK Community Lab To manage your email subscriptions, visit: https://lab.dpdk.org/results/dashboard/preferences/subscriptions/