From mboxrd@z Thu Jan 1 00:00:00 1970 Return-Path: Received: from mails.dpdk.org (mails.dpdk.org [217.70.189.124]) by inbox.dpdk.org (Postfix) with ESMTP id 6FFE74627A for ; Fri, 21 Feb 2025 21:21:42 +0100 (CET) Received: from mails.dpdk.org (localhost [127.0.0.1]) by mails.dpdk.org (Postfix) with ESMTP id 6AEFD410E8; Fri, 21 Feb 2025 21:21:42 +0100 (CET) Received: from mail-il1-f225.google.com (mail-il1-f225.google.com [209.85.166.225]) by mails.dpdk.org (Postfix) with ESMTP id EC3C1410E6 for ; Fri, 21 Feb 2025 21:21:40 +0100 (CET) Received: by mail-il1-f225.google.com with SMTP id e9e14a558f8ab-3d1a428471fso18781235ab.2 for ; Fri, 21 Feb 2025 12:21:40 -0800 (PST) DKIM-Signature: v=1; a=rsa-sha256; c=relaxed/relaxed; d=iol.unh.edu; s=unh-iol; t=1740169300; x=1740774100; darn=dpdk.org; h=references:in-reply-to:cc:to:from:subject:message-id:date:from:to :cc:subject:date:message-id:reply-to; bh=bgmOvDkvFeX5q2c37lt43ooQySQeVoS9xMT1sjFr7YE=; b=f5SLonCm5EmFqUwzrHXW0ciUgmPKbMIHciCLI9nVXq65ZuEE+mA8x/ttmitU2ZI2Zl ZWSRLoATZEqcq80lSGg3zR/OMNdxcQOA2A3jVbj+IUPEx6+HA9dCtvJI+kx02CWIvbjF cs47tPU4TGzWlhoiqPosNEwTpcZQRGaUSlk0c= X-Google-DKIM-Signature: v=1; a=rsa-sha256; c=relaxed/relaxed; d=1e100.net; s=20230601; t=1740169300; x=1740774100; h=references:in-reply-to:cc:to:from:subject:message-id:date :x-gm-message-state:from:to:cc:subject:date:message-id:reply-to; bh=bgmOvDkvFeX5q2c37lt43ooQySQeVoS9xMT1sjFr7YE=; b=C+oEHkDfj6zAeXLE4S1oMjPjiEBaoyUFmS6jivoARKHoyjydmmm33ijnLTS7k2NPTA avTvLP8EGZlosk2UHWiKvHD+ndVPIvMuVql5uGxOu+RnCoGRcq5sjUXrHFD3zGZt/elX qFAKo4OoOSH9JR7dvd93rr4QPhyFIVJDH6w7rzSJzNG7wdnggRU9z5gPk7vbyPx7NCVg 5ya2TE8EbK+5Cxtma1B7ddUcN3AHouvesNTTl4fz/0DTA4gusuWKaoER8GR9cNO25Ec1 +GVEM5e6Cxs+flK2aibz2Krjp42gB/elWiMgn/lSenH504T+brtcGXg1ZcoXEv4S6GFp RNUg== X-Gm-Message-State: AOJu0Yy387Ew8Q2O2hVKyCVKVGsQkgt1eQoe8VRCNkJNvcK913ChKwiT PdCLIBFOBVU//OfMAGMSN3fFDQTu7bLDLmWt+ETCIVM3dLxK9dCasDe2+ZIN6seiTjyUdoYAkqx 8Me48jqHKPGeTan4RjjWas1zS1RkAp4nJ1qynOyLU X-Gm-Gg: ASbGncuWaKMsbU/M0/PfGkxonOIcuB6hGiVNHkjhVweOOb+7fDDlV7uReZZWGhHPnZg skqPgIxAOqPXJDxH8OxRzVu9MC507JYMrGL6b8uvVivjuk760moDcKDdwKDrBu57fsrvx/OzV2k hRQYbOiG5hZuj2wN6hgpikFBlnnpRLN5M/RyGVEKJJRnwvFfnSFZefQSRRjwfYlg1+iNDBf1Ioc q9RrhMmtfFS16/QmklXoaSoHEM5FRPhMIPeEOI+V5R+dpzTGQzKiZIf2wCHbI7Gtz6TrDxB6MJY o5K5UlKJLuHGtrs0XyxQ91R36hb4XF2UWBcDIfZz X-Google-Smtp-Source: AGHT+IH3OI0x981/RSMxbJRLyC4FOJ7a83f4JB3x660CeSdNMp83aSCgWMrHu4frwuDMhi1kw6XzHh5klfVK X-Received: by 2002:a05:6e02:13a4:b0:3cf:c9ad:46a1 with SMTP id e9e14a558f8ab-3d2cae8b19bmr37713055ab.13.1740169300319; Fri, 21 Feb 2025 12:21:40 -0800 (PST) Received: from postal.iol.unh.edu (postal.iol.unh.edu. [132.177.123.84]) by smtp-relay.gmail.com with ESMTPS id e9e14a558f8ab-3d19fd3f919sm9469395ab.57.2025.02.21.12.21.40 (version=TLS1_2 cipher=ECDHE-ECDSA-AES128-GCM-SHA256 bits=128/128); Fri, 21 Feb 2025 12:21:40 -0800 (PST) X-Relaying-Domain: iol.unh.edu Date: Fri, 21 Feb 2025 12:21:40 -0800 (PST) Message-ID: <67b8e054.050a0220.32f183.e307SMTPIN_ADDED_MISSING@mx.google.com> Received: from [172.21.0.7] (unknown [172.18.0.240]) by postal.iol.unh.edu (Postfix) with ESMTP id BACC26052471; Fri, 21 Feb 2025 15:21:39 -0500 (EST) Subject: |SUCCESS| pw151739-151769 [PATCH] [v1,32/32] net/ntnic: revert untru From: dpdklab@iol.unh.edu To: Test Report Cc: dpdk-test-reports@iol.unh.edu In-Reply-To: <20250220220406.3925597-33-sil-plv@napatech.com> References: <20250220220406.3925597-33-sil-plv@napatech.com> Content-Type: text/plain X-BeenThere: test-report@dpdk.org X-Mailman-Version: 2.1.29 Precedence: list List-Id: automatic DPDK test reports List-Unsubscribe: , List-Archive: List-Post: List-Help: List-Subscribe: , Errors-To: test-report-bounces@dpdk.org Test-Label: iol-unit-amd64-testing Test-Status: SUCCESS http://dpdk.org/patch/151769 _Testing PASS_ Submitter: Serhii Iliushyk Date: Thursday, February 20 2025 22:03:56 DPDK git baseline: Repo:dpdk Branch: master CommitID:3497d187f963e5fddca607637f6a42b8b944fa49 151739-151769 --> testing pass Upstream job id: Generic-VM-Unit-Test-DPDK#27312 Test environment and result as below: +---------------------+----------------+ | Environment | dpdk_unit_test | +=====================+================+ | CentOS Stream 9 | PASS | +---------------------+----------------+ | CentOS Stream 10 | PASS | +---------------------+----------------+ | Fedora 40 | PASS | +---------------------+----------------+ | Debian Bullseye | PASS | +---------------------+----------------+ | Debian 12 | PASS | +---------------------+----------------+ | Fedora 41 (Clang) | PASS | +---------------------+----------------+ | Fedora 41 | PASS | +---------------------+----------------+ | RHEL8 | PASS | +---------------------+----------------+ | RHEL9 | PASS | +---------------------+----------------+ | Fedora 40 (Clang) | PASS | +---------------------+----------------+ | Ubuntu 20.04 | PASS | +---------------------+----------------+ | Ubuntu 24.04 | PASS | +---------------------+----------------+ | Ubuntu 22.04 | PASS | +---------------------+----------------+ | Windows Server 2022 | PASS | +---------------------+----------------+ CentOS Stream 9 Kernel: Depends on container host Compiler: gcc 11.5.0 20240719 (Red Hat 11.5.0-2) CentOS Stream 10 Kernel: Depends on container host Compiler: gcc 14.2.1 20241104 (Red Hat 14.2.1-6) Fedora 40 Kernel: Depends on container host Compiler: gcc 14.2.1 20240912 (Red Hat 14.2.1-3) Debian Bullseye Kernel: Depends on container host Compiler: gcc (Debian 10.2.1-6) 10.2.1 20210110 Debian 12 Kernel: Depends on container host Compiler: gcc (Debian 12.2.0-14) 12.2.0 Fedora 41 (Clang) Kernel: Depends on container host Compiler: clang 19.1.5 (Fedora 19.1.5-1.fc41) Fedora 41 Kernel: Depends on container host Compiler: gcc 14.2.1 20240912 (Red Hat 14.2.1-3) RHEL8 Kernel: Depends on container host Compiler: gcc 8.5.0 20210514 (Red Hat 8.5.0-22) RHEL9 Kernel: Depends on container host Compiler: gcc 11.5.0 20240719 (Red Hat 11.5.0-2) Fedora 40 (Clang) Kernel: Depends on container host Compiler: clang 18.1.8 (Fedora 18.1.8-1.fc40) Ubuntu 20.04 Kernel: Depends on container host Compiler: gcc (Ubuntu 9.4.0-1ubuntu1~20.04.2) 9.4.0 Ubuntu 24.04 Kernel: Depends on container host Compiler: gcc (Ubuntu 13.3.0-6ubuntu2~24.04) 13.3.0 Ubuntu 22.04 Kernel: Depends on container host Compiler: gcc (Ubuntu 11.4.0-1ubuntu1~22.04) 11.4.0 Windows Server 2022 Kernel: 10.0.20348.2031 Compiler: clang 15.0.7, gcc 14.1.0 (MinGW), and MSVC VS 19.39.33521 To view detailed results, visit: https://lab.dpdk.org/results/dashboard/patchsets/32630/ UNH-IOL DPDK Community Lab To manage your email subscriptions, visit: https://lab.dpdk.org/results/dashboard/preferences/subscriptions/