From: dpdklab@iol.unh.edu
To: Test Report <test-report@dpdk.org>
Cc: dpdk-test-reports@iol.unh.edu
Subject: |SUCCESS| pw151771 [PATCH] net/zxdh: remove unnecessary null free ch
Date: Fri, 21 Feb 2025 12:43:10 -0800 (PST) [thread overview]
Message-ID: <67b8e55e.050a0220.326979.1720SMTPIN_ADDED_MISSING@mx.google.com> (raw)
In-Reply-To: <20250220224411.302807-1-stephen@networkplumber.org>
Test-Label: iol-sample-apps-testing
Test-Status: SUCCESS
http://dpdk.org/patch/151771
_Testing PASS_
Submitter: Stephen Hemminger <stephen@networkplumber.org>
Date: Thursday, February 20 2025 22:44:10
DPDK git baseline: Repo:dpdk
Branch: master
CommitID:3497d187f963e5fddca607637f6a42b8b944fa49
151771 --> testing pass
Upstream job id: ACVP-FIPS-testing#8987
Test environment and result as below:
+--------------------+----------------------+----------------------+
| Environment | compressdev_zlib_pmd | dpdk_fips_validation |
+====================+======================+======================+
| Ubuntu 22.04 (ARM) | PASS | SKIPPED |
+--------------------+----------------------+----------------------+
| Ubuntu 22.04 | PASS | SKIPPED |
+--------------------+----------------------+----------------------+
| Ubuntu 20.04 | SKIPPED | PASS |
+--------------------+----------------------+----------------------+
Ubuntu 22.04 (ARM)
Kernel: 5.15.0-97-generic
Compiler: gcc gcc (Ubuntu 11.4.0-1ubuntu1~22.04) 11.4.0
Ubuntu 22.04
Kernel: 5.15.0-100-generic
Compiler: gcc gcc (Ubuntu 11.4.0-1ubuntu1~22.04) 11.4.0
Ubuntu 20.04
Kernel: Depends on container host
Compiler: gcc (Ubuntu 9.4.0-1ubuntu1~20.04.2) 9.4.0
To view detailed results, visit:
https://lab.dpdk.org/results/dashboard/patchsets/32631/
UNH-IOL DPDK Community Lab
To manage your email subscriptions, visit:
https://lab.dpdk.org/results/dashboard/preferences/subscriptions/
prev parent reply other threads:[~2025-02-21 20:43 UTC|newest]
Thread overview: 21+ messages / expand[flat|nested] mbox.gz Atom feed top
[not found] <20250220224411.302807-1-stephen@networkplumber.org>
2025-02-20 22:11 ` |SUCCESS| pw151771 [PATCH] net/zxdh: remove unnecessary null free checks qemudev
2025-02-20 22:16 ` qemudev
2025-02-20 22:44 ` checkpatch
2025-02-21 0:04 ` 0-day Robot
2025-02-21 4:40 ` |SUCCESS| pw151771 [PATCH] net/zxdh: remove unnecessary null free ch dpdklab
2025-02-21 4:45 ` dpdklab
2025-02-21 4:46 ` dpdklab
2025-02-21 4:46 ` dpdklab
2025-02-21 5:15 ` dpdklab
2025-02-21 6:00 ` |PENDING| " dpdklab
2025-02-21 6:01 ` dpdklab
2025-02-21 6:28 ` |SUCCESS| " dpdklab
2025-02-21 6:29 ` dpdklab
2025-02-21 6:35 ` dpdklab
2025-02-21 6:38 ` |PENDING| " dpdklab
2025-02-21 7:23 ` |SUCCESS| " dpdklab
2025-02-21 7:26 ` dpdklab
2025-02-21 7:31 ` dpdklab
2025-02-21 8:52 ` dpdklab
2025-02-21 9:06 ` dpdklab
2025-02-21 20:43 ` dpdklab [this message]
Reply instructions:
You may reply publicly to this message via plain-text email
using any one of the following methods:
* Save the following mbox file, import it into your mail client,
and reply-to-all from there: mbox
Avoid top-posting and favor interleaved quoting:
https://en.wikipedia.org/wiki/Posting_style#Interleaved_style
* Reply using the --to, --cc, and --in-reply-to
switches of git-send-email(1):
git send-email \
--in-reply-to=67b8e55e.050a0220.326979.1720SMTPIN_ADDED_MISSING@mx.google.com \
--to=dpdklab@iol.unh.edu \
--cc=dpdk-test-reports@iol.unh.edu \
--cc=test-report@dpdk.org \
/path/to/YOUR_REPLY
https://kernel.org/pub/software/scm/git/docs/git-send-email.html
* If your mail client supports setting the In-Reply-To header
via mailto: links, try the mailto: link
Be sure your reply has a Subject: header at the top and a blank line
before the message body.
This is a public inbox, see mirroring instructions
for how to clone and mirror all data and code used for this inbox;
as well as URLs for NNTP newsgroup(s).