From mboxrd@z Thu Jan 1 00:00:00 1970 Return-Path: Received: from mails.dpdk.org (mails.dpdk.org [217.70.189.124]) by inbox.dpdk.org (Postfix) with ESMTP id 7CC4E4627A for ; Fri, 21 Feb 2025 21:43:12 +0100 (CET) Received: from mails.dpdk.org (localhost [127.0.0.1]) by mails.dpdk.org (Postfix) with ESMTP id 6BACE410E8; Fri, 21 Feb 2025 21:43:12 +0100 (CET) Received: from mail-io1-f100.google.com (mail-io1-f100.google.com [209.85.166.100]) by mails.dpdk.org (Postfix) with ESMTP id 89B4B410E6 for ; Fri, 21 Feb 2025 21:43:11 +0100 (CET) Received: by mail-io1-f100.google.com with SMTP id ca18e2360f4ac-854a68f5aeeso58711739f.0 for ; Fri, 21 Feb 2025 12:43:11 -0800 (PST) DKIM-Signature: v=1; a=rsa-sha256; c=relaxed/relaxed; d=iol.unh.edu; s=unh-iol; t=1740170591; x=1740775391; darn=dpdk.org; h=references:in-reply-to:cc:to:from:subject:message-id:date:from:to :cc:subject:date:message-id:reply-to; bh=nZcDLrE1oTM2nQNoMs5u+QfkeAjG2duUScyVVAzKj+Q=; b=GERIUqXB1lNpi6LYS6FQDrcOYbWA9Okqh1kly0+59YfBdtdLUkm8mTXnwwfqTwwrmw 93Eoka6kwJb2x2SgFZAu6ll7PudxAXPjV/nGw+cfxkt089RtP7JxCklKcoeSFV7+HiIr AKVk2ipn21ZPNiLziuQ7zACn68V4BxbyCOvq8= X-Google-DKIM-Signature: v=1; a=rsa-sha256; c=relaxed/relaxed; d=1e100.net; s=20230601; t=1740170591; x=1740775391; h=references:in-reply-to:cc:to:from:subject:message-id:date :x-gm-message-state:from:to:cc:subject:date:message-id:reply-to; bh=nZcDLrE1oTM2nQNoMs5u+QfkeAjG2duUScyVVAzKj+Q=; b=GfhovsrYUEu8gg4+4/cGTQKw1eJNBaqU/72ovPbv/MKcBwxS2eGZt+kTKEZed4x0T9 xc3VBYwj6qpbYgsRv4ZYe3EoTkR0VS/MUsUmJQ3jO5disYyWaRMB3H2KXa/Ep5oVV4kj FVX1NtBCIINR5ZyQrjWf2snyVhd3GKs88d4KFJG2QM/5VPmiRQ3WbDEJNfkF6CeW9xXY UA15V04o6pYTWXtABXAkahCA6vtaIRKuk51/Dz9jh3xFcFjHM+RUcmgYiqPqlTCNRGgL LZf+IHsill3ILyfHt3Rdgp070mDWGD22gKAi3IoOX8UVj5lKHynTfDEGMR2lloPSkHD0 wEXQ== X-Gm-Message-State: AOJu0Yx088pbfg3jP61Ts3ADXS1ylMIVPfA3ztUQeZhxeJu19M7Mmj5e +TXtKKTAoFR79oEKUX85NZANKj/fSTrczoFcXzcgtfxmDinK+a30Opj3IGPbiggPzXQTI47Ovi6 vT0J9bK5c6wO/lZD4LQYnyyCvDfwYqAoKV4f2HZgE X-Gm-Gg: ASbGncvfmCaqDwUtRwZWSZ/82amkPShAzMiKCaxMzusM5L3G7PL2a/3VEg9LAD2qVK6 mLpYzKxK8wj4MfQfhDqrI/z9AMjCWQY8uWMW9YPyXS6Gk2V1zP1n3daJ2K9mOSBebCH5ffKDeWo Ex6U35aA+BbQxJOmFqaS0cLliGPYfr517095HWYdAtH3cZpZpntvq8d5lqZNjmd+YWQVndL241y gqkbIrb30GkHq452XaDf+3LifTUFKNLNzeOfmHJjiFW9qQR8697TOJjdg2WMx3uU1NzDQdEgiZL jq3z17bbyJ+bXqpq7Qn9pc6jPJM66kgYMz1AwnoL X-Google-Smtp-Source: AGHT+IFn8gPafJEySop5/ZoBw1ob8XDWo+iHX26bOi4VF00q+rmWrMkkkr00sUQvMXASsRuUUpVnXNm3RrjG X-Received: by 2002:a05:6602:1653:b0:855:d60d:1115 with SMTP id ca18e2360f4ac-855daa648d8mr556495339f.13.1740170590720; Fri, 21 Feb 2025 12:43:10 -0800 (PST) Received: from postal.iol.unh.edu (postal.iol.unh.edu. [132.177.123.84]) by smtp-relay.gmail.com with ESMTPS id ca18e2360f4ac-855b4e40660sm33635739f.6.2025.02.21.12.43.10 (version=TLS1_2 cipher=ECDHE-ECDSA-AES128-GCM-SHA256 bits=128/128); Fri, 21 Feb 2025 12:43:10 -0800 (PST) X-Relaying-Domain: iol.unh.edu Date: Fri, 21 Feb 2025 12:43:10 -0800 (PST) Message-ID: <67b8e55e.050a0220.326979.1720SMTPIN_ADDED_MISSING@mx.google.com> Received: from [172.17.0.6] (unknown [172.18.0.217]) by postal.iol.unh.edu (Postfix) with ESMTP id 3521B6052471; Fri, 21 Feb 2025 15:43:10 -0500 (EST) Subject: |SUCCESS| pw151771 [PATCH] net/zxdh: remove unnecessary null free ch From: dpdklab@iol.unh.edu To: Test Report Cc: dpdk-test-reports@iol.unh.edu In-Reply-To: <20250220224411.302807-1-stephen@networkplumber.org> References: <20250220224411.302807-1-stephen@networkplumber.org> Content-Type: text/plain X-BeenThere: test-report@dpdk.org X-Mailman-Version: 2.1.29 Precedence: list List-Id: automatic DPDK test reports List-Unsubscribe: , List-Archive: List-Post: List-Help: List-Subscribe: , Errors-To: test-report-bounces@dpdk.org Test-Label: iol-sample-apps-testing Test-Status: SUCCESS http://dpdk.org/patch/151771 _Testing PASS_ Submitter: Stephen Hemminger Date: Thursday, February 20 2025 22:44:10 DPDK git baseline: Repo:dpdk Branch: master CommitID:3497d187f963e5fddca607637f6a42b8b944fa49 151771 --> testing pass Upstream job id: ACVP-FIPS-testing#8987 Test environment and result as below: +--------------------+----------------------+----------------------+ | Environment | compressdev_zlib_pmd | dpdk_fips_validation | +====================+======================+======================+ | Ubuntu 22.04 (ARM) | PASS | SKIPPED | +--------------------+----------------------+----------------------+ | Ubuntu 22.04 | PASS | SKIPPED | +--------------------+----------------------+----------------------+ | Ubuntu 20.04 | SKIPPED | PASS | +--------------------+----------------------+----------------------+ Ubuntu 22.04 (ARM) Kernel: 5.15.0-97-generic Compiler: gcc gcc (Ubuntu 11.4.0-1ubuntu1~22.04) 11.4.0 Ubuntu 22.04 Kernel: 5.15.0-100-generic Compiler: gcc gcc (Ubuntu 11.4.0-1ubuntu1~22.04) 11.4.0 Ubuntu 20.04 Kernel: Depends on container host Compiler: gcc (Ubuntu 9.4.0-1ubuntu1~20.04.2) 9.4.0 To view detailed results, visit: https://lab.dpdk.org/results/dashboard/patchsets/32631/ UNH-IOL DPDK Community Lab To manage your email subscriptions, visit: https://lab.dpdk.org/results/dashboard/preferences/subscriptions/