From mboxrd@z Thu Jan 1 00:00:00 1970 Return-Path: Received: from mails.dpdk.org (mails.dpdk.org [217.70.189.124]) by inbox.dpdk.org (Postfix) with ESMTP id 0882F4627A for ; Fri, 21 Feb 2025 21:46:10 +0100 (CET) Received: from mails.dpdk.org (localhost [127.0.0.1]) by mails.dpdk.org (Postfix) with ESMTP id 03382410E8; Fri, 21 Feb 2025 21:46:10 +0100 (CET) Received: from mail-pl1-f225.google.com (mail-pl1-f225.google.com [209.85.214.225]) by mails.dpdk.org (Postfix) with ESMTP id E0986410E6 for ; Fri, 21 Feb 2025 21:46:08 +0100 (CET) Received: by mail-pl1-f225.google.com with SMTP id d9443c01a7336-2211cd4463cso52747955ad.2 for ; Fri, 21 Feb 2025 12:46:08 -0800 (PST) DKIM-Signature: v=1; a=rsa-sha256; c=relaxed/relaxed; d=iol.unh.edu; s=unh-iol; t=1740170768; x=1740775568; darn=dpdk.org; h=references:in-reply-to:cc:to:from:subject:message-id:date:from:to :cc:subject:date:message-id:reply-to; bh=erS0jojdcyg4MdLbL5S5NY3y1guZUzrJBYfAkv7y8sw=; b=U6/Zre8+SVdUZVZbY4M6Wzm6Qtc0qOE0p2mQUlJLYfa/k6meVS80oSpCOcfzFG7Iit IuK2LBXqKUhhtfovy9LEI97ngT/snGBNAa/llracpC9wJw3wvO/eTdHJPQe4XM9DTwba P0m2u+psrpGMKzpdjOURkuzDFUiQeU/sIsMM4= X-Google-DKIM-Signature: v=1; a=rsa-sha256; c=relaxed/relaxed; d=1e100.net; s=20230601; t=1740170768; x=1740775568; h=references:in-reply-to:cc:to:from:subject:message-id:date :x-gm-message-state:from:to:cc:subject:date:message-id:reply-to; bh=erS0jojdcyg4MdLbL5S5NY3y1guZUzrJBYfAkv7y8sw=; b=iGRCCFo7tELPbXU0d4YYTHk8AoBytHhKx7FJtlS2VsMaVosZ/cL2FGwxtN6lr7E9+t uZOYNZFLggVCCOnrC2up/M1/STdQIB1daL9uUTNN+yGbx5FEEkuuBmYYdxZjedAuN7xM rVR9D4B10GA2H3DIcLq3CDm7veRoy45QtJa9PD6ZehCxfUYUH5A9BUatQdwQZUZlqkni o2namPe2OK7XdiASeTUPlnkZhf9LZuc13siOCVAlx6QhTo9kvoCRWtWyLkYY8AOqWTV6 0dD/Aism9njNpWjeFcyrhXR8C6KB0AIGJrcV9iv3/Ld1x5kRxNdEnWHzAL2sjxd8TRmZ +nBw== X-Gm-Message-State: AOJu0YyMztyJozH7u+u4TXl9F4Zu7WMfu9rU2/oyKKHmQg7PTNBFlGT7 Ri1iSzzxY//+rGCW2m9R80Qg0uMFVKz/5lmH8OuBJYS2WJOO6iUgGrTU7xZteJLzF36hzMk4XHr Vf5km3iO8rr/MGEogMdxWBZL/WucOG1XqV/O4fXzA0g/kNgx1un5+lDYu X-Gm-Gg: ASbGncth5r+D4DJLFe7uezH2iSqOQtIfU40/4j4ZmDFMxfq7DuqGIKaBVc9Y0viOkzC J3LZ2HmOeXEYXJf1o66Yb0pvDsaIxwQlR2fuz2gG5eKeYVlOBbJgtsf3DnBUNxRBVgubZ6oDBMk tm23Bhsyfx+OtVmrdWUzWBPuusK0WB7iuHdHJ/xy9Ao2T0qbyJQ9jowKeQDANMSpVaqGuBBIv85 pFEVOk1/G+KxuzssTgYaPU8HXSRMN6aqwnxZwfjizevSNTlcnz22vbLarOESrsHZ4C9s9T29ECP u7gE4t1INH91yLx1VMN4fuKa1uJ5OmPGgfb9l77z/WjHo8mJFxmM X-Google-Smtp-Source: AGHT+IEwESI0LrbsfyiQAvEI/AKnJW/RBVRbxPQKKo4sGbBkSS7Tklvt4mpPIh7N95fvu9wEZI50rwI+XS9P X-Received: by 2002:a17:902:e5cc:b0:215:6489:cfb8 with SMTP id d9443c01a7336-2219ff3618bmr70223335ad.10.1740170768015; Fri, 21 Feb 2025 12:46:08 -0800 (PST) Received: from postal.iol.unh.edu (postal.iol.unh.edu. [2606:4100:3880:1234::84]) by smtp-relay.gmail.com with ESMTPS id d9443c01a7336-2210c61d494sm6318415ad.52.2025.02.21.12.46.07 (version=TLS1_2 cipher=ECDHE-ECDSA-AES128-GCM-SHA256 bits=128/128); Fri, 21 Feb 2025 12:46:08 -0800 (PST) X-Relaying-Domain: iol.unh.edu Date: Fri, 21 Feb 2025 12:46:08 -0800 (PST) Message-ID: <67b8e610.170a0220.2967c3.f5f1SMTPIN_ADDED_MISSING@mx.google.com> Received: from [172.21.0.6] (unknown [172.18.0.240]) by postal.iol.unh.edu (Postfix) with ESMTP id 2E3976052471; Fri, 21 Feb 2025 15:46:07 -0500 (EST) Subject: |SUCCESS| pw151727-151728 [PATCH] [v4,2/2] dts: add port stats check From: dpdklab@iol.unh.edu To: Test Report Cc: dpdk-test-reports@iol.unh.edu In-Reply-To: <20250220212443.66483-3-dmarx@iol.unh.edu> References: <20250220212443.66483-3-dmarx@iol.unh.edu> Content-Type: text/plain X-BeenThere: test-report@dpdk.org X-Mailman-Version: 2.1.29 Precedence: list List-Id: automatic DPDK test reports List-Unsubscribe: , List-Archive: List-Post: List-Help: List-Subscribe: , Errors-To: test-report-bounces@dpdk.org Test-Label: iol-unit-amd64-testing Test-Status: SUCCESS http://dpdk.org/patch/151728 _Testing PASS_ Submitter: Dean Marx Date: Thursday, February 20 2025 21:24:43 DPDK git baseline: Repo:dpdk Branch: master CommitID:e8c317d6041c25dd8ec572017fed2362a1bf5c8a 151727-151728 --> testing pass Upstream job id: Generic-VM-Unit-Test-DPDK#27313 Test environment and result as below: +---------------------+----------------+ | Environment | dpdk_unit_test | +=====================+================+ | CentOS Stream 9 | PASS | +---------------------+----------------+ | Debian Bullseye | PASS | +---------------------+----------------+ | Debian 12 | PASS | +---------------------+----------------+ | CentOS Stream 10 | PASS | +---------------------+----------------+ | Fedora 40 | PASS | +---------------------+----------------+ | Fedora 40 (Clang) | PASS | +---------------------+----------------+ | Fedora 41 | PASS | +---------------------+----------------+ | Fedora 41 (Clang) | PASS | +---------------------+----------------+ | RHEL8 | PASS | +---------------------+----------------+ | RHEL9 | PASS | +---------------------+----------------+ | Ubuntu 22.04 | PASS | +---------------------+----------------+ | Ubuntu 20.04 | PASS | +---------------------+----------------+ | Ubuntu 24.04 | PASS | +---------------------+----------------+ | Windows Server 2022 | PASS | +---------------------+----------------+ CentOS Stream 9 Kernel: Depends on container host Compiler: gcc 11.5.0 20240719 (Red Hat 11.5.0-2) Debian Bullseye Kernel: Depends on container host Compiler: gcc (Debian 10.2.1-6) 10.2.1 20210110 Debian 12 Kernel: Depends on container host Compiler: gcc (Debian 12.2.0-14) 12.2.0 CentOS Stream 10 Kernel: Depends on container host Compiler: gcc 14.2.1 20241104 (Red Hat 14.2.1-6) Fedora 40 Kernel: Depends on container host Compiler: gcc 14.2.1 20240912 (Red Hat 14.2.1-3) Fedora 40 (Clang) Kernel: Depends on container host Compiler: clang 18.1.8 (Fedora 18.1.8-1.fc40) Fedora 41 Kernel: Depends on container host Compiler: gcc 14.2.1 20240912 (Red Hat 14.2.1-3) Fedora 41 (Clang) Kernel: Depends on container host Compiler: clang 19.1.5 (Fedora 19.1.5-1.fc41) RHEL8 Kernel: Depends on container host Compiler: gcc 8.5.0 20210514 (Red Hat 8.5.0-22) RHEL9 Kernel: Depends on container host Compiler: gcc 11.5.0 20240719 (Red Hat 11.5.0-2) Ubuntu 22.04 Kernel: Depends on container host Compiler: gcc (Ubuntu 11.4.0-1ubuntu1~22.04) 11.4.0 Ubuntu 20.04 Kernel: Depends on container host Compiler: gcc (Ubuntu 9.4.0-1ubuntu1~20.04.2) 9.4.0 Ubuntu 24.04 Kernel: Depends on container host Compiler: gcc (Ubuntu 13.3.0-6ubuntu2~24.04) 13.3.0 Windows Server 2022 Kernel: 10.0.20348.2031 Compiler: clang 15.0.7, gcc 14.1.0 (MinGW), and MSVC VS 19.39.33521 To view detailed results, visit: https://lab.dpdk.org/results/dashboard/patchsets/32628/ UNH-IOL DPDK Community Lab To manage your email subscriptions, visit: https://lab.dpdk.org/results/dashboard/preferences/subscriptions/