From mboxrd@z Thu Jan 1 00:00:00 1970 Return-Path: Received: from mails.dpdk.org (mails.dpdk.org [217.70.189.124]) by inbox.dpdk.org (Postfix) with ESMTP id A66454627A for ; Fri, 21 Feb 2025 21:51:37 +0100 (CET) Received: from mails.dpdk.org (localhost [127.0.0.1]) by mails.dpdk.org (Postfix) with ESMTP id 7C543410E8; Fri, 21 Feb 2025 21:51:37 +0100 (CET) Received: from mail-vk1-f227.google.com (mail-vk1-f227.google.com [209.85.221.227]) by mails.dpdk.org (Postfix) with ESMTP id 9231B410E6 for ; Fri, 21 Feb 2025 21:51:35 +0100 (CET) Received: by mail-vk1-f227.google.com with SMTP id 71dfb90a1353d-521b1b8cdb6so771230e0c.2 for ; Fri, 21 Feb 2025 12:51:35 -0800 (PST) DKIM-Signature: v=1; a=rsa-sha256; c=relaxed/relaxed; d=iol.unh.edu; s=unh-iol; t=1740171095; x=1740775895; darn=dpdk.org; h=references:in-reply-to:cc:to:from:subject:message-id:date:from:to :cc:subject:date:message-id:reply-to; bh=diPZRwbKfVH7w5msu2Th58oHqTMnYjzKhUiUZ03vc64=; b=MErWOH4GPQqLsFHJggkhXrlZOZSTFMnLcwW3aNGuifuB/R/8wqSr7EgV91fmN2rkZJ 3T72VB5VbmWTctZE7/2qWLVAuYKGAAROBjYhYAmvGbVNSzCRu+6Ua/6Npe+R2DDnHpPc FV2zm6XCgwl9hgxqsKsfuxoR0PjRsVwt5aXFI= X-Google-DKIM-Signature: v=1; a=rsa-sha256; c=relaxed/relaxed; d=1e100.net; s=20230601; t=1740171095; x=1740775895; h=references:in-reply-to:cc:to:from:subject:message-id:date :x-gm-message-state:from:to:cc:subject:date:message-id:reply-to; bh=diPZRwbKfVH7w5msu2Th58oHqTMnYjzKhUiUZ03vc64=; b=O9Sht4rfnjrmTnbxeF/eeGnDhVv7mpSJskJniuVXSyj9miZe3sEmCUQAK2Oljv+Z2E TfNNPfMW06bfDtkTydGqaw8Xsf5uzMNUjcVnWcYU5tx9DOLZ7uoSFphOWkNzDdza7cbL 2l0veTxta75OYcMGxyaMPQ7UVeznmXNC7CM9lQat2mOi+Y6daBtNHI9RkKlJHkws8gMp 7T7CPsHImt6IFRE9qi0DcnuWot5c2apGCbdnGsjok5WbThTV6rbi55q4By6XfoDXpUMD pOZWu+OdIyLr8NTYsY/yeDePC+TbrvHdu9Lwz04KDHI+g+pbrSOdBJpdw3rtoN3Uo0fo AAPw== X-Gm-Message-State: AOJu0Yw7/EvLtraukq2FQMKigKFbwtO/gxE2A4+XlRcrQRrkCH26/WSW pHAVB8CZKg91cgXafoDZ69uwDJedyPRdK0ZNd8sicPW2QjES0m+NxHtmm9T+EonDPU07rN8IhJF Q4uiBX3c7BAwFls1fvazct5WimxojHB8d2SA3cN6dAk4adCNCK2274QeS X-Gm-Gg: ASbGnctULuwjrTP9lsTneFI4plDY+9SfZ3U2U1MSPEywzzX4gjtsGM9d4Rw7wDm6e+c aDD7xbECYRRHerhAzCrUkuwMAT+ZXreih34dEFHB0U51mwdL2gfnCsnKriRNOHUe72OPMyES7Sz 8bW8Nny11PilcZm7hHDPtP5WjzjIPGDKig4CjosM16tVivaXktJiSNgMgKTTfzhuI6Rr+4JWYE2 L3om8yOLk1NboSzBDuGiIp4E3zd9/MtmYCtfTOrwtQBkbIscbuhVS6juyjxAvVrYWXH0CkiW8Wj 7zPQcP5zrX0kTykE/5XMWZ+z+SemedCfKiQXlkw5/3JfFF2ebhTT X-Google-Smtp-Source: AGHT+IG1MBEH4RKb4Zrc4ol7hWHWgCSBOxXSmmDiVmCaKhZO9MFqchgpdLlH0MYEUcFx9zwTDYZWw8Rjkn3Q X-Received: by 2002:a05:6122:1d55:b0:51f:4154:c1b2 with SMTP id 71dfb90a1353d-521ee1d83f1mr3573673e0c.2.1740171094862; Fri, 21 Feb 2025 12:51:34 -0800 (PST) Received: from postal.iol.unh.edu (postal.iol.unh.edu. [2606:4100:3880:1234::84]) by smtp-relay.gmail.com with ESMTPS id 71dfb90a1353d-520b53a4d1fsm662639e0c.2.2025.02.21.12.51.34 (version=TLS1_2 cipher=ECDHE-ECDSA-AES128-GCM-SHA256 bits=128/128); Fri, 21 Feb 2025 12:51:34 -0800 (PST) X-Relaying-Domain: iol.unh.edu Date: Fri, 21 Feb 2025 12:51:34 -0800 (PST) Message-ID: <67b8e756.050a0220.32e612.0428SMTPIN_ADDED_MISSING@mx.google.com> Received: from [172.17.0.4] (unknown [172.18.0.217]) by postal.iol.unh.edu (Postfix) with ESMTP id 6DC166052471; Fri, 21 Feb 2025 15:51:34 -0500 (EST) Subject: |SUCCESS| pw151466-151467 [PATCH] [2/2] net/mlx5/hws: add DROP actio From: dpdklab@iol.unh.edu To: Test Report Cc: dpdk-test-reports@iol.unh.edu In-Reply-To: <20250213083239.94360-2-getelson@nvidia.com> References: <20250213083239.94360-2-getelson@nvidia.com> Content-Type: text/plain X-BeenThere: test-report@dpdk.org X-Mailman-Version: 2.1.29 Precedence: list List-Id: automatic DPDK test reports List-Unsubscribe: , List-Archive: List-Post: List-Help: List-Subscribe: , Errors-To: test-report-bounces@dpdk.org Test-Label: iol-unit-amd64-testing Test-Status: SUCCESS http://dpdk.org/patch/151467 _Testing PASS_ Submitter: Gregory Etelson Date: Thursday, February 13 2025 08:32:39 DPDK git baseline: Repo:dpdk Branch: master CommitID:046cca99c3fd03bfb95d3e27a56aab40c2c8f45a 151466-151467 --> testing pass Upstream job id: Generic-Unit-Test-DPDK#317281 Test environment and result as below: +-------------------+----------------+ | Environment | dpdk_unit_test | +===================+================+ | CentOS Stream 10 | PASS | +-------------------+----------------+ | CentOS Stream 9 | PASS | +-------------------+----------------+ | Debian 12 | PASS | +-------------------+----------------+ | Fedora 40 | PASS | +-------------------+----------------+ | Fedora 40 (Clang) | PASS | +-------------------+----------------+ | Ubuntu 24.04 | PASS | +-------------------+----------------+ CentOS Stream 10 Kernel: Depends on container host Compiler: gcc 14.2.1 20241104 (Red Hat 14.2.1-6) CentOS Stream 9 Kernel: Depends on container host Compiler: gcc 11.5.0 20240719 (Red Hat 11.5.0-2) Debian 12 Kernel: Depends on container host Compiler: gcc (Debian 12.2.0-14) 12.2.0 Fedora 40 Kernel: Depends on container host Compiler: gcc 14.2.1 20240912 (Red Hat 14.2.1-3) Fedora 40 (Clang) Kernel: Depends on container host Compiler: clang 18.1.8 (Fedora 18.1.8-1.fc40) Ubuntu 24.04 Kernel: Depends on container host Compiler: gcc (Ubuntu 13.3.0-6ubuntu2~24.04) 13.3.0 To view detailed results, visit: https://lab.dpdk.org/results/dashboard/patchsets/32575/ UNH-IOL DPDK Community Lab To manage your email subscriptions, visit: https://lab.dpdk.org/results/dashboard/preferences/subscriptions/