From mboxrd@z Thu Jan 1 00:00:00 1970 Return-Path: Received: from mails.dpdk.org (mails.dpdk.org [217.70.189.124]) by inbox.dpdk.org (Postfix) with ESMTP id A00124627C for ; Fri, 21 Feb 2025 22:05:48 +0100 (CET) Received: from mails.dpdk.org (localhost [127.0.0.1]) by mails.dpdk.org (Postfix) with ESMTP id 9BEAD410E8; Fri, 21 Feb 2025 22:05:48 +0100 (CET) Received: from mail-oo1-f98.google.com (mail-oo1-f98.google.com [209.85.161.98]) by mails.dpdk.org (Postfix) with ESMTP id 4855F410E6 for ; Fri, 21 Feb 2025 22:05:47 +0100 (CET) Received: by mail-oo1-f98.google.com with SMTP id 006d021491bc7-5fcef5dc791so924468eaf.1 for ; Fri, 21 Feb 2025 13:05:47 -0800 (PST) DKIM-Signature: v=1; a=rsa-sha256; c=relaxed/relaxed; d=iol.unh.edu; s=unh-iol; t=1740171946; x=1740776746; darn=dpdk.org; h=references:in-reply-to:cc:to:from:subject:message-id:date:from:to :cc:subject:date:message-id:reply-to; bh=DfUN+yFB5TdhL4DMHRM2FSICe7HSZYJB/wt4bqaJ1E4=; b=CEdJA1hnyIfrpL4CciBXwLDAVzcniZwaMAImsxqlv51OTR0+wh8koLDvjQpoyMr52C R1oZbYTo8UjOeu48rK9aKwK8DC1JYEV4zWaCsyKmmmx5Lna/+pfjPkw5q+UyY+gXdxKl ndPcAL+VzIT1i/qrZwxdFzFgBDEuM663EVwVQ= X-Google-DKIM-Signature: v=1; a=rsa-sha256; c=relaxed/relaxed; d=1e100.net; s=20230601; t=1740171946; x=1740776746; h=references:in-reply-to:cc:to:from:subject:message-id:date :x-gm-message-state:from:to:cc:subject:date:message-id:reply-to; bh=DfUN+yFB5TdhL4DMHRM2FSICe7HSZYJB/wt4bqaJ1E4=; b=pS7oYMa10GKru1SbpL2gK1ovIgJebu/SzyOj0KAF9YsOo+VGrBeMFeEc95X+uM0S6x jPMHbZULCRfwh+B4+V5GZdUP6fZrXwfRxvhHjG1VK481/RTif77KvRisva3SkSEJmi3T 6SsxFLAK39+xRV71cKEI4nzNc2Gsm1034EF7s+BxsljM2UUlw7KMjzdqvZH4zGSLPu7n J3baVxgMy0MHprtAEpV2zKd2v+XxmdX3nx3chKSfCw5+A6OcBbXq8ladtUDYDmqgbFZl GddGENX5RqDETt84VzEWkqukH+56PkODuJZmBXvQUc87dGj+17FRT4EfIx/gv7y8c6hP x/fg== X-Gm-Message-State: AOJu0YxDV6hJPlfmRLs36DWfhkdh2JpG9b8y8YyiwLhPPvspc1c2sWAa 3c4URs6WTTRK/bDOvCsVPME/QWZ42oXQGJEueR0Gil81p/pfS9D+kRdRbBSyPyOoGnIRT9ldjPt rb5mdIgS5Pmr4fs8T23o96yK4l8hwjA6i9kHBjyjHdl2cF4JTL/x2K2WV X-Gm-Gg: ASbGncuU4nPTpSww0qkly3lk2zBstuS6H8mdknMew0/GTGLjx26pPBYeiZzom6bmCnO voIJ05YNonGlbcRH7kvA0tujEMhKB5wpLWDdxmCmjPfRBjHhmqeRIfs/Cc0i3ZKWo5tuhB+QTvS pQVUPbPHmIxYC+LTosGtPZ0FEdMT3oq6B1JWFlNkieliUqOtPWHegX69Ji/xdkCU+e8h9/VJq8V /SOlUEZs473g1GhcWwFvZYWNJyz59FFT2+Iaeqxv16NMXn4N+wof7HjPn+7JZ8t2vAE0olFuupM IsBGdzhccJLMPOOkVFpNI7IUlhHZE8iTp8umSUF7p5Qu3pPQWt5I X-Google-Smtp-Source: AGHT+IGvdtS/4CbtqD25Ti5ESa422RdqNV3D1i1L0XvXLf+H/PfVvc6NnLurnhN5uO0KEkJOL4TFjuW2dgaQ X-Received: by 2002:a05:6820:820:b0:5fd:adf:b9ba with SMTP id 006d021491bc7-5fd19645858mr3478258eaf.6.1740171945907; Fri, 21 Feb 2025 13:05:45 -0800 (PST) Received: from postal.iol.unh.edu (postal.iol.unh.edu. [2606:4100:3880:1234::84]) by smtp-relay.gmail.com with ESMTPS id 006d021491bc7-5fcd9c2bdc8sm405645eaf.14.2025.02.21.13.05.45 (version=TLS1_2 cipher=ECDHE-ECDSA-AES128-GCM-SHA256 bits=128/128); Fri, 21 Feb 2025 13:05:45 -0800 (PST) X-Relaying-Domain: iol.unh.edu Date: Fri, 21 Feb 2025 13:05:45 -0800 (PST) Message-ID: <67b8eaa9.4a0a0220.7d419.4aa7SMTPIN_ADDED_MISSING@mx.google.com> Received: from [172.17.0.5] (unknown [172.18.0.217]) by postal.iol.unh.edu (Postfix) with ESMTP id 5870E6052471; Fri, 21 Feb 2025 16:05:45 -0500 (EST) Subject: |SUCCESS| pw151732-151734 [PATCH] [v4,10/10] app: enable app directo From: dpdklab@iol.unh.edu To: Test Report Cc: dpdk-test-reports@iol.unh.edu In-Reply-To: <1740087064-18680-11-git-send-email-andremue@linux.microsoft.com> References: <1740087064-18680-11-git-send-email-andremue@linux.microsoft.com> Content-Type: text/plain X-BeenThere: test-report@dpdk.org X-Mailman-Version: 2.1.29 Precedence: list List-Id: automatic DPDK test reports List-Unsubscribe: , List-Archive: List-Post: List-Help: List-Subscribe: , Errors-To: test-report-bounces@dpdk.org Test-Label: iol-compile-amd64-testing Test-Status: SUCCESS http://dpdk.org/patch/151734 _Testing PASS_ Submitter: Andre Muezerie Date: Thursday, February 20 2025 21:31:04 DPDK git baseline: Repo:dpdk Branch: master CommitID:fab31a03ba98e7457284df95dd9eef2223a4ccaa 151732-151734 --> testing pass Upstream job id: Windows-Compile-DPDK-Native#26820 Test environment and result as below: +---------------------+--------------------+-------------------+------------------+-------------------+-------------------------+----------------------+ | Environment | dpdk_meson_compile | dpdk_compile_spdk | dpdk_compile_ovs | dpdk_msvc_compile | dpdk_llvm_clang_compile | dpdk_mingw64_compile | +=====================+====================+===================+==================+===================+=========================+======================+ | CentOS Stream 9 | PASS | PASS | SKIPPED | SKIPPED | SKIPPED | SKIPPED | +---------------------+--------------------+-------------------+------------------+-------------------+-------------------------+----------------------+ | CentOS Stream 10 | PASS | SKIPPED | SKIPPED | SKIPPED | SKIPPED | SKIPPED | +---------------------+--------------------+-------------------+------------------+-------------------+-------------------------+----------------------+ | Debian Bullseye | PASS | PASS | SKIPPED | SKIPPED | SKIPPED | SKIPPED | +---------------------+--------------------+-------------------+------------------+-------------------+-------------------------+----------------------+ | Fedora 40 (Clang) | PASS | PASS | SKIPPED | SKIPPED | SKIPPED | SKIPPED | +---------------------+--------------------+-------------------+------------------+-------------------+-------------------------+----------------------+ | Fedora 41 (Clang) | PASS | PASS | PASS | SKIPPED | SKIPPED | SKIPPED | +---------------------+--------------------+-------------------+------------------+-------------------+-------------------------+----------------------+ | Fedora 40 | PASS | PASS | SKIPPED | SKIPPED | SKIPPED | SKIPPED | +---------------------+--------------------+-------------------+------------------+-------------------+-------------------------+----------------------+ | Debian 12 | PASS | PASS | SKIPPED | SKIPPED | SKIPPED | SKIPPED | +---------------------+--------------------+-------------------+------------------+-------------------+-------------------------+----------------------+ | Fedora 41 | PASS | PASS | PASS | SKIPPED | SKIPPED | SKIPPED | +---------------------+--------------------+-------------------+------------------+-------------------+-------------------------+----------------------+ | Ubuntu 22.04 | PASS | PASS | SKIPPED | SKIPPED | SKIPPED | SKIPPED | +---------------------+--------------------+-------------------+------------------+-------------------+-------------------------+----------------------+ | openSUSE Leap 15 | PASS | SKIPPED | SKIPPED | SKIPPED | SKIPPED | SKIPPED | +---------------------+--------------------+-------------------+------------------+-------------------+-------------------------+----------------------+ | RHEL8 | PASS | SKIPPED | SKIPPED | SKIPPED | SKIPPED | SKIPPED | +---------------------+--------------------+-------------------+------------------+-------------------+-------------------------+----------------------+ | Ubuntu 20.04 | PASS | SKIPPED | SKIPPED | SKIPPED | SKIPPED | SKIPPED | +---------------------+--------------------+-------------------+------------------+-------------------+-------------------------+----------------------+ | Ubuntu 24.04 | PASS | PASS | PASS | SKIPPED | SKIPPED | SKIPPED | +---------------------+--------------------+-------------------+------------------+-------------------+-------------------------+----------------------+ | Alpine | PASS | SKIPPED | SKIPPED | SKIPPED | SKIPPED | SKIPPED | +---------------------+--------------------+-------------------+------------------+-------------------+-------------------------+----------------------+ | FreeBSD 13.4 | PASS | SKIPPED | SKIPPED | SKIPPED | SKIPPED | SKIPPED | +---------------------+--------------------+-------------------+------------------+-------------------+-------------------------+----------------------+ | FreeBSD 14.2 | PASS | SKIPPED | SKIPPED | SKIPPED | SKIPPED | SKIPPED | +---------------------+--------------------+-------------------+------------------+-------------------+-------------------------+----------------------+ | RHEL9 | PASS | SKIPPED | SKIPPED | SKIPPED | SKIPPED | SKIPPED | +---------------------+--------------------+-------------------+------------------+-------------------+-------------------------+----------------------+ | Windows Server 2022 | SKIPPED | SKIPPED | SKIPPED | PASS | PASS | PASS | +---------------------+--------------------+-------------------+------------------+-------------------+-------------------------+----------------------+ CentOS Stream 9 Kernel: Depends on container host Compiler: gcc 11.5.0 20240719 (Red Hat 11.5.0-2) CentOS Stream 10 Kernel: Depends on container host Compiler: gcc 14.2.1 20241104 (Red Hat 14.2.1-6) Debian Bullseye Kernel: Depends on container host Compiler: gcc (Debian 10.2.1-6) 10.2.1 20210110 Fedora 40 (Clang) Kernel: Depends on container host Compiler: clang 18.1.8 (Fedora 18.1.8-1.fc40) Fedora 41 (Clang) Kernel: Depends on container host Compiler: clang 19.1.5 (Fedora 19.1.5-1.fc41) Fedora 40 Kernel: Depends on container host Compiler: gcc 14.2.1 20240912 (Red Hat 14.2.1-3) Debian 12 Kernel: Depends on container host Compiler: gcc (Debian 12.2.0-14) 12.2.0 Fedora 41 Kernel: Depends on container host Compiler: gcc 14.2.1 20240912 (Red Hat 14.2.1-3) Ubuntu 22.04 Kernel: Depends on container host Compiler: gcc (Ubuntu 11.4.0-1ubuntu1~22.04) 11.4.0 openSUSE Leap 15 Kernel: Depends on container host Compiler: gcc (SUSE Linux) 7.5.0 RHEL8 Kernel: Depends on container host Compiler: gcc 8.5.0 20210514 (Red Hat 8.5.0-22) Ubuntu 20.04 Kernel: Depends on container host Compiler: gcc (Ubuntu 9.4.0-1ubuntu1~20.04.2) 9.4.0 Ubuntu 24.04 Kernel: Depends on container host Compiler: gcc (Ubuntu 13.3.0-6ubuntu2~24.04) 13.3.0 Alpine Kernel: Depends on container host Compiler: gcc (Alpine 14.2.0) 14.2.0 FreeBSD 13.4 Kernel: 13.4-RELEASE-p1 Compiler: clang 18.1.6 FreeBSD 14.2 Kernel: 14.2-RELEASE Compiler: clang 18.1.6 RHEL9 Kernel: Depends on container host Compiler: gcc 11.5.0 20240719 (Red Hat 11.5.0-2) Windows Server 2022 Kernel: 10.0.20348.2031 Compiler: clang 15.0.7, gcc 14.1.0 (MinGW), and MSVC VS 19.39.33521 To view detailed results, visit: https://lab.dpdk.org/results/dashboard/patchsets/32629/ UNH-IOL DPDK Community Lab To manage your email subscriptions, visit: https://lab.dpdk.org/results/dashboard/preferences/subscriptions/