* |SUCCESS| pw151726 [PATCH] app/testpmd: fix out-of-bound reference in offload config
[not found] <20250220204427.213965-1-stephen@networkplumber.org>
@ 2025-02-20 20:23 ` qemudev
2025-02-20 20:27 ` qemudev
` (4 subsequent siblings)
5 siblings, 0 replies; 6+ messages in thread
From: qemudev @ 2025-02-20 20:23 UTC (permalink / raw)
To: test-report
Test-Label: loongarch-compilation
Test-Status: SUCCESS
http://dpdk.org/patch/151726
_Compilation OK_
Submitter: Stephen Hemminger <stephen@networkplumber.org>
Date: Thu, 20 Feb 2025 12:44:26 -0800
DPDK git baseline: Repo:dpdk-next-net
Branch: main
CommitID: 3497d187f963e5fddca607637f6a42b8b944fa49
151726 --> meson & ninja build successfully
Test environment and result as below:
+---------------------+----------------+
| Environment | compilation |
+---------------------+----------------+
| Loongnix-Server 8.3 | PASS |
+---------------------+----------------+
Loongnix-Server 8.3
Kernel: 4.19.190+
Compiler: gcc 8.3
^ permalink raw reply [flat|nested] 6+ messages in thread
* |SUCCESS| pw151726 [PATCH] app/testpmd: fix out-of-bound reference in offload config
[not found] <20250220204427.213965-1-stephen@networkplumber.org>
2025-02-20 20:23 ` |SUCCESS| pw151726 [PATCH] app/testpmd: fix out-of-bound reference in offload config qemudev
@ 2025-02-20 20:27 ` qemudev
2025-02-20 20:45 ` checkpatch
` (3 subsequent siblings)
5 siblings, 0 replies; 6+ messages in thread
From: qemudev @ 2025-02-20 20:27 UTC (permalink / raw)
To: test-report
Test-Label: loongarch-unit-testing
Test-Status: SUCCESS
http://dpdk.org/patch/151726
_Unit Testing PASS_
Submitter: Stephen Hemminger <stephen@networkplumber.org>
Date: Thu, 20 Feb 2025 12:44:26 -0800
DPDK git baseline: Repo:dpdk-next-net
Branch: main
CommitID: 3497d187f963e5fddca607637f6a42b8b944fa49
151726 --> testing pass
Test environment and result as below:
+---------------------+----------------+
| Environment | dpdk_unit_test |
+---------------------+----------------+
| Loongnix-Server 8.3 | PASS |
+---------------------+----------------+
Loongnix-Server 8.3
Kernel: 4.19.190+
Compiler: gcc 8.3
Test result details:
1/119 DPDK:fast-tests / acl_autotest OK 3.38s
2/119 DPDK:fast-tests / alarm_autotest OK 1.64s
3/119 DPDK:fast-tests / argparse_autotest OK 0.63s
4/119 DPDK:fast-tests / atomic_autotest OK 7.27s
5/119 DPDK:fast-tests / bitcount_autotest OK 0.31s
6/119 DPDK:fast-tests / bitmap_autotest OK 0.31s
7/119 DPDK:fast-tests / bitops_autotest OK 1.81s
8/119 DPDK:fast-tests / bitratestats_autotest OK 0.31s
9/119 DPDK:fast-tests / bitset_autotest OK 3.01s
10/119 DPDK:fast-tests / bpf_autotest OK 0.31s
11/119 DPDK:fast-tests / bpf_convert_autotest OK 0.31s
12/119 DPDK:fast-tests / byteorder_autotest OK 0.31s
13/119 DPDK:fast-tests / cfgfile_autotest OK 0.31s
14/119 DPDK:fast-tests / cksum_autotest OK 0.31s
15/119 DPDK:fast-tests / cmdline_autotest OK 0.31s
16/119 DPDK:fast-tests / common_autotest OK 1.19s
17/119 DPDK:fast-tests / compressdev_autotest SKIP 0.06s exit status 77
18/119 DPDK:fast-tests / cpuflags_autotest OK 0.30s
19/119 DPDK:fast-tests / crc_autotest OK 0.31s
20/119 DPDK:fast-tests / user_delay_us OK 0.31s
21/119 DPDK:fast-tests / debug_autotest OK 21.21s
22/119 DPDK:fast-tests / devargs_autotest OK 0.30s
23/119 DPDK:fast-tests / dispatcher_autotest OK 2.53s
24/119 DPDK:fast-tests / distributor_autotest OK 1.20s
25/119 DPDK:fast-tests / eal_flags_c_opt_autotest OK 0.78s
26/119 DPDK:fast-tests / eal_flags_main_opt_autotest OK 0.22s
27/119 DPDK:fast-tests / eal_flags_n_opt_autotest OK 0.19s
28/119 DPDK:fast-tests / eal_flags_hpet_autotest OK 0.13s
29/119 DPDK:fast-tests / eal_flags_no_huge_autotest OK 0.21s
30/119 DPDK:fast-tests / eal_flags_a_opt_autotest OK 0.30s
31/119 DPDK:fast-tests / eal_flags_b_opt_autotest OK 0.24s
32/119 DPDK:fast-tests / eal_flags_vdev_opt_autotest OK 0.19s
33/119 DPDK:fast-tests / eal_flags_r_opt_autotest OK 0.18s
34/119 DPDK:fast-tests / eal_flags_mem_autotest OK 0.59s
35/119 DPDK:fast-tests / eal_flags_file_prefix_autotest OK 22.24s
36/119 DPDK:fast-tests / eal_flags_misc_autotest OK 1.03s
37/119 DPDK:fast-tests / eal_fs_autotest OK 0.30s
38/119 DPDK:fast-tests / errno_autotest OK 0.31s
39/119 DPDK:fast-tests / ethdev_link_status OK 0.31s
40/119 DPDK:fast-tests / event_eth_tx_adapter_autotest OK 1.68s
41/119 DPDK:fast-tests / event_ring_autotest OK 0.31s
42/119 DPDK:fast-tests / eventdev_common_autotest OK 0.31s
43/119 DPDK:fast-tests / eventdev_selftest_sw OK 7.14s
44/119 DPDK:fast-tests / fbarray_autotest OK 0.54s
45/119 DPDK:fast-tests / fib_autotest OK 1.39s
46/119 DPDK:fast-tests / fib6_autotest OK 1.17s
47/119 DPDK:fast-tests / func_reentrancy_autotest OK 2.22s
48/119 DPDK:fast-tests / graph_autotest OK 0.43s
49/119 DPDK:fast-tests / node_list_dump OK 0.44s
50/119 DPDK:fast-tests / hash_autotest OK 1.05s
51/119 DPDK:fast-tests / hash_readwrite_func_autotest OK 6.38s
52/119 DPDK:fast-tests / interrupt_autotest OK 1.63s
53/119 DPDK:fast-tests / ipfrag_autotest OK 0.08s
54/119 DPDK:fast-tests / ipsec_autotest SKIP 0.43s exit status 77
55/119 DPDK:fast-tests / kvargs_autotest OK 0.44s
56/119 DPDK:fast-tests / latencystats_autotest OK 0.44s
57/119 DPDK:fast-tests / lcore_var_autotest OK 0.57s
58/119 DPDK:fast-tests / lcores_autotest OK 5.24s
59/119 DPDK:fast-tests / logs_autotest OK 0.43s
60/119 DPDK:fast-tests / lpm_autotest OK 2.50s
61/119 DPDK:fast-tests / lpm6_autotest OK 5.60s
62/119 DPDK:fast-tests / malloc_autotest OK 59.19s
63/119 DPDK:fast-tests / mbuf_autotest OK 4.46s
64/119 DPDK:fast-tests / mcslock_autotest OK 2.60s
65/119 DPDK:fast-tests / member_autotest OK 1.62s
66/119 DPDK:fast-tests / memcpy_autotest OK 7.02s
67/119 DPDK:fast-tests / memory_autotest OK 0.09s
68/119 DPDK:fast-tests / mempool_autotest OK 0.44s
69/119 DPDK:fast-tests / memzone_autotest OK 0.14s
70/119 DPDK:fast-tests / meter_autotest OK 0.43s
71/119 DPDK:fast-tests / metrics_autotest OK 0.43s
72/119 DPDK:fast-tests / multiprocess_autotest OK 0.19s
73/119 DPDK:fast-tests / net_ether_autotest OK 1.08s
74/119 DPDK:fast-tests / net_ipv6_autotest OK 0.43s
75/119 DPDK:fast-tests / pcapng_autotest OK 7.15s
76/119 DPDK:fast-tests / pdcp_autotest SKIP 0.06s exit status 77
77/119 DPDK:fast-tests / pdump_autotest OK 0.43s
78/119 DPDK:fast-tests / per_lcore_autotest OK 0.41s
79/119 DPDK:fast-tests / pflock_autotest OK 1.12s
80/119 DPDK:fast-tests / pie_autotest OK 0.31s
81/119 DPDK:fast-tests / ring_pmd_autotest OK 0.52s
82/119 DPDK:fast-tests / power_autotest OK 0.52s
83/119 DPDK:fast-tests / power_cpufreq_autotest SKIP 0.06s exit status 77
84/119 DPDK:fast-tests / power_intel_uncore_autotest SKIP 0.39s exit status 77
85/119 DPDK:fast-tests / power_kvm_vm_autotest SKIP 0.07s exit status 77
86/119 DPDK:fast-tests / prefetch_autotest OK 0.39s
87/119 DPDK:fast-tests / ptr_compress_autotest OK 0.40s
88/119 DPDK:fast-tests / rawdev_autotest OK 0.40s
89/119 DPDK:fast-tests / rcu_qsbr_autotest OK 0.92s
90/119 DPDK:fast-tests / reorder_autotest OK 0.45s
91/119 DPDK:fast-tests / rib_autotest OK 9.06s
92/119 DPDK:fast-tests / rib6_autotest OK 9.05s
93/119 DPDK:fast-tests / ring_autotest OK 0.43s
94/119 DPDK:fast-tests / rwlock_test1_autotest OK 1.14s
95/119 DPDK:fast-tests / rwlock_rda_autotest OK 5.40s
96/119 DPDK:fast-tests / rwlock_rds_wrm_autotest OK 5.40s
97/119 DPDK:fast-tests / rwlock_rde_wro_autotest OK 5.40s
98/119 DPDK:fast-tests / sched_autotest OK 0.40s
99/119 DPDK:fast-tests / security_autotest OK 0.06s
100/119 DPDK:fast-tests / seqlock_autotest OK 2.31s
101/119 DPDK:fast-tests / service_autotest OK 3.01s
102/119 DPDK:fast-tests / soring_autotest OK 0.31s
103/119 DPDK:fast-tests / spinlock_autotest OK 0.38s
104/119 DPDK:fast-tests / stack_autotest OK 0.86s
105/119 DPDK:fast-tests / stack_lf_autotest SKIP 0.05s exit status 77
106/119 DPDK:fast-tests / string_autotest OK 0.31s
107/119 DPDK:fast-tests / table_autotest OK 7.73s
108/119 DPDK:fast-tests / tailq_autotest OK 0.30s
109/119 DPDK:fast-tests / telemetry_data_autotest OK 0.31s
110/119 DPDK:fast-tests / telemetry_json_autotest OK 0.31s
111/119 DPDK:fast-tests / thash_autotest OK 0.32s
112/119 DPDK:fast-tests / threads_autotest OK 0.48s
113/119 DPDK:fast-tests / ticketlock_autotest OK 0.47s
114/119 DPDK:fast-tests / timer_autotest OK 3.85s
115/119 DPDK:fast-tests / trace_autotest OK 0.31s
116/119 DPDK:fast-tests / trace_autotest_with_traces OK 0.31s
117/119 DPDK:fast-tests / vdev_autotest OK 0.31s
118/119 DPDK:fast-tests / version_autotest OK 0.31s
119/119 DPDK:fast-tests / telemetry_all OK 1.28s
Ok: 112
Expected Fail: 0
Fail: 0
Unexpected Pass: 0
Skipped: 7
Timeout: 0
^ permalink raw reply [flat|nested] 6+ messages in thread
* |SUCCESS| pw151726 [PATCH] app/testpmd: fix out-of-bound reference in offload config
[not found] <20250220204427.213965-1-stephen@networkplumber.org>
2025-02-20 20:23 ` |SUCCESS| pw151726 [PATCH] app/testpmd: fix out-of-bound reference in offload config qemudev
2025-02-20 20:27 ` qemudev
@ 2025-02-20 20:45 ` checkpatch
2025-02-20 22:04 ` 0-day Robot
` (2 subsequent siblings)
5 siblings, 0 replies; 6+ messages in thread
From: checkpatch @ 2025-02-20 20:45 UTC (permalink / raw)
To: test-report
Test-Label: checkpatch
Test-Status: SUCCESS
http://dpdk.org/patch/151726
_coding style OK_
^ permalink raw reply [flat|nested] 6+ messages in thread
* |SUCCESS| pw151726 [PATCH] app/testpmd: fix out-of-bound reference in offload config
[not found] <20250220204427.213965-1-stephen@networkplumber.org>
` (2 preceding siblings ...)
2025-02-20 20:45 ` checkpatch
@ 2025-02-20 22:04 ` 0-day Robot
2025-02-21 21:31 ` |SUCCESS| pw151726 [PATCH] app/testpmd: fix out-of-bound reference i dpdklab
2025-02-21 22:21 ` |PENDING| " dpdklab
5 siblings, 0 replies; 6+ messages in thread
From: 0-day Robot @ 2025-02-20 22:04 UTC (permalink / raw)
To: test-report; +Cc: robot
From: robot@bytheb.org
Test-Label: github-robot: build
Test-Status: SUCCESS
http://patchwork.dpdk.org/patch/151726/
_github build: passed_
Build URL: https://github.com/ovsrobot/dpdk/actions/runs/13444652145
^ permalink raw reply [flat|nested] 6+ messages in thread
* |SUCCESS| pw151726 [PATCH] app/testpmd: fix out-of-bound reference i
[not found] <20250220204427.213965-1-stephen@networkplumber.org>
` (3 preceding siblings ...)
2025-02-20 22:04 ` 0-day Robot
@ 2025-02-21 21:31 ` dpdklab
2025-02-21 22:21 ` |PENDING| " dpdklab
5 siblings, 0 replies; 6+ messages in thread
From: dpdklab @ 2025-02-21 21:31 UTC (permalink / raw)
To: Test Report; +Cc: dpdk-test-reports
Test-Label: iol-sample-apps-testing
Test-Status: SUCCESS
http://dpdk.org/patch/151726
_Testing PASS_
Submitter: Stephen Hemminger <stephen@networkplumber.org>
Date: Thursday, February 20 2025 20:44:26
DPDK git baseline: Repo:dpdk
Branch: master
CommitID:3497d187f963e5fddca607637f6a42b8b944fa49
151726 --> testing pass
Upstream job id: Template-DTS-Pipeline#213829
Test environment and result as below:
+--------------------+----------------------+
| Environment | compressdev_zlib_pmd |
+====================+======================+
| Ubuntu 22.04 (ARM) | PASS |
+--------------------+----------------------+
Ubuntu 22.04 (ARM)
Kernel: 5.15.0-97-generic
Compiler: gcc gcc (Ubuntu 11.4.0-1ubuntu1~22.04) 11.4.0
To view detailed results, visit:
https://lab.dpdk.org/results/dashboard/patchsets/32627/
UNH-IOL DPDK Community Lab
To manage your email subscriptions, visit:
https://lab.dpdk.org/results/dashboard/preferences/subscriptions/
^ permalink raw reply [flat|nested] 6+ messages in thread
* |PENDING| pw151726 [PATCH] app/testpmd: fix out-of-bound reference i
[not found] <20250220204427.213965-1-stephen@networkplumber.org>
` (4 preceding siblings ...)
2025-02-21 21:31 ` |SUCCESS| pw151726 [PATCH] app/testpmd: fix out-of-bound reference i dpdklab
@ 2025-02-21 22:21 ` dpdklab
5 siblings, 0 replies; 6+ messages in thread
From: dpdklab @ 2025-02-21 22:21 UTC (permalink / raw)
To: Test Report; +Cc: dpdk-test-reports
Test-Label: iol-abi-testing
Test-Status: PENDING
http://dpdk.org/patch/151726
_Testing pending_
Submitter: Stephen Hemminger <stephen@networkplumber.org>
Date: Thursday, February 20 2025 20:44:26
DPDK git baseline: Repo:dpdk
Branch: master
CommitID:3497d187f963e5fddca607637f6a42b8b944fa49
151726 --> testing pending
Upstream job id: Generic-DPDK-Compile-ABI#117229
Test environment and result as below:
+-------------------+----------+
| Environment | abi_test |
+===================+==========+
| CentOS Stream 9 | PEND |
+-------------------+----------+
| RHEL8 | PEND |
+-------------------+----------+
| Ubuntu 22.04 | PEND |
+-------------------+----------+
| Fedora 40 | PEND |
+-------------------+----------+
| Fedora 41 (Clang) | PASS |
+-------------------+----------+
| RHEL9 | PEND |
+-------------------+----------+
| Ubuntu 24.04 | PEND |
+-------------------+----------+
| Fedora 41 | PEND |
+-------------------+----------+
CentOS Stream 9
Kernel: Depends on container host
Compiler: gcc 11.5.0 20240719 (Red Hat 11.5.0-2)
RHEL8
Kernel: Depends on container host
Compiler: gcc 8.5.0 20210514 (Red Hat 8.5.0-22)
Ubuntu 22.04
Kernel: Depends on container host
Compiler: gcc (Ubuntu 11.4.0-1ubuntu1~22.04) 11.4.0
Fedora 40
Kernel: Depends on container host
Compiler: gcc 14.2.1 20240912 (Red Hat 14.2.1-3)
Fedora 41 (Clang)
Kernel: Depends on container host
Compiler: clang 19.1.5 (Fedora 19.1.5-1.fc41)
RHEL9
Kernel: Depends on container host
Compiler: gcc 11.5.0 20240719 (Red Hat 11.5.0-2)
Ubuntu 24.04
Kernel: Depends on container host
Compiler: gcc (Ubuntu 13.3.0-6ubuntu2~24.04) 13.3.0
Fedora 41
Kernel: Depends on container host
Compiler: gcc 14.2.1 20240912 (Red Hat 14.2.1-3)
To view detailed results, visit:
https://lab.dpdk.org/results/dashboard/patchsets/32627/
UNH-IOL DPDK Community Lab
To manage your email subscriptions, visit:
https://lab.dpdk.org/results/dashboard/preferences/subscriptions/
^ permalink raw reply [flat|nested] 6+ messages in thread