From mboxrd@z Thu Jan 1 00:00:00 1970 Return-Path: Received: from mails.dpdk.org (mails.dpdk.org [217.70.189.124]) by inbox.dpdk.org (Postfix) with ESMTP id 2DFAA462A0 for ; Sun, 23 Feb 2025 23:58:13 +0100 (CET) Received: from mails.dpdk.org (localhost [127.0.0.1]) by mails.dpdk.org (Postfix) with ESMTP id 036B7402DE; Sun, 23 Feb 2025 23:58:13 +0100 (CET) Received: from mail-pl1-f226.google.com (mail-pl1-f226.google.com [209.85.214.226]) by mails.dpdk.org (Postfix) with ESMTP id BAD32402DB for ; Sun, 23 Feb 2025 23:58:11 +0100 (CET) Received: by mail-pl1-f226.google.com with SMTP id d9443c01a7336-220c8eb195aso82588095ad.0 for ; Sun, 23 Feb 2025 14:58:11 -0800 (PST) DKIM-Signature: v=1; a=rsa-sha256; c=relaxed/relaxed; d=iol.unh.edu; s=unh-iol; t=1740351491; x=1740956291; darn=dpdk.org; h=references:in-reply-to:cc:to:from:subject:message-id:date:from:to :cc:subject:date:message-id:reply-to; bh=9hQUh3mlgCj8nsoxMmNGz0oeoW7yQxAUxKyiIanMZw8=; b=F5SteB4V0c0J1vCKDll0ptEvvFOvU94Fieb79HBXJ8xmXAMeyf05YEfQ6BCIG5skAS MfxZzMYhhxpaHKnV5VftJzif8JaypHVrhjn7gHNFUZOHSBlWKcexxM15Il5qSyi5ti52 oTj+KP6IyD4csG5dVkEpedPfeKruEVydNO+iA= X-Google-DKIM-Signature: v=1; a=rsa-sha256; c=relaxed/relaxed; d=1e100.net; s=20230601; t=1740351491; x=1740956291; h=references:in-reply-to:cc:to:from:subject:message-id:date :x-gm-message-state:from:to:cc:subject:date:message-id:reply-to; bh=9hQUh3mlgCj8nsoxMmNGz0oeoW7yQxAUxKyiIanMZw8=; b=hLh33mgtaAavssjy2op1wNjRtifx9TMgLtxexENk1Jha8/MsU49t+EH4Xh3KJF4F3R jvF1BIn8g7cSTcGkDmGAhv65IsDAam2OqubLUhhss97au7DAZAHG+RWTdKu0zpQ1c2O3 B/hHx6Cuvj5FPg4BnBFN+tdKmX87nMI7BrhUVMrpFTB00f5F2GdlLcj6oXsOeO6yM0js wIY6yUzXp9puguD2UWfOnXRiNbkp8FhX82Zo3fGQPIFVUAuBEEck8Y+7QUw1sfF9QOsL WZjyrgKfzq97DzDT/rCCYKkwi1WjQtmT3zpA+JUbtB5ZBYbdG9cvRfp1wopQaRuQxAqL WfUg== X-Gm-Message-State: AOJu0YxhNXaJB2a+yl5xcHaXxr8am37IN9SA6izPY5P9/7HXjXsnGgQ7 /1axYm+pA8tJqH4anJLeoF5OitjYt8c9bxrjMU3BIjOphVEVOBtyPCsNID/fg96+Z3ljDxpz3fO HLR/Bel5psKAWtYPNPROAr8Clz9azNvvLwLGtZgoOdfxDiqOm6GbeiTtw X-Gm-Gg: ASbGncuSt9o6Sh4WlgU7jqqXuF+kbgBwrRpNzOET/VsNfVpzTlEDJdt3B6BZoPSWaW+ 9vwCclutPuwNE08GLwCD20vkWdsc/AvB7T5NhoD/d6rRuFd9WkUkm5pWpoi8n1C3845+u32OLCA rwZLAwEDLz2bkwd5TvnNYmOkHQ0DrZqGfQ6oXvIZJ/FQpz98UMDJJEvL+SL3BAJP7aYX3fKBCN1 9Gkg7uiIXUwjcUo0f+cERgHGmrcmuRHLfHY2B1sp086AppP+cBcOCLsxa+rGXi5/WhmLqb0jFjH 8K4ZKJLJ7pMgsJoRnACmeHKwUyYxzNUmleR2Ld7AxFr05yY/5O9P X-Google-Smtp-Source: AGHT+IENFE50fnQ+sSine6pX+zYE70uMOdIfUGkYuicQPVt/jwzyzt5mtZrs64s6f04dFyrORovqhKZXSBWx X-Received: by 2002:a17:902:fc8f:b0:220:cd23:3cd with SMTP id d9443c01a7336-2219fff2ad7mr232724565ad.44.1740351490852; Sun, 23 Feb 2025 14:58:10 -0800 (PST) Received: from postal.iol.unh.edu (postal.iol.unh.edu. [2606:4100:3880:1234::84]) by smtp-relay.gmail.com with ESMTPS id d9443c01a7336-220f81bc0a2sm8253215ad.57.2025.02.23.14.58.10 (version=TLS1_2 cipher=ECDHE-ECDSA-AES128-GCM-SHA256 bits=128/128); Sun, 23 Feb 2025 14:58:10 -0800 (PST) X-Relaying-Domain: iol.unh.edu Date: Sun, 23 Feb 2025 14:58:10 -0800 (PST) Message-ID: <67bba802.170a0220.14d5b8.7414SMTPIN_ADDED_MISSING@mx.google.com> Received: from [172.21.0.6] (unknown [172.18.0.240]) by postal.iol.unh.edu (Postfix) with ESMTP id 3A5E36052471; Sun, 23 Feb 2025 17:58:09 -0500 (EST) Subject: |SUCCESS| pw151870 [PATCH] [v2,1/1] pcapng: warn if NULL is passed t From: dpdklab@iol.unh.edu To: Test Report Cc: dpdk-test-reports@iol.unh.edu In-Reply-To: <20250223214123.447579-2-ariel.otilibili@6wind.com> References: <20250223214123.447579-2-ariel.otilibili@6wind.com> Content-Type: text/plain X-BeenThere: test-report@dpdk.org X-Mailman-Version: 2.1.29 Precedence: list List-Id: automatic DPDK test reports List-Unsubscribe: , List-Archive: List-Post: List-Help: List-Subscribe: , Errors-To: test-report-bounces@dpdk.org Test-Label: iol-unit-arm64-testing Test-Status: SUCCESS http://dpdk.org/patch/151870 _Testing PASS_ Submitter: Ariel Otilibili Date: Sunday, February 23 2025 21:41:23 DPDK git baseline: Repo:dpdk Branch: master CommitID:fab31a03ba98e7457284df95dd9eef2223a4ccaa 151870 --> testing pass Upstream job id: Generic-Unit-Test-DPDK#317688 Test environment and result as below: +-----------------------------+----------------+---------------------------+--------------+------------------------------+ | Environment | dpdk_unit_test | cryptodev_sw_zuc_autotest | lpm_autotest | cryptodev_sw_snow3g_autotest | +=============================+================+===========================+==============+==============================+ | 32-bit Ubuntu 22.04.4 (ARM) | PASS | SKIPPED | SKIPPED | SKIPPED | +-----------------------------+----------------+---------------------------+--------------+------------------------------+ | Debian 11 (Buster) (ARM) | PASS | SKIPPED | SKIPPED | SKIPPED | +-----------------------------+----------------+---------------------------+--------------+------------------------------+ | CentOS Stream 10 (ARM) | PASS | SKIPPED | SKIPPED | SKIPPED | +-----------------------------+----------------+---------------------------+--------------+------------------------------+ | CentOS Stream 9 (ARM) | PASS | SKIPPED | SKIPPED | SKIPPED | +-----------------------------+----------------+---------------------------+--------------+------------------------------+ | Fedora 40 (ARM) | PASS | SKIPPED | SKIPPED | SKIPPED | +-----------------------------+----------------+---------------------------+--------------+------------------------------+ | Debian 12 (arm) | PASS | PASS | SKIPPED | PASS | +-----------------------------+----------------+---------------------------+--------------+------------------------------+ | RHEL9 (ARM) | PASS | SKIPPED | SKIPPED | SKIPPED | +-----------------------------+----------------+---------------------------+--------------+------------------------------+ | Fedora 40 (ARM Clang) | PASS | SKIPPED | SKIPPED | SKIPPED | +-----------------------------+----------------+---------------------------+--------------+------------------------------+ | Fedora 41 (ARM Clang) | PASS | SKIPPED | SKIPPED | SKIPPED | +-----------------------------+----------------+---------------------------+--------------+------------------------------+ | Ubuntu 22.04 (ARM) | PASS | SKIPPED | SKIPPED | SKIPPED | +-----------------------------+----------------+---------------------------+--------------+------------------------------+ | Fedora 41 (ARM) | PASS | SKIPPED | SKIPPED | SKIPPED | +-----------------------------+----------------+---------------------------+--------------+------------------------------+ | Ubuntu 20.04 (ARM) | PASS | SKIPPED | SKIPPED | SKIPPED | +-----------------------------+----------------+---------------------------+--------------+------------------------------+ | Ubuntu 24.04 (ARM) | PASS | SKIPPED | SKIPPED | SKIPPED | +-----------------------------+----------------+---------------------------+--------------+------------------------------+ | Ubuntu 20.04 ARM SVE | SKIPPED | SKIPPED | PASS | SKIPPED | +-----------------------------+----------------+---------------------------+--------------+------------------------------+ 32-bit Ubuntu 22.04.4 (ARM) Kernel: 5.15.83+ aarch64 Compiler: gcc (Ubuntu 11.4.0-1ubuntu1~22.04) 11.4.0 Debian 11 (Buster) (ARM) Kernel: Depends on container host Compiler: gcc (Debian 10.2.1-6) 10.2.1 20210110 CentOS Stream 10 (ARM) Kernel: Depends on container host Compiler: gcc 14.2.1 20241104 (Red Hat 14.2.1-6) CentOS Stream 9 (ARM) Kernel: Depends on container host Compiler: gcc 11.5.0 20240719 (Red Hat 11.5.0-2) Fedora 40 (ARM) Kernel: Depends on container host Compiler: gcc 14.2.1 20240912 (Red Hat 14.2.1-3) Debian 12 (arm) Kernel: Depends on container host Compiler: gcc (Debian 12.2.0-14) 12.2.0 RHEL9 (ARM) Kernel: Depends on container host Compiler: gcc 11.5.0 20240719 (Red Hat 11.5.0-2) Fedora 40 (ARM Clang) Kernel: Depends on container host Compiler: clang 18.1.8 (Fedora 18.1.8-1.fc40) Fedora 41 (ARM Clang) Kernel: Depends on container host Compiler: clang 19.1.5 (Fedora 19.1.5-1.fc41) Ubuntu 22.04 (ARM) Kernel: Depends on container host Compiler: gcc (Ubuntu 11.4.0-1ubuntu1~22.04) 11.4.0 Fedora 41 (ARM) Kernel: Depends on container host Compiler: gcc 14.2.1 20240912 (Red Hat 14.2.1-3) Ubuntu 20.04 (ARM) Kernel: Depends on container host Compiler: gcc (Ubuntu 9.4.0-1ubuntu1~20.04.2) 9.4.0 Ubuntu 24.04 (ARM) Kernel: Depends on container host Compiler: gcc (Ubuntu 13.3.0-6ubuntu2~24.04) 13.3.0 Ubuntu 20.04 ARM SVE Kernel: Depends on container host Compiler: gcc (Ubuntu 10.5.0-1ubuntu1~20.04) 10.5.0 To view detailed results, visit: https://lab.dpdk.org/results/dashboard/patchsets/32657/ UNH-IOL DPDK Community Lab To manage your email subscriptions, visit: https://lab.dpdk.org/results/dashboard/preferences/subscriptions/