From mboxrd@z Thu Jan 1 00:00:00 1970 Return-Path: Received: from mails.dpdk.org (mails.dpdk.org [217.70.189.124]) by inbox.dpdk.org (Postfix) with ESMTP id 3CFE7462A0 for ; Sun, 23 Feb 2025 23:58:49 +0100 (CET) Received: from mails.dpdk.org (localhost [127.0.0.1]) by mails.dpdk.org (Postfix) with ESMTP id 339E1402DE; Sun, 23 Feb 2025 23:58:49 +0100 (CET) Received: from mail-pj1-f100.google.com (mail-pj1-f100.google.com [209.85.216.100]) by mails.dpdk.org (Postfix) with ESMTP id 4B020402DB for ; Sun, 23 Feb 2025 23:58:48 +0100 (CET) Received: by mail-pj1-f100.google.com with SMTP id 98e67ed59e1d1-2fbfe16cc39so7674187a91.3 for ; Sun, 23 Feb 2025 14:58:48 -0800 (PST) DKIM-Signature: v=1; a=rsa-sha256; c=relaxed/relaxed; d=iol.unh.edu; s=unh-iol; t=1740351527; x=1740956327; darn=dpdk.org; h=references:in-reply-to:cc:to:from:subject:message-id:date:from:to :cc:subject:date:message-id:reply-to; bh=Mo108yaJn52yCZJrfoj6l+kBIeI7trJ4EtT0vj8xcwI=; b=VHloLUaQryvCL6vp4SjsHXOrAb0d/GJJQefkH1x10FzwSjN3k9LELWPq+vPmxSp1hj caxNO2C56cb7ujd8m8qB0zuovDXrWkNW9M/RkA1VyU/Rfn352JiXXmgBLIN3+zzZguco fi3gVCwm1xMhX3o7pAwq/B4el2N2Z++bF8jaA= X-Google-DKIM-Signature: v=1; a=rsa-sha256; c=relaxed/relaxed; d=1e100.net; s=20230601; t=1740351527; x=1740956327; h=references:in-reply-to:cc:to:from:subject:message-id:date :x-gm-message-state:from:to:cc:subject:date:message-id:reply-to; bh=Mo108yaJn52yCZJrfoj6l+kBIeI7trJ4EtT0vj8xcwI=; b=BLGFD4atADX7quycljwNOVWa/3cVP7oURCV/fdcK8tu+K52AIScqvPfIx9b8ygFLLl rxSnJFx1Z93SqzZCg0YzjdAt3gotGOyTrebixeoRpzBLQAw8vtd9yh7wGC2aWAoQYn04 oiMsvHjxDUytP4CI0rKE+2xu8MoElrI8fHU4OiBG/SAz0ePp1LAkZXb8ishcEfZhLe0/ zk18KC3RSfGM055tgEsLNqMdfTy0vt2H0baMldIHKFenCUTKoHaCpZ1XJaolOM7MnpOh lwW8Nb+7lIcIhgwypE3UbOxk6uI+gqhMhiUuE3TpRu9fY4c+z3FLH4dcfWtjU/Ts/soA laBw== X-Gm-Message-State: AOJu0YwwGGSpI9KClsJ7i2sOBOeAn87brBuXU/F7FNf08wmMoi/PKiJk I1pZL8NUD74SqGb0nA7qmbw8e2f1MrFxYNr2iNo3vrLO/D6mNvVobYh2eKslxFkKmK0XQa34Xup iDNfikKqb0QeL1KWGr/nBi2SY0xruzulHH/KoEaug X-Gm-Gg: ASbGncs5iZTlt7WvRTwB0IV0OrjSK/1/AspzNrkbB7UJHAkXPDirxE6uJoP1uaNa+ao xPq0TxN+QRDtqLjEKek0DNnRKbwPYLsOpe7XslT3seBVr0RUYpKP79vvX9QqD4RXoibDe4OOY3a 2Hum8lc1uHiDLX0anchfAT9DuC3BHn12JXtwTjgxxUsdACjyp4tS9hAea3vhY3sdmDAD6sLG1E9 s32hybqDiM1jI0zZyBQZfiEtKaiN767wGAdWtVyIhm0FqxJABuOL/vm35SzPAmd/1CDmFAqB7UH QnM6rOr65aIpvQ2SyXRstkD+UXEXYTCVViaKnb0A X-Google-Smtp-Source: AGHT+IG9AtpaqUWyt5ts5Z7bRs3GdwzyyHIgCEu5peH2o66JLa08D8Fg1mZ0foDjNgDd29o/gifPrD3D7wof X-Received: by 2002:a17:90b:3807:b0:2ee:d63f:d71 with SMTP id 98e67ed59e1d1-2fce86ae672mr21975792a91.14.1740351527464; Sun, 23 Feb 2025 14:58:47 -0800 (PST) Received: from postal.iol.unh.edu (postal.iol.unh.edu. [132.177.123.84]) by smtp-relay.gmail.com with ESMTPS id d9443c01a7336-220d530a697sm10455375ad.51.2025.02.23.14.58.47 (version=TLS1_2 cipher=ECDHE-ECDSA-AES128-GCM-SHA256 bits=128/128); Sun, 23 Feb 2025 14:58:47 -0800 (PST) X-Relaying-Domain: iol.unh.edu Date: Sun, 23 Feb 2025 14:58:47 -0800 (PST) Message-ID: <67bba827.170a0220.dacd9.3aedSMTPIN_ADDED_MISSING@mx.google.com> Received: from [172.21.0.6] (unknown [172.18.0.240]) by postal.iol.unh.edu (Postfix) with ESMTP id 8DF6C6052471; Sun, 23 Feb 2025 17:58:46 -0500 (EST) Subject: |SUCCESS| pw151870 [PATCH] [v2,1/1] pcapng: warn if NULL is passed t From: dpdklab@iol.unh.edu To: Test Report Cc: dpdk-test-reports@iol.unh.edu In-Reply-To: <20250223214123.447579-2-ariel.otilibili@6wind.com> References: <20250223214123.447579-2-ariel.otilibili@6wind.com> Content-Type: text/plain X-BeenThere: test-report@dpdk.org X-Mailman-Version: 2.1.29 Precedence: list List-Id: automatic DPDK test reports List-Unsubscribe: , List-Archive: List-Post: List-Help: List-Subscribe: , Errors-To: test-report-bounces@dpdk.org Test-Label: iol-sample-apps-testing Test-Status: SUCCESS http://dpdk.org/patch/151870 _Testing PASS_ Submitter: Ariel Otilibili Date: Sunday, February 23 2025 21:41:23 DPDK git baseline: Repo:dpdk Branch: master CommitID:fab31a03ba98e7457284df95dd9eef2223a4ccaa 151870 --> testing pass Upstream job id: Template-DTS-Pipeline#213997 Test environment and result as below: +--------------------+----------------------+----------------------+ | Environment | dpdk_fips_validation | compressdev_zlib_pmd | +====================+======================+======================+ | Ubuntu 20.04 | PASS | SKIPPED | +--------------------+----------------------+----------------------+ | Ubuntu 22.04 (ARM) | SKIPPED | PASS | +--------------------+----------------------+----------------------+ | Ubuntu 22.04 | SKIPPED | PASS | +--------------------+----------------------+----------------------+ Ubuntu 20.04 Kernel: Depends on container host Compiler: gcc (Ubuntu 9.4.0-1ubuntu1~20.04.2) 9.4.0 Ubuntu 22.04 (ARM) Kernel: 5.15.0-97-generic Compiler: gcc gcc (Ubuntu 11.4.0-1ubuntu1~22.04) 11.4.0 Ubuntu 22.04 Kernel: 5.15.0-100-generic Compiler: gcc gcc (Ubuntu 11.4.0-1ubuntu1~22.04) 11.4.0 To view detailed results, visit: https://lab.dpdk.org/results/dashboard/patchsets/32657/ UNH-IOL DPDK Community Lab To manage your email subscriptions, visit: https://lab.dpdk.org/results/dashboard/preferences/subscriptions/